BEGIN:VCALENDAR
VERSION:2.0
PRODID:-//La Rue Suspendue - ECPv6.15.20//NONSGML v1.0//EN
CALSCALE:GREGORIAN
METHOD:PUBLISH
X-ORIGINAL-URL:https://laruesuspendue.fr
X-WR-CALDESC:Évènements pour La Rue Suspendue
REFRESH-INTERVAL;VALUE=DURATION:PT1H
X-Robots-Tag:noindex
X-PUBLISHED-TTL:PT1H
BEGIN:VTIMEZONE
TZID:Europe/Paris
BEGIN:DAYLIGHT
TZOFFSETFROM:+0100
TZOFFSETTO:+0200
TZNAME:CEST
DTSTART:20270328T010000
END:DAYLIGHT
BEGIN:STANDARD
TZOFFSETFROM:+0200
TZOFFSETTO:+0100
TZNAME:CET
DTSTART:20271031T010000
END:STANDARD
BEGIN:DAYLIGHT
TZOFFSETFROM:+0100
TZOFFSETTO:+0200
TZNAME:CEST
DTSTART:20280326T010000
END:DAYLIGHT
BEGIN:STANDARD
TZOFFSETFROM:+0200
TZOFFSETTO:+0100
TZNAME:CET
DTSTART:20281029T010000
END:STANDARD
BEGIN:DAYLIGHT
TZOFFSETFROM:+0100
TZOFFSETTO:+0200
TZNAME:CEST
DTSTART:20290325T010000
END:DAYLIGHT
BEGIN:STANDARD
TZOFFSETFROM:+0200
TZOFFSETTO:+0100
TZNAME:CET
DTSTART:20291028T010000
END:STANDARD
END:VTIMEZONE
BEGIN:VEVENT
DTSTART;TZID=Europe/Paris:20280510T163000
DTEND;TZID=Europe/Paris:20280510T180000
DTSTAMP:20260425T032417
CREATED:20250803T064450Z
LAST-MODIFIED:20260312T101828Z
UID:10001391-1841589000-1841594400@laruesuspendue.fr
SUMMARY:Ateliers de rue Rabastens "La Briqueterie"
DESCRIPTION:
URL:https://laruesuspendue.fr/calendrier-event/rabastens-la-briqueterie/2028-05-10/
CATEGORIES:Ateliers de rue
END:VEVENT
BEGIN:VEVENT
DTSTART;TZID=Europe/Paris:20280511T100000
DTEND;TZID=Europe/Paris:20280511T120000
DTSTAMP:20260425T032417
CREATED:20260312T094322Z
LAST-MODIFIED:20260312T094322Z
UID:10002880-1841652000-1841659200@laruesuspendue.fr
SUMMARY:Le jeudi des petits
DESCRIPTION:Matinée libre ouverte aux parents avec enfants !
URL:https://laruesuspendue.fr/calendrier-event/le-jeudi-des-petits/2028-05-11/
END:VEVENT
BEGIN:VEVENT
DTSTART;TZID=Europe/Paris:20280511T163000
DTEND;TZID=Europe/Paris:20280511T180000
DTSTAMP:20260425T032417
CREATED:20260312T102108Z
LAST-MODIFIED:20260312T102108Z
UID:10003924-1841675400-1841680800@laruesuspendue.fr
SUMMARY:Atelier de rue Giroussens "Parc de l'école"
DESCRIPTION:
URL:https://laruesuspendue.fr/calendrier-event/atelier-de-rue-giroussens-parc-de-lecole/2028-05-11/
CATEGORIES:Ateliers de rue
END:VEVENT
BEGIN:VEVENT
DTSTART;TZID=Europe/Paris:20280512T100000
DTEND;TZID=Europe/Paris:20280512T120000
DTSTAMP:20260425T032417
CREATED:20260312T095624Z
LAST-MODIFIED:20260312T095624Z
UID:10003665-1841738400-1841745600@laruesuspendue.fr
SUMMARY:Scrabble et échecs
DESCRIPTION:avec Cheikh
URL:https://laruesuspendue.fr/calendrier-event/scrabble-et-echecs/2028-05-12/
END:VEVENT
BEGIN:VEVENT
DTSTART;TZID=Europe/Paris:20280512T163000
DTEND;TZID=Europe/Paris:20280512T180000
DTSTAMP:20260425T032417
CREATED:20250803T064730Z
LAST-MODIFIED:20250803T064912Z
UID:10001919-1841761800-1841767200@laruesuspendue.fr
SUMMARY:Ateliers de rue Rabastens "Parc du collège"
DESCRIPTION:
URL:https://laruesuspendue.fr/calendrier-event/rabastens-parc-du-college/2028-05-12/
CATEGORIES:Ateliers de rue
END:VEVENT
BEGIN:VEVENT
DTSTART;TZID=Europe/Paris:20280514T140000
DTEND;TZID=Europe/Paris:20280514T170000
DTSTAMP:20260425T032417
CREATED:20250803T065514Z
LAST-MODIFIED:20250803T065929Z
UID:10002192-1841925600-1841936400@laruesuspendue.fr
SUMMARY:Atelier de bicycletterie
DESCRIPTION:
URL:https://laruesuspendue.fr/calendrier-event/atelier-de-bicycletterie-2/2028-05-14/
CATEGORIES:Atelier bicycletterie
END:VEVENT
BEGIN:VEVENT
DTSTART;TZID=Europe/Paris:20280516T140000
DTEND;TZID=Europe/Paris:20280516T153000
DTSTAMP:20260425T032417
CREATED:20260312T094935Z
LAST-MODIFIED:20260312T094935Z
UID:10003143-1842098400-1842103800@laruesuspendue.fr
SUMMARY:Cours de FLE
DESCRIPTION:
URL:https://laruesuspendue.fr/calendrier-event/cours-de-fle/2028-05-16/
END:VEVENT
BEGIN:VEVENT
DTSTART;TZID=Europe/Paris:20280516T163000
DTEND;TZID=Europe/Paris:20280516T180000
DTSTAMP:20260425T032417
CREATED:20260205T095619Z
LAST-MODIFIED:20260312T101235Z
UID:10002603-1842107400-1842112800@laruesuspendue.fr
SUMMARY:Ateliers de rue Rabastens "Parc Constance"
DESCRIPTION:
URL:https://laruesuspendue.fr/calendrier-event/ateliers-de-rue-rabastens-parc-constance/2028-05-16/
LOCATION:Parc Constance\, Rabastens\, 81800
CATEGORIES:Ateliers de rue
END:VEVENT
BEGIN:VEVENT
DTSTART;TZID=Europe/Paris:20280516T163000
DTEND;TZID=Europe/Paris:20280516T180000
DTSTAMP:20260425T032417
CREATED:20260312T102410Z
LAST-MODIFIED:20260312T102415Z
UID:10004184-1842107400-1842112800@laruesuspendue.fr
SUMMARY:Ateliers de rue Couffouleux "Aire de jeux"
DESCRIPTION:
URL:https://laruesuspendue.fr/calendrier-event/couffouleux-aire-de-jeux-2/2028-05-16/
CATEGORIES:Ateliers de rue
END:VEVENT
BEGIN:VEVENT
DTSTART;TZID=Europe/Paris:20280516T181500
DTEND;TZID=Europe/Paris:20280516T200000
DTSTAMP:20260425T032417
CREATED:20250731T140605Z
LAST-MODIFIED:20250731T140605Z
UID:10000472-1842113700-1842120000@laruesuspendue.fr
SUMMARY:Cours de Yoga
DESCRIPTION:Sur inscription au 06 07 89 66 88 \navec Viviane
URL:https://laruesuspendue.fr/calendrier-event/cours-de-yoga/2028-05-16/
CATEGORIES:Cours de Yoga
END:VEVENT
BEGIN:VEVENT
DTSTART;TZID=Europe/Paris:20280517T100000
DTEND;TZID=Europe/Paris:20280517T120000
DTSTAMP:20260425T032417
CREATED:20260312T095033Z
LAST-MODIFIED:20260312T095033Z
UID:10003404-1842170400-1842177600@laruesuspendue.fr
SUMMARY:Permanence accès aux droits
DESCRIPTION:
URL:https://laruesuspendue.fr/calendrier-event/permanence-acces-aux-droits/2028-05-17/
END:VEVENT
BEGIN:VEVENT
DTSTART;TZID=Europe/Paris:20280517T140000
DTEND;TZID=Europe/Paris:20280517T153000
DTSTAMP:20260425T032417
CREATED:20250803T064624Z
LAST-MODIFIED:20260312T101533Z
UID:10001658-1842184800-1842190200@laruesuspendue.fr
SUMMARY:Ateliers de rue Couffouleux "Les moussoulars"
DESCRIPTION:au city
URL:https://laruesuspendue.fr/calendrier-event/couffouleux-les-moussoulars/2028-05-17/
CATEGORIES:Ateliers de rue
END:VEVENT
BEGIN:VEVENT
DTSTART;TZID=Europe/Paris:20280517T163000
DTEND;TZID=Europe/Paris:20280517T180000
DTSTAMP:20260425T032417
CREATED:20250803T064450Z
LAST-MODIFIED:20260312T101828Z
UID:10001392-1842193800-1842199200@laruesuspendue.fr
SUMMARY:Ateliers de rue Rabastens "La Briqueterie"
DESCRIPTION:
URL:https://laruesuspendue.fr/calendrier-event/rabastens-la-briqueterie/2028-05-17/
CATEGORIES:Ateliers de rue
END:VEVENT
BEGIN:VEVENT
DTSTART;TZID=Europe/Paris:20280518T100000
DTEND;TZID=Europe/Paris:20280518T120000
DTSTAMP:20260425T032417
CREATED:20260312T094322Z
LAST-MODIFIED:20260312T094322Z
UID:10002881-1842256800-1842264000@laruesuspendue.fr
SUMMARY:Le jeudi des petits
DESCRIPTION:Matinée libre ouverte aux parents avec enfants !
URL:https://laruesuspendue.fr/calendrier-event/le-jeudi-des-petits/2028-05-18/
END:VEVENT
BEGIN:VEVENT
DTSTART;TZID=Europe/Paris:20280518T163000
DTEND;TZID=Europe/Paris:20280518T180000
DTSTAMP:20260425T032417
CREATED:20260312T102108Z
LAST-MODIFIED:20260312T102108Z
UID:10003925-1842280200-1842285600@laruesuspendue.fr
SUMMARY:Atelier de rue Giroussens "Parc de l'école"
DESCRIPTION:
URL:https://laruesuspendue.fr/calendrier-event/atelier-de-rue-giroussens-parc-de-lecole/2028-05-18/
CATEGORIES:Ateliers de rue
END:VEVENT
BEGIN:VEVENT
DTSTART;TZID=Europe/Paris:20280519T163000
DTEND;TZID=Europe/Paris:20280519T180000
DTSTAMP:20260425T032417
CREATED:20250803T064730Z
LAST-MODIFIED:20250803T064912Z
UID:10001920-1842366600-1842372000@laruesuspendue.fr
SUMMARY:Ateliers de rue Rabastens "Parc du collège"
DESCRIPTION:
URL:https://laruesuspendue.fr/calendrier-event/rabastens-parc-du-college/2028-05-19/
CATEGORIES:Ateliers de rue
END:VEVENT
BEGIN:VEVENT
DTSTART;TZID=Europe/Paris:20280523T140000
DTEND;TZID=Europe/Paris:20280523T153000
DTSTAMP:20260425T032417
CREATED:20260312T094935Z
LAST-MODIFIED:20260312T094935Z
UID:10003144-1842703200-1842708600@laruesuspendue.fr
SUMMARY:Cours de FLE
DESCRIPTION:
URL:https://laruesuspendue.fr/calendrier-event/cours-de-fle/2028-05-23/
END:VEVENT
BEGIN:VEVENT
DTSTART;TZID=Europe/Paris:20280523T163000
DTEND;TZID=Europe/Paris:20280523T180000
DTSTAMP:20260425T032417
CREATED:20260205T095619Z
LAST-MODIFIED:20260312T101235Z
UID:10002604-1842712200-1842717600@laruesuspendue.fr
SUMMARY:Ateliers de rue Rabastens "Parc Constance"
DESCRIPTION:
URL:https://laruesuspendue.fr/calendrier-event/ateliers-de-rue-rabastens-parc-constance/2028-05-23/
LOCATION:Parc Constance\, Rabastens\, 81800
CATEGORIES:Ateliers de rue
END:VEVENT
BEGIN:VEVENT
DTSTART;TZID=Europe/Paris:20280523T163000
DTEND;TZID=Europe/Paris:20280523T180000
DTSTAMP:20260425T032417
CREATED:20260312T102410Z
LAST-MODIFIED:20260312T102415Z
UID:10004185-1842712200-1842717600@laruesuspendue.fr
SUMMARY:Ateliers de rue Couffouleux "Aire de jeux"
DESCRIPTION:
URL:https://laruesuspendue.fr/calendrier-event/couffouleux-aire-de-jeux-2/2028-05-23/
CATEGORIES:Ateliers de rue
END:VEVENT
BEGIN:VEVENT
DTSTART;TZID=Europe/Paris:20280523T181500
DTEND;TZID=Europe/Paris:20280523T200000
DTSTAMP:20260425T032417
CREATED:20250731T140605Z
LAST-MODIFIED:20250731T140605Z
UID:10000473-1842718500-1842724800@laruesuspendue.fr
SUMMARY:Cours de Yoga
DESCRIPTION:Sur inscription au 06 07 89 66 88 \navec Viviane
URL:https://laruesuspendue.fr/calendrier-event/cours-de-yoga/2028-05-23/
CATEGORIES:Cours de Yoga
END:VEVENT
BEGIN:VEVENT
DTSTART;TZID=Europe/Paris:20280524T100000
DTEND;TZID=Europe/Paris:20280524T120000
DTSTAMP:20260425T032418
CREATED:20260312T095033Z
LAST-MODIFIED:20260312T095033Z
UID:10003405-1842775200-1842782400@laruesuspendue.fr
SUMMARY:Permanence accès aux droits
DESCRIPTION:
URL:https://laruesuspendue.fr/calendrier-event/permanence-acces-aux-droits/2028-05-24/
END:VEVENT
BEGIN:VEVENT
DTSTART;TZID=Europe/Paris:20280524T140000
DTEND;TZID=Europe/Paris:20280524T153000
DTSTAMP:20260425T032418
CREATED:20250803T064624Z
LAST-MODIFIED:20260312T101533Z
UID:10001659-1842789600-1842795000@laruesuspendue.fr
SUMMARY:Ateliers de rue Couffouleux "Les moussoulars"
DESCRIPTION:au city
URL:https://laruesuspendue.fr/calendrier-event/couffouleux-les-moussoulars/2028-05-24/
CATEGORIES:Ateliers de rue
END:VEVENT
BEGIN:VEVENT
DTSTART;TZID=Europe/Paris:20280524T163000
DTEND;TZID=Europe/Paris:20280524T180000
DTSTAMP:20260425T032418
CREATED:20250803T064450Z
LAST-MODIFIED:20260312T101828Z
UID:10001393-1842798600-1842804000@laruesuspendue.fr
SUMMARY:Ateliers de rue Rabastens "La Briqueterie"
DESCRIPTION:
URL:https://laruesuspendue.fr/calendrier-event/rabastens-la-briqueterie/2028-05-24/
CATEGORIES:Ateliers de rue
END:VEVENT
BEGIN:VEVENT
DTSTART;TZID=Europe/Paris:20280525T100000
DTEND;TZID=Europe/Paris:20280525T120000
DTSTAMP:20260425T032418
CREATED:20260312T094322Z
LAST-MODIFIED:20260312T094322Z
UID:10002882-1842861600-1842868800@laruesuspendue.fr
SUMMARY:Le jeudi des petits
DESCRIPTION:Matinée libre ouverte aux parents avec enfants !
URL:https://laruesuspendue.fr/calendrier-event/le-jeudi-des-petits/2028-05-25/
END:VEVENT
BEGIN:VEVENT
DTSTART;TZID=Europe/Paris:20280525T163000
DTEND;TZID=Europe/Paris:20280525T180000
DTSTAMP:20260425T032418
CREATED:20260312T102108Z
LAST-MODIFIED:20260312T102108Z
UID:10003926-1842885000-1842890400@laruesuspendue.fr
SUMMARY:Atelier de rue Giroussens "Parc de l'école"
DESCRIPTION:
URL:https://laruesuspendue.fr/calendrier-event/atelier-de-rue-giroussens-parc-de-lecole/2028-05-25/
CATEGORIES:Ateliers de rue
END:VEVENT
BEGIN:VEVENT
DTSTART;TZID=Europe/Paris:20280526T100000
DTEND;TZID=Europe/Paris:20280526T120000
DTSTAMP:20260425T032418
CREATED:20260312T095624Z
LAST-MODIFIED:20260312T095624Z
UID:10003666-1842948000-1842955200@laruesuspendue.fr
SUMMARY:Scrabble et échecs
DESCRIPTION:avec Cheikh
URL:https://laruesuspendue.fr/calendrier-event/scrabble-et-echecs/2028-05-26/
END:VEVENT
BEGIN:VEVENT
DTSTART;TZID=Europe/Paris:20280526T163000
DTEND;TZID=Europe/Paris:20280526T180000
DTSTAMP:20260425T032418
CREATED:20250803T064730Z
LAST-MODIFIED:20250803T064912Z
UID:10001921-1842971400-1842976800@laruesuspendue.fr
SUMMARY:Ateliers de rue Rabastens "Parc du collège"
DESCRIPTION:
URL:https://laruesuspendue.fr/calendrier-event/rabastens-parc-du-college/2028-05-26/
CATEGORIES:Ateliers de rue
END:VEVENT
BEGIN:VEVENT
DTSTART;TZID=Europe/Paris:20280530T140000
DTEND;TZID=Europe/Paris:20280530T153000
DTSTAMP:20260425T032418
CREATED:20260312T094935Z
LAST-MODIFIED:20260312T094935Z
UID:10003145-1843308000-1843313400@laruesuspendue.fr
SUMMARY:Cours de FLE
DESCRIPTION:
URL:https://laruesuspendue.fr/calendrier-event/cours-de-fle/2028-05-30/
END:VEVENT
BEGIN:VEVENT
DTSTART;TZID=Europe/Paris:20280530T163000
DTEND;TZID=Europe/Paris:20280530T180000
DTSTAMP:20260425T032418
CREATED:20260205T095619Z
LAST-MODIFIED:20260312T101235Z
UID:10002605-1843317000-1843322400@laruesuspendue.fr
SUMMARY:Ateliers de rue Rabastens "Parc Constance"
DESCRIPTION:
URL:https://laruesuspendue.fr/calendrier-event/ateliers-de-rue-rabastens-parc-constance/2028-05-30/
LOCATION:Parc Constance\, Rabastens\, 81800
CATEGORIES:Ateliers de rue
END:VEVENT
BEGIN:VEVENT
DTSTART;TZID=Europe/Paris:20280530T163000
DTEND;TZID=Europe/Paris:20280530T180000
DTSTAMP:20260425T032418
CREATED:20260312T102410Z
LAST-MODIFIED:20260312T102415Z
UID:10004186-1843317000-1843322400@laruesuspendue.fr
SUMMARY:Ateliers de rue Couffouleux "Aire de jeux"
DESCRIPTION:
URL:https://laruesuspendue.fr/calendrier-event/couffouleux-aire-de-jeux-2/2028-05-30/
CATEGORIES:Ateliers de rue
END:VEVENT
END:VCALENDAR