BEGIN:VCALENDAR
VERSION:2.0
PRODID:-//La Rue Suspendue - ECPv6.15.20//NONSGML v1.0//EN
CALSCALE:GREGORIAN
METHOD:PUBLISH
X-ORIGINAL-URL:https://laruesuspendue.fr
X-WR-CALDESC:Évènements pour La Rue Suspendue
REFRESH-INTERVAL;VALUE=DURATION:PT1H
X-Robots-Tag:noindex
X-PUBLISHED-TTL:PT1H
BEGIN:VTIMEZONE
TZID:Europe/Paris
BEGIN:DAYLIGHT
TZOFFSETFROM:+0100
TZOFFSETTO:+0200
TZNAME:CEST
DTSTART:20260329T010000
END:DAYLIGHT
BEGIN:STANDARD
TZOFFSETFROM:+0200
TZOFFSETTO:+0100
TZNAME:CET
DTSTART:20261025T010000
END:STANDARD
BEGIN:DAYLIGHT
TZOFFSETFROM:+0100
TZOFFSETTO:+0200
TZNAME:CEST
DTSTART:20270328T010000
END:DAYLIGHT
BEGIN:STANDARD
TZOFFSETFROM:+0200
TZOFFSETTO:+0100
TZNAME:CET
DTSTART:20271031T010000
END:STANDARD
BEGIN:DAYLIGHT
TZOFFSETFROM:+0100
TZOFFSETTO:+0200
TZNAME:CEST
DTSTART:20280326T010000
END:DAYLIGHT
BEGIN:STANDARD
TZOFFSETFROM:+0200
TZOFFSETTO:+0100
TZNAME:CET
DTSTART:20281029T010000
END:STANDARD
END:VTIMEZONE
BEGIN:VEVENT
DTSTART;TZID=Europe/Paris:20270727T163000
DTEND;TZID=Europe/Paris:20270727T180000
DTSTAMP:20260423T002153
CREATED:20260312T102410Z
LAST-MODIFIED:20260312T102415Z
UID:10004142-1816705800-1816711200@laruesuspendue.fr
SUMMARY:Ateliers de rue Couffouleux "Aire de jeux"
DESCRIPTION:
URL:https://laruesuspendue.fr/calendrier-event/couffouleux-aire-de-jeux-2/2027-07-27/
CATEGORIES:Ateliers de rue
END:VEVENT
BEGIN:VEVENT
DTSTART;TZID=Europe/Paris:20270727T181500
DTEND;TZID=Europe/Paris:20270727T200000
DTSTAMP:20260423T002153
CREATED:20250731T140605Z
LAST-MODIFIED:20250731T140605Z
UID:10000430-1816712100-1816718400@laruesuspendue.fr
SUMMARY:Cours de Yoga
DESCRIPTION:Sur inscription au 06 07 89 66 88 \navec Viviane
URL:https://laruesuspendue.fr/calendrier-event/cours-de-yoga/2027-07-27/
CATEGORIES:Cours de Yoga
END:VEVENT
BEGIN:VEVENT
DTSTART;TZID=Europe/Paris:20270728T100000
DTEND;TZID=Europe/Paris:20270728T120000
DTSTAMP:20260423T002153
CREATED:20260312T095033Z
LAST-MODIFIED:20260312T095033Z
UID:10003362-1816768800-1816776000@laruesuspendue.fr
SUMMARY:Permanence accès aux droits
DESCRIPTION:
URL:https://laruesuspendue.fr/calendrier-event/permanence-acces-aux-droits/2027-07-28/
END:VEVENT
BEGIN:VEVENT
DTSTART;TZID=Europe/Paris:20270728T140000
DTEND;TZID=Europe/Paris:20270728T153000
DTSTAMP:20260423T002153
CREATED:20250803T064624Z
LAST-MODIFIED:20260312T101533Z
UID:10001616-1816783200-1816788600@laruesuspendue.fr
SUMMARY:Ateliers de rue Couffouleux "Les moussoulars"
DESCRIPTION:au city
URL:https://laruesuspendue.fr/calendrier-event/couffouleux-les-moussoulars/2027-07-28/
CATEGORIES:Ateliers de rue
END:VEVENT
BEGIN:VEVENT
DTSTART;TZID=Europe/Paris:20270728T163000
DTEND;TZID=Europe/Paris:20270728T180000
DTSTAMP:20260423T002153
CREATED:20250803T064450Z
LAST-MODIFIED:20260312T101828Z
UID:10001350-1816792200-1816797600@laruesuspendue.fr
SUMMARY:Ateliers de rue Rabastens "La Briqueterie"
DESCRIPTION:
URL:https://laruesuspendue.fr/calendrier-event/rabastens-la-briqueterie/2027-07-28/
CATEGORIES:Ateliers de rue
END:VEVENT
BEGIN:VEVENT
DTSTART;TZID=Europe/Paris:20270729T100000
DTEND;TZID=Europe/Paris:20270729T120000
DTSTAMP:20260423T002153
CREATED:20260312T094322Z
LAST-MODIFIED:20260312T094322Z
UID:10002839-1816855200-1816862400@laruesuspendue.fr
SUMMARY:Le jeudi des petits
DESCRIPTION:Matinée libre ouverte aux parents avec enfants !
URL:https://laruesuspendue.fr/calendrier-event/le-jeudi-des-petits/2027-07-29/
END:VEVENT
BEGIN:VEVENT
DTSTART;TZID=Europe/Paris:20270729T163000
DTEND;TZID=Europe/Paris:20270729T180000
DTSTAMP:20260423T002153
CREATED:20260312T102108Z
LAST-MODIFIED:20260312T102108Z
UID:10003883-1816878600-1816884000@laruesuspendue.fr
SUMMARY:Atelier de rue Giroussens "Parc de l'école"
DESCRIPTION:
URL:https://laruesuspendue.fr/calendrier-event/atelier-de-rue-giroussens-parc-de-lecole/2027-07-29/
CATEGORIES:Ateliers de rue
END:VEVENT
BEGIN:VEVENT
DTSTART;TZID=Europe/Paris:20270730T163000
DTEND;TZID=Europe/Paris:20270730T180000
DTSTAMP:20260423T002153
CREATED:20250803T064730Z
LAST-MODIFIED:20250803T064912Z
UID:10001878-1816965000-1816970400@laruesuspendue.fr
SUMMARY:Ateliers de rue Rabastens "Parc du collège"
DESCRIPTION:
URL:https://laruesuspendue.fr/calendrier-event/rabastens-parc-du-college/2027-07-30/
CATEGORIES:Ateliers de rue
END:VEVENT
BEGIN:VEVENT
DTSTART;TZID=Europe/Paris:20270803T140000
DTEND;TZID=Europe/Paris:20270803T153000
DTSTAMP:20260423T002153
CREATED:20260312T094935Z
LAST-MODIFIED:20260312T094935Z
UID:10003102-1817301600-1817307000@laruesuspendue.fr
SUMMARY:Cours de FLE
DESCRIPTION:
URL:https://laruesuspendue.fr/calendrier-event/cours-de-fle/2027-08-03/
END:VEVENT
BEGIN:VEVENT
DTSTART;TZID=Europe/Paris:20270803T163000
DTEND;TZID=Europe/Paris:20270803T180000
DTSTAMP:20260423T002153
CREATED:20260205T095619Z
LAST-MODIFIED:20260312T101235Z
UID:10002562-1817310600-1817316000@laruesuspendue.fr
SUMMARY:Ateliers de rue Rabastens "Parc Constance"
DESCRIPTION:
URL:https://laruesuspendue.fr/calendrier-event/ateliers-de-rue-rabastens-parc-constance/2027-08-03/
LOCATION:Parc Constance\, Rabastens\, 81800
CATEGORIES:Ateliers de rue
END:VEVENT
BEGIN:VEVENT
DTSTART;TZID=Europe/Paris:20270803T163000
DTEND;TZID=Europe/Paris:20270803T180000
DTSTAMP:20260423T002153
CREATED:20260312T102410Z
LAST-MODIFIED:20260312T102415Z
UID:10004143-1817310600-1817316000@laruesuspendue.fr
SUMMARY:Ateliers de rue Couffouleux "Aire de jeux"
DESCRIPTION:
URL:https://laruesuspendue.fr/calendrier-event/couffouleux-aire-de-jeux-2/2027-08-03/
CATEGORIES:Ateliers de rue
END:VEVENT
BEGIN:VEVENT
DTSTART;TZID=Europe/Paris:20270803T181500
DTEND;TZID=Europe/Paris:20270803T200000
DTSTAMP:20260423T002153
CREATED:20250731T140605Z
LAST-MODIFIED:20250731T140605Z
UID:10000431-1817316900-1817323200@laruesuspendue.fr
SUMMARY:Cours de Yoga
DESCRIPTION:Sur inscription au 06 07 89 66 88 \navec Viviane
URL:https://laruesuspendue.fr/calendrier-event/cours-de-yoga/2027-08-03/
CATEGORIES:Cours de Yoga
END:VEVENT
BEGIN:VEVENT
DTSTART;TZID=Europe/Paris:20270804T090000
DTEND;TZID=Europe/Paris:20270804T123000
DTSTAMP:20260423T002153
CREATED:20250801T154507Z
LAST-MODIFIED:20250801T154906Z
UID:10000678-1817370000-1817382600@laruesuspendue.fr
SUMMARY:Permanence mission locale
DESCRIPTION:Tous les 1er mercredi du mois
URL:https://laruesuspendue.fr/calendrier-event/permanence-mission-locale-2/2027-08-04/
CATEGORIES:Permanence mission locale
END:VEVENT
BEGIN:VEVENT
DTSTART;TZID=Europe/Paris:20270804T100000
DTEND;TZID=Europe/Paris:20270804T120000
DTSTAMP:20260423T002153
CREATED:20260312T095033Z
LAST-MODIFIED:20260312T095033Z
UID:10003363-1817373600-1817380800@laruesuspendue.fr
SUMMARY:Permanence accès aux droits
DESCRIPTION:
URL:https://laruesuspendue.fr/calendrier-event/permanence-acces-aux-droits/2027-08-04/
END:VEVENT
BEGIN:VEVENT
DTSTART;TZID=Europe/Paris:20270804T140000
DTEND;TZID=Europe/Paris:20270804T153000
DTSTAMP:20260423T002153
CREATED:20250803T064624Z
LAST-MODIFIED:20260312T101533Z
UID:10001617-1817388000-1817393400@laruesuspendue.fr
SUMMARY:Ateliers de rue Couffouleux "Les moussoulars"
DESCRIPTION:au city
URL:https://laruesuspendue.fr/calendrier-event/couffouleux-les-moussoulars/2027-08-04/
CATEGORIES:Ateliers de rue
END:VEVENT
BEGIN:VEVENT
DTSTART;TZID=Europe/Paris:20270804T163000
DTEND;TZID=Europe/Paris:20270804T180000
DTSTAMP:20260423T002153
CREATED:20250803T064450Z
LAST-MODIFIED:20260312T101828Z
UID:10001351-1817397000-1817402400@laruesuspendue.fr
SUMMARY:Ateliers de rue Rabastens "La Briqueterie"
DESCRIPTION:
URL:https://laruesuspendue.fr/calendrier-event/rabastens-la-briqueterie/2027-08-04/
CATEGORIES:Ateliers de rue
END:VEVENT
BEGIN:VEVENT
DTSTART;TZID=Europe/Paris:20270805T100000
DTEND;TZID=Europe/Paris:20270805T120000
DTSTAMP:20260423T002153
CREATED:20260312T094322Z
LAST-MODIFIED:20260312T094322Z
UID:10002840-1817460000-1817467200@laruesuspendue.fr
SUMMARY:Le jeudi des petits
DESCRIPTION:Matinée libre ouverte aux parents avec enfants !
URL:https://laruesuspendue.fr/calendrier-event/le-jeudi-des-petits/2027-08-05/
END:VEVENT
BEGIN:VEVENT
DTSTART;TZID=Europe/Paris:20270805T163000
DTEND;TZID=Europe/Paris:20270805T180000
DTSTAMP:20260423T002153
CREATED:20260312T102108Z
LAST-MODIFIED:20260312T102108Z
UID:10003884-1817483400-1817488800@laruesuspendue.fr
SUMMARY:Atelier de rue Giroussens "Parc de l'école"
DESCRIPTION:
URL:https://laruesuspendue.fr/calendrier-event/atelier-de-rue-giroussens-parc-de-lecole/2027-08-05/
CATEGORIES:Ateliers de rue
END:VEVENT
BEGIN:VEVENT
DTSTART;TZID=Europe/Paris:20270806T100000
DTEND;TZID=Europe/Paris:20270806T120000
DTSTAMP:20260423T002153
CREATED:20260312T095624Z
LAST-MODIFIED:20260312T095624Z
UID:10003645-1817546400-1817553600@laruesuspendue.fr
SUMMARY:Scrabble et échecs
DESCRIPTION:avec Cheikh
URL:https://laruesuspendue.fr/calendrier-event/scrabble-et-echecs/2027-08-06/
END:VEVENT
BEGIN:VEVENT
DTSTART;TZID=Europe/Paris:20270806T163000
DTEND;TZID=Europe/Paris:20270806T180000
DTSTAMP:20260423T002153
CREATED:20250803T064730Z
LAST-MODIFIED:20250803T064912Z
UID:10001879-1817569800-1817575200@laruesuspendue.fr
SUMMARY:Ateliers de rue Rabastens "Parc du collège"
DESCRIPTION:
URL:https://laruesuspendue.fr/calendrier-event/rabastens-parc-du-college/2027-08-06/
CATEGORIES:Ateliers de rue
END:VEVENT
BEGIN:VEVENT
DTSTART;TZID=Europe/Paris:20270808T140000
DTEND;TZID=Europe/Paris:20270808T170000
DTSTAMP:20260423T002153
CREATED:20250803T065514Z
LAST-MODIFIED:20250803T065929Z
UID:10002183-1817733600-1817744400@laruesuspendue.fr
SUMMARY:Atelier de bicycletterie
DESCRIPTION:
URL:https://laruesuspendue.fr/calendrier-event/atelier-de-bicycletterie-2/2027-08-08/
CATEGORIES:Atelier bicycletterie
END:VEVENT
BEGIN:VEVENT
DTSTART;TZID=Europe/Paris:20270810T140000
DTEND;TZID=Europe/Paris:20270810T153000
DTSTAMP:20260423T002153
CREATED:20260312T094935Z
LAST-MODIFIED:20260312T094935Z
UID:10003103-1817906400-1817911800@laruesuspendue.fr
SUMMARY:Cours de FLE
DESCRIPTION:
URL:https://laruesuspendue.fr/calendrier-event/cours-de-fle/2027-08-10/
END:VEVENT
BEGIN:VEVENT
DTSTART;TZID=Europe/Paris:20270810T163000
DTEND;TZID=Europe/Paris:20270810T180000
DTSTAMP:20260423T002153
CREATED:20260205T095619Z
LAST-MODIFIED:20260312T101235Z
UID:10002563-1817915400-1817920800@laruesuspendue.fr
SUMMARY:Ateliers de rue Rabastens "Parc Constance"
DESCRIPTION:
URL:https://laruesuspendue.fr/calendrier-event/ateliers-de-rue-rabastens-parc-constance/2027-08-10/
LOCATION:Parc Constance\, Rabastens\, 81800
CATEGORIES:Ateliers de rue
END:VEVENT
BEGIN:VEVENT
DTSTART;TZID=Europe/Paris:20270810T163000
DTEND;TZID=Europe/Paris:20270810T180000
DTSTAMP:20260423T002153
CREATED:20260312T102410Z
LAST-MODIFIED:20260312T102415Z
UID:10004144-1817915400-1817920800@laruesuspendue.fr
SUMMARY:Ateliers de rue Couffouleux "Aire de jeux"
DESCRIPTION:
URL:https://laruesuspendue.fr/calendrier-event/couffouleux-aire-de-jeux-2/2027-08-10/
CATEGORIES:Ateliers de rue
END:VEVENT
BEGIN:VEVENT
DTSTART;TZID=Europe/Paris:20270810T181500
DTEND;TZID=Europe/Paris:20270810T200000
DTSTAMP:20260423T002153
CREATED:20250731T140605Z
LAST-MODIFIED:20250731T140605Z
UID:10000432-1817921700-1817928000@laruesuspendue.fr
SUMMARY:Cours de Yoga
DESCRIPTION:Sur inscription au 06 07 89 66 88 \navec Viviane
URL:https://laruesuspendue.fr/calendrier-event/cours-de-yoga/2027-08-10/
CATEGORIES:Cours de Yoga
END:VEVENT
BEGIN:VEVENT
DTSTART;TZID=Europe/Paris:20270811T100000
DTEND;TZID=Europe/Paris:20270811T120000
DTSTAMP:20260423T002153
CREATED:20260312T095033Z
LAST-MODIFIED:20260312T095033Z
UID:10003364-1817978400-1817985600@laruesuspendue.fr
SUMMARY:Permanence accès aux droits
DESCRIPTION:
URL:https://laruesuspendue.fr/calendrier-event/permanence-acces-aux-droits/2027-08-11/
END:VEVENT
BEGIN:VEVENT
DTSTART;TZID=Europe/Paris:20270811T140000
DTEND;TZID=Europe/Paris:20270811T153000
DTSTAMP:20260423T002153
CREATED:20250803T064624Z
LAST-MODIFIED:20260312T101533Z
UID:10001618-1817992800-1817998200@laruesuspendue.fr
SUMMARY:Ateliers de rue Couffouleux "Les moussoulars"
DESCRIPTION:au city
URL:https://laruesuspendue.fr/calendrier-event/couffouleux-les-moussoulars/2027-08-11/
CATEGORIES:Ateliers de rue
END:VEVENT
BEGIN:VEVENT
DTSTART;TZID=Europe/Paris:20270811T163000
DTEND;TZID=Europe/Paris:20270811T180000
DTSTAMP:20260423T002153
CREATED:20250803T064450Z
LAST-MODIFIED:20260312T101828Z
UID:10001352-1818001800-1818007200@laruesuspendue.fr
SUMMARY:Ateliers de rue Rabastens "La Briqueterie"
DESCRIPTION:
URL:https://laruesuspendue.fr/calendrier-event/rabastens-la-briqueterie/2027-08-11/
CATEGORIES:Ateliers de rue
END:VEVENT
BEGIN:VEVENT
DTSTART;TZID=Europe/Paris:20270812T100000
DTEND;TZID=Europe/Paris:20270812T120000
DTSTAMP:20260423T002153
CREATED:20260312T094322Z
LAST-MODIFIED:20260312T094322Z
UID:10002841-1818064800-1818072000@laruesuspendue.fr
SUMMARY:Le jeudi des petits
DESCRIPTION:Matinée libre ouverte aux parents avec enfants !
URL:https://laruesuspendue.fr/calendrier-event/le-jeudi-des-petits/2027-08-12/
END:VEVENT
BEGIN:VEVENT
DTSTART;TZID=Europe/Paris:20270812T163000
DTEND;TZID=Europe/Paris:20270812T180000
DTSTAMP:20260423T002153
CREATED:20260312T102108Z
LAST-MODIFIED:20260312T102108Z
UID:10003885-1818088200-1818093600@laruesuspendue.fr
SUMMARY:Atelier de rue Giroussens "Parc de l'école"
DESCRIPTION:
URL:https://laruesuspendue.fr/calendrier-event/atelier-de-rue-giroussens-parc-de-lecole/2027-08-12/
CATEGORIES:Ateliers de rue
END:VEVENT
END:VCALENDAR