BEGIN:VCALENDAR
VERSION:2.0
PRODID:-//La Rue Suspendue - ECPv6.15.20//NONSGML v1.0//EN
CALSCALE:GREGORIAN
METHOD:PUBLISH
X-ORIGINAL-URL:https://laruesuspendue.fr
X-WR-CALDESC:Évènements pour La Rue Suspendue
REFRESH-INTERVAL;VALUE=DURATION:PT1H
X-Robots-Tag:noindex
X-PUBLISHED-TTL:PT1H
BEGIN:VTIMEZONE
TZID:Europe/Paris
BEGIN:DAYLIGHT
TZOFFSETFROM:+0100
TZOFFSETTO:+0200
TZNAME:CEST
DTSTART:20270328T010000
END:DAYLIGHT
BEGIN:STANDARD
TZOFFSETFROM:+0200
TZOFFSETTO:+0100
TZNAME:CET
DTSTART:20271031T010000
END:STANDARD
BEGIN:DAYLIGHT
TZOFFSETFROM:+0100
TZOFFSETTO:+0200
TZNAME:CEST
DTSTART:20280326T010000
END:DAYLIGHT
BEGIN:STANDARD
TZOFFSETFROM:+0200
TZOFFSETTO:+0100
TZNAME:CET
DTSTART:20281029T010000
END:STANDARD
BEGIN:DAYLIGHT
TZOFFSETFROM:+0100
TZOFFSETTO:+0200
TZNAME:CEST
DTSTART:20290325T010000
END:DAYLIGHT
BEGIN:STANDARD
TZOFFSETFROM:+0200
TZOFFSETTO:+0100
TZNAME:CET
DTSTART:20291028T010000
END:STANDARD
END:VTIMEZONE
BEGIN:VEVENT
DTSTART;TZID=Europe/Paris:20280912T181500
DTEND;TZID=Europe/Paris:20280912T200000
DTSTAMP:20260426T004642
CREATED:20250731T140605Z
LAST-MODIFIED:20250731T140605Z
UID:10000489-1852395300-1852401600@laruesuspendue.fr
SUMMARY:Cours de Yoga
DESCRIPTION:Sur inscription au 06 07 89 66 88 \navec Viviane
URL:https://laruesuspendue.fr/calendrier-event/cours-de-yoga/2028-09-12/
CATEGORIES:Cours de Yoga
END:VEVENT
BEGIN:VEVENT
DTSTART;TZID=Europe/Paris:20280913T100000
DTEND;TZID=Europe/Paris:20280913T120000
DTSTAMP:20260426T004642
CREATED:20260312T095033Z
LAST-MODIFIED:20260312T095033Z
UID:10003421-1852452000-1852459200@laruesuspendue.fr
SUMMARY:Permanence accès aux droits
DESCRIPTION:
URL:https://laruesuspendue.fr/calendrier-event/permanence-acces-aux-droits/2028-09-13/
END:VEVENT
BEGIN:VEVENT
DTSTART;TZID=Europe/Paris:20280913T140000
DTEND;TZID=Europe/Paris:20280913T153000
DTSTAMP:20260426T004642
CREATED:20250803T064624Z
LAST-MODIFIED:20260312T101533Z
UID:10001675-1852466400-1852471800@laruesuspendue.fr
SUMMARY:Ateliers de rue Couffouleux "Les moussoulars"
DESCRIPTION:au city
URL:https://laruesuspendue.fr/calendrier-event/couffouleux-les-moussoulars/2028-09-13/
CATEGORIES:Ateliers de rue
END:VEVENT
BEGIN:VEVENT
DTSTART;TZID=Europe/Paris:20280913T163000
DTEND;TZID=Europe/Paris:20280913T180000
DTSTAMP:20260426T004642
CREATED:20250803T064450Z
LAST-MODIFIED:20260312T101828Z
UID:10001409-1852475400-1852480800@laruesuspendue.fr
SUMMARY:Ateliers de rue Rabastens "La Briqueterie"
DESCRIPTION:
URL:https://laruesuspendue.fr/calendrier-event/rabastens-la-briqueterie/2028-09-13/
CATEGORIES:Ateliers de rue
END:VEVENT
BEGIN:VEVENT
DTSTART;TZID=Europe/Paris:20280914T100000
DTEND;TZID=Europe/Paris:20280914T120000
DTSTAMP:20260426T004642
CREATED:20260312T094322Z
LAST-MODIFIED:20260312T094322Z
UID:10002898-1852538400-1852545600@laruesuspendue.fr
SUMMARY:Le jeudi des petits
DESCRIPTION:Matinée libre ouverte aux parents avec enfants !
URL:https://laruesuspendue.fr/calendrier-event/le-jeudi-des-petits/2028-09-14/
END:VEVENT
BEGIN:VEVENT
DTSTART;TZID=Europe/Paris:20280914T163000
DTEND;TZID=Europe/Paris:20280914T180000
DTSTAMP:20260426T004642
CREATED:20260312T102108Z
LAST-MODIFIED:20260312T102108Z
UID:10003942-1852561800-1852567200@laruesuspendue.fr
SUMMARY:Atelier de rue Giroussens "Parc de l'école"
DESCRIPTION:
URL:https://laruesuspendue.fr/calendrier-event/atelier-de-rue-giroussens-parc-de-lecole/2028-09-14/
CATEGORIES:Ateliers de rue
END:VEVENT
BEGIN:VEVENT
DTSTART;TZID=Europe/Paris:20280915T100000
DTEND;TZID=Europe/Paris:20280915T120000
DTSTAMP:20260426T004642
CREATED:20260312T095624Z
LAST-MODIFIED:20260312T095624Z
UID:10003674-1852624800-1852632000@laruesuspendue.fr
SUMMARY:Scrabble et échecs
DESCRIPTION:avec Cheikh
URL:https://laruesuspendue.fr/calendrier-event/scrabble-et-echecs/2028-09-15/
END:VEVENT
BEGIN:VEVENT
DTSTART;TZID=Europe/Paris:20280915T163000
DTEND;TZID=Europe/Paris:20280915T180000
DTSTAMP:20260426T004642
CREATED:20250803T064730Z
LAST-MODIFIED:20250803T064912Z
UID:10001937-1852648200-1852653600@laruesuspendue.fr
SUMMARY:Ateliers de rue Rabastens "Parc du collège"
DESCRIPTION:
URL:https://laruesuspendue.fr/calendrier-event/rabastens-parc-du-college/2028-09-15/
CATEGORIES:Ateliers de rue
END:VEVENT
BEGIN:VEVENT
DTSTART;TZID=Europe/Paris:20280919T140000
DTEND;TZID=Europe/Paris:20280919T153000
DTSTAMP:20260426T004642
CREATED:20260312T094935Z
LAST-MODIFIED:20260312T094935Z
UID:10003161-1852984800-1852990200@laruesuspendue.fr
SUMMARY:Cours de FLE
DESCRIPTION:
URL:https://laruesuspendue.fr/calendrier-event/cours-de-fle/2028-09-19/
END:VEVENT
BEGIN:VEVENT
DTSTART;TZID=Europe/Paris:20280919T163000
DTEND;TZID=Europe/Paris:20280919T180000
DTSTAMP:20260426T004642
CREATED:20260205T095619Z
LAST-MODIFIED:20260312T101235Z
UID:10002621-1852993800-1852999200@laruesuspendue.fr
SUMMARY:Ateliers de rue Rabastens "Parc Constance"
DESCRIPTION:
URL:https://laruesuspendue.fr/calendrier-event/ateliers-de-rue-rabastens-parc-constance/2028-09-19/
LOCATION:Parc Constance\, Rabastens\, 81800
CATEGORIES:Ateliers de rue
END:VEVENT
BEGIN:VEVENT
DTSTART;TZID=Europe/Paris:20280919T163000
DTEND;TZID=Europe/Paris:20280919T180000
DTSTAMP:20260426T004642
CREATED:20260312T102410Z
LAST-MODIFIED:20260312T102415Z
UID:10004202-1852993800-1852999200@laruesuspendue.fr
SUMMARY:Ateliers de rue Couffouleux "Aire de jeux"
DESCRIPTION:
URL:https://laruesuspendue.fr/calendrier-event/couffouleux-aire-de-jeux-2/2028-09-19/
CATEGORIES:Ateliers de rue
END:VEVENT
BEGIN:VEVENT
DTSTART;TZID=Europe/Paris:20280919T181500
DTEND;TZID=Europe/Paris:20280919T200000
DTSTAMP:20260426T004642
CREATED:20250731T140605Z
LAST-MODIFIED:20250731T140605Z
UID:10000490-1853000100-1853006400@laruesuspendue.fr
SUMMARY:Cours de Yoga
DESCRIPTION:Sur inscription au 06 07 89 66 88 \navec Viviane
URL:https://laruesuspendue.fr/calendrier-event/cours-de-yoga/2028-09-19/
CATEGORIES:Cours de Yoga
END:VEVENT
BEGIN:VEVENT
DTSTART;TZID=Europe/Paris:20280920T100000
DTEND;TZID=Europe/Paris:20280920T120000
DTSTAMP:20260426T004642
CREATED:20260312T095033Z
LAST-MODIFIED:20260312T095033Z
UID:10003422-1853056800-1853064000@laruesuspendue.fr
SUMMARY:Permanence accès aux droits
DESCRIPTION:
URL:https://laruesuspendue.fr/calendrier-event/permanence-acces-aux-droits/2028-09-20/
END:VEVENT
BEGIN:VEVENT
DTSTART;TZID=Europe/Paris:20280920T140000
DTEND;TZID=Europe/Paris:20280920T153000
DTSTAMP:20260426T004642
CREATED:20250803T064624Z
LAST-MODIFIED:20260312T101533Z
UID:10001676-1853071200-1853076600@laruesuspendue.fr
SUMMARY:Ateliers de rue Couffouleux "Les moussoulars"
DESCRIPTION:au city
URL:https://laruesuspendue.fr/calendrier-event/couffouleux-les-moussoulars/2028-09-20/
CATEGORIES:Ateliers de rue
END:VEVENT
BEGIN:VEVENT
DTSTART;TZID=Europe/Paris:20280920T163000
DTEND;TZID=Europe/Paris:20280920T180000
DTSTAMP:20260426T004642
CREATED:20250803T064450Z
LAST-MODIFIED:20260312T101828Z
UID:10001410-1853080200-1853085600@laruesuspendue.fr
SUMMARY:Ateliers de rue Rabastens "La Briqueterie"
DESCRIPTION:
URL:https://laruesuspendue.fr/calendrier-event/rabastens-la-briqueterie/2028-09-20/
CATEGORIES:Ateliers de rue
END:VEVENT
BEGIN:VEVENT
DTSTART;TZID=Europe/Paris:20280921T100000
DTEND;TZID=Europe/Paris:20280921T120000
DTSTAMP:20260426T004642
CREATED:20260312T094322Z
LAST-MODIFIED:20260312T094322Z
UID:10002899-1853143200-1853150400@laruesuspendue.fr
SUMMARY:Le jeudi des petits
DESCRIPTION:Matinée libre ouverte aux parents avec enfants !
URL:https://laruesuspendue.fr/calendrier-event/le-jeudi-des-petits/2028-09-21/
END:VEVENT
BEGIN:VEVENT
DTSTART;TZID=Europe/Paris:20280921T163000
DTEND;TZID=Europe/Paris:20280921T180000
DTSTAMP:20260426T004642
CREATED:20260312T102108Z
LAST-MODIFIED:20260312T102108Z
UID:10003943-1853166600-1853172000@laruesuspendue.fr
SUMMARY:Atelier de rue Giroussens "Parc de l'école"
DESCRIPTION:
URL:https://laruesuspendue.fr/calendrier-event/atelier-de-rue-giroussens-parc-de-lecole/2028-09-21/
CATEGORIES:Ateliers de rue
END:VEVENT
BEGIN:VEVENT
DTSTART;TZID=Europe/Paris:20280922T163000
DTEND;TZID=Europe/Paris:20280922T180000
DTSTAMP:20260426T004642
CREATED:20250803T064730Z
LAST-MODIFIED:20250803T064912Z
UID:10001938-1853253000-1853258400@laruesuspendue.fr
SUMMARY:Ateliers de rue Rabastens "Parc du collège"
DESCRIPTION:
URL:https://laruesuspendue.fr/calendrier-event/rabastens-parc-du-college/2028-09-22/
CATEGORIES:Ateliers de rue
END:VEVENT
BEGIN:VEVENT
DTSTART;TZID=Europe/Paris:20280926T140000
DTEND;TZID=Europe/Paris:20280926T153000
DTSTAMP:20260426T004642
CREATED:20260312T094935Z
LAST-MODIFIED:20260312T094935Z
UID:10003162-1853589600-1853595000@laruesuspendue.fr
SUMMARY:Cours de FLE
DESCRIPTION:
URL:https://laruesuspendue.fr/calendrier-event/cours-de-fle/2028-09-26/
END:VEVENT
BEGIN:VEVENT
DTSTART;TZID=Europe/Paris:20280926T163000
DTEND;TZID=Europe/Paris:20280926T180000
DTSTAMP:20260426T004642
CREATED:20260205T095619Z
LAST-MODIFIED:20260312T101235Z
UID:10002622-1853598600-1853604000@laruesuspendue.fr
SUMMARY:Ateliers de rue Rabastens "Parc Constance"
DESCRIPTION:
URL:https://laruesuspendue.fr/calendrier-event/ateliers-de-rue-rabastens-parc-constance/2028-09-26/
LOCATION:Parc Constance\, Rabastens\, 81800
CATEGORIES:Ateliers de rue
END:VEVENT
BEGIN:VEVENT
DTSTART;TZID=Europe/Paris:20280926T163000
DTEND;TZID=Europe/Paris:20280926T180000
DTSTAMP:20260426T004642
CREATED:20260312T102410Z
LAST-MODIFIED:20260312T102415Z
UID:10004203-1853598600-1853604000@laruesuspendue.fr
SUMMARY:Ateliers de rue Couffouleux "Aire de jeux"
DESCRIPTION:
URL:https://laruesuspendue.fr/calendrier-event/couffouleux-aire-de-jeux-2/2028-09-26/
CATEGORIES:Ateliers de rue
END:VEVENT
BEGIN:VEVENT
DTSTART;TZID=Europe/Paris:20280926T181500
DTEND;TZID=Europe/Paris:20280926T200000
DTSTAMP:20260426T004642
CREATED:20250731T140605Z
LAST-MODIFIED:20250731T140605Z
UID:10000491-1853604900-1853611200@laruesuspendue.fr
SUMMARY:Cours de Yoga
DESCRIPTION:Sur inscription au 06 07 89 66 88 \navec Viviane
URL:https://laruesuspendue.fr/calendrier-event/cours-de-yoga/2028-09-26/
CATEGORIES:Cours de Yoga
END:VEVENT
BEGIN:VEVENT
DTSTART;TZID=Europe/Paris:20280927T100000
DTEND;TZID=Europe/Paris:20280927T120000
DTSTAMP:20260426T004642
CREATED:20260312T095033Z
LAST-MODIFIED:20260312T095033Z
UID:10003423-1853661600-1853668800@laruesuspendue.fr
SUMMARY:Permanence accès aux droits
DESCRIPTION:
URL:https://laruesuspendue.fr/calendrier-event/permanence-acces-aux-droits/2028-09-27/
END:VEVENT
BEGIN:VEVENT
DTSTART;TZID=Europe/Paris:20280927T140000
DTEND;TZID=Europe/Paris:20280927T153000
DTSTAMP:20260426T004642
CREATED:20250803T064624Z
LAST-MODIFIED:20260312T101533Z
UID:10001677-1853676000-1853681400@laruesuspendue.fr
SUMMARY:Ateliers de rue Couffouleux "Les moussoulars"
DESCRIPTION:au city
URL:https://laruesuspendue.fr/calendrier-event/couffouleux-les-moussoulars/2028-09-27/
CATEGORIES:Ateliers de rue
END:VEVENT
BEGIN:VEVENT
DTSTART;TZID=Europe/Paris:20280927T163000
DTEND;TZID=Europe/Paris:20280927T180000
DTSTAMP:20260426T004642
CREATED:20250803T064450Z
LAST-MODIFIED:20260312T101828Z
UID:10001411-1853685000-1853690400@laruesuspendue.fr
SUMMARY:Ateliers de rue Rabastens "La Briqueterie"
DESCRIPTION:
URL:https://laruesuspendue.fr/calendrier-event/rabastens-la-briqueterie/2028-09-27/
CATEGORIES:Ateliers de rue
END:VEVENT
BEGIN:VEVENT
DTSTART;TZID=Europe/Paris:20280928T100000
DTEND;TZID=Europe/Paris:20280928T120000
DTSTAMP:20260426T004642
CREATED:20260312T094322Z
LAST-MODIFIED:20260312T094322Z
UID:10002900-1853748000-1853755200@laruesuspendue.fr
SUMMARY:Le jeudi des petits
DESCRIPTION:Matinée libre ouverte aux parents avec enfants !
URL:https://laruesuspendue.fr/calendrier-event/le-jeudi-des-petits/2028-09-28/
END:VEVENT
BEGIN:VEVENT
DTSTART;TZID=Europe/Paris:20280928T163000
DTEND;TZID=Europe/Paris:20280928T180000
DTSTAMP:20260426T004642
CREATED:20260312T102108Z
LAST-MODIFIED:20260312T102108Z
UID:10003944-1853771400-1853776800@laruesuspendue.fr
SUMMARY:Atelier de rue Giroussens "Parc de l'école"
DESCRIPTION:
URL:https://laruesuspendue.fr/calendrier-event/atelier-de-rue-giroussens-parc-de-lecole/2028-09-28/
CATEGORIES:Ateliers de rue
END:VEVENT
BEGIN:VEVENT
DTSTART;TZID=Europe/Paris:20280929T100000
DTEND;TZID=Europe/Paris:20280929T120000
DTSTAMP:20260426T004642
CREATED:20260312T095624Z
LAST-MODIFIED:20260312T095624Z
UID:10003675-1853834400-1853841600@laruesuspendue.fr
SUMMARY:Scrabble et échecs
DESCRIPTION:avec Cheikh
URL:https://laruesuspendue.fr/calendrier-event/scrabble-et-echecs/2028-09-29/
END:VEVENT
BEGIN:VEVENT
DTSTART;TZID=Europe/Paris:20280929T163000
DTEND;TZID=Europe/Paris:20280929T180000
DTSTAMP:20260426T004642
CREATED:20250803T064730Z
LAST-MODIFIED:20250803T064912Z
UID:10001939-1853857800-1853863200@laruesuspendue.fr
SUMMARY:Ateliers de rue Rabastens "Parc du collège"
DESCRIPTION:
URL:https://laruesuspendue.fr/calendrier-event/rabastens-parc-du-college/2028-09-29/
CATEGORIES:Ateliers de rue
END:VEVENT
BEGIN:VEVENT
DTSTART;TZID=Europe/Paris:20281003T140000
DTEND;TZID=Europe/Paris:20281003T153000
DTSTAMP:20260426T004642
CREATED:20260312T094935Z
LAST-MODIFIED:20260312T094935Z
UID:10003163-1854194400-1854199800@laruesuspendue.fr
SUMMARY:Cours de FLE
DESCRIPTION:
URL:https://laruesuspendue.fr/calendrier-event/cours-de-fle/2028-10-03/
END:VEVENT
END:VCALENDAR