BEGIN:VCALENDAR
VERSION:2.0
PRODID:-//La Rue Suspendue - ECPv6.15.20//NONSGML v1.0//EN
CALSCALE:GREGORIAN
METHOD:PUBLISH
X-WR-CALNAME:La Rue Suspendue
X-ORIGINAL-URL:https://laruesuspendue.fr
X-WR-CALDESC:Évènements pour La Rue Suspendue
REFRESH-INTERVAL;VALUE=DURATION:PT1H
X-Robots-Tag:noindex
X-PUBLISHED-TTL:PT1H
BEGIN:VTIMEZONE
TZID:Europe/Paris
BEGIN:DAYLIGHT
TZOFFSETFROM:+0100
TZOFFSETTO:+0200
TZNAME:CEST
DTSTART:20270328T010000
END:DAYLIGHT
BEGIN:STANDARD
TZOFFSETFROM:+0200
TZOFFSETTO:+0100
TZNAME:CET
DTSTART:20271031T010000
END:STANDARD
BEGIN:DAYLIGHT
TZOFFSETFROM:+0100
TZOFFSETTO:+0200
TZNAME:CEST
DTSTART:20280326T010000
END:DAYLIGHT
BEGIN:STANDARD
TZOFFSETFROM:+0200
TZOFFSETTO:+0100
TZNAME:CET
DTSTART:20281029T010000
END:STANDARD
BEGIN:DAYLIGHT
TZOFFSETFROM:+0100
TZOFFSETTO:+0200
TZNAME:CEST
DTSTART:20290325T010000
END:DAYLIGHT
BEGIN:STANDARD
TZOFFSETFROM:+0200
TZOFFSETTO:+0100
TZNAME:CET
DTSTART:20291028T010000
END:STANDARD
END:VTIMEZONE
BEGIN:VEVENT
DTSTART;TZID=Europe/Paris:20280418T163000
DTEND;TZID=Europe/Paris:20280418T180000
DTSTAMP:20260424T215620
CREATED:20260312T102410Z
LAST-MODIFIED:20260312T102415Z
UID:10004180-1839688200-1839693600@laruesuspendue.fr
SUMMARY:Ateliers de rue Couffouleux "Aire de jeux"
DESCRIPTION:
URL:https://laruesuspendue.fr/calendrier-event/couffouleux-aire-de-jeux-2/2028-04-18/
CATEGORIES:Ateliers de rue
END:VEVENT
BEGIN:VEVENT
DTSTART;TZID=Europe/Paris:20280418T181500
DTEND;TZID=Europe/Paris:20280418T200000
DTSTAMP:20260424T215620
CREATED:20250731T140605Z
LAST-MODIFIED:20250731T140605Z
UID:10000468-1839694500-1839700800@laruesuspendue.fr
SUMMARY:Cours de Yoga
DESCRIPTION:Sur inscription au 06 07 89 66 88 \navec Viviane
URL:https://laruesuspendue.fr/calendrier-event/cours-de-yoga/2028-04-18/
CATEGORIES:Cours de Yoga
END:VEVENT
BEGIN:VEVENT
DTSTART;TZID=Europe/Paris:20280419T100000
DTEND;TZID=Europe/Paris:20280419T120000
DTSTAMP:20260424T215620
CREATED:20260312T095033Z
LAST-MODIFIED:20260312T095033Z
UID:10003400-1839751200-1839758400@laruesuspendue.fr
SUMMARY:Permanence accès aux droits
DESCRIPTION:
URL:https://laruesuspendue.fr/calendrier-event/permanence-acces-aux-droits/2028-04-19/
END:VEVENT
BEGIN:VEVENT
DTSTART;TZID=Europe/Paris:20280419T140000
DTEND;TZID=Europe/Paris:20280419T153000
DTSTAMP:20260424T215620
CREATED:20250803T064624Z
LAST-MODIFIED:20260312T101533Z
UID:10001654-1839765600-1839771000@laruesuspendue.fr
SUMMARY:Ateliers de rue Couffouleux "Les moussoulars"
DESCRIPTION:au city
URL:https://laruesuspendue.fr/calendrier-event/couffouleux-les-moussoulars/2028-04-19/
CATEGORIES:Ateliers de rue
END:VEVENT
BEGIN:VEVENT
DTSTART;TZID=Europe/Paris:20280419T163000
DTEND;TZID=Europe/Paris:20280419T180000
DTSTAMP:20260424T215620
CREATED:20250803T064450Z
LAST-MODIFIED:20260312T101828Z
UID:10001388-1839774600-1839780000@laruesuspendue.fr
SUMMARY:Ateliers de rue Rabastens "La Briqueterie"
DESCRIPTION:
URL:https://laruesuspendue.fr/calendrier-event/rabastens-la-briqueterie/2028-04-19/
CATEGORIES:Ateliers de rue
END:VEVENT
BEGIN:VEVENT
DTSTART;TZID=Europe/Paris:20280420T100000
DTEND;TZID=Europe/Paris:20280420T120000
DTSTAMP:20260424T215620
CREATED:20260312T094322Z
LAST-MODIFIED:20260312T094322Z
UID:10002877-1839837600-1839844800@laruesuspendue.fr
SUMMARY:Le jeudi des petits
DESCRIPTION:Matinée libre ouverte aux parents avec enfants !
URL:https://laruesuspendue.fr/calendrier-event/le-jeudi-des-petits/2028-04-20/
END:VEVENT
BEGIN:VEVENT
DTSTART;TZID=Europe/Paris:20280420T163000
DTEND;TZID=Europe/Paris:20280420T180000
DTSTAMP:20260424T215620
CREATED:20260312T102108Z
LAST-MODIFIED:20260312T102108Z
UID:10003921-1839861000-1839866400@laruesuspendue.fr
SUMMARY:Atelier de rue Giroussens "Parc de l'école"
DESCRIPTION:
URL:https://laruesuspendue.fr/calendrier-event/atelier-de-rue-giroussens-parc-de-lecole/2028-04-20/
CATEGORIES:Ateliers de rue
END:VEVENT
BEGIN:VEVENT
DTSTART;TZID=Europe/Paris:20280421T163000
DTEND;TZID=Europe/Paris:20280421T180000
DTSTAMP:20260424T215620
CREATED:20250803T064730Z
LAST-MODIFIED:20250803T064912Z
UID:10001916-1839947400-1839952800@laruesuspendue.fr
SUMMARY:Ateliers de rue Rabastens "Parc du collège"
DESCRIPTION:
URL:https://laruesuspendue.fr/calendrier-event/rabastens-parc-du-college/2028-04-21/
CATEGORIES:Ateliers de rue
END:VEVENT
BEGIN:VEVENT
DTSTART;TZID=Europe/Paris:20280425T140000
DTEND;TZID=Europe/Paris:20280425T153000
DTSTAMP:20260424T215620
CREATED:20260312T094935Z
LAST-MODIFIED:20260312T094935Z
UID:10003140-1840284000-1840289400@laruesuspendue.fr
SUMMARY:Cours de FLE
DESCRIPTION:
URL:https://laruesuspendue.fr/calendrier-event/cours-de-fle/2028-04-25/
END:VEVENT
BEGIN:VEVENT
DTSTART;TZID=Europe/Paris:20280425T163000
DTEND;TZID=Europe/Paris:20280425T180000
DTSTAMP:20260424T215620
CREATED:20260205T095619Z
LAST-MODIFIED:20260312T101235Z
UID:10002600-1840293000-1840298400@laruesuspendue.fr
SUMMARY:Ateliers de rue Rabastens "Parc Constance"
DESCRIPTION:
URL:https://laruesuspendue.fr/calendrier-event/ateliers-de-rue-rabastens-parc-constance/2028-04-25/
LOCATION:Parc Constance\, Rabastens\, 81800
CATEGORIES:Ateliers de rue
END:VEVENT
BEGIN:VEVENT
DTSTART;TZID=Europe/Paris:20280425T163000
DTEND;TZID=Europe/Paris:20280425T180000
DTSTAMP:20260424T215620
CREATED:20260312T102410Z
LAST-MODIFIED:20260312T102415Z
UID:10004181-1840293000-1840298400@laruesuspendue.fr
SUMMARY:Ateliers de rue Couffouleux "Aire de jeux"
DESCRIPTION:
URL:https://laruesuspendue.fr/calendrier-event/couffouleux-aire-de-jeux-2/2028-04-25/
CATEGORIES:Ateliers de rue
END:VEVENT
BEGIN:VEVENT
DTSTART;TZID=Europe/Paris:20280425T181500
DTEND;TZID=Europe/Paris:20280425T200000
DTSTAMP:20260424T215620
CREATED:20250731T140605Z
LAST-MODIFIED:20250731T140605Z
UID:10000469-1840299300-1840305600@laruesuspendue.fr
SUMMARY:Cours de Yoga
DESCRIPTION:Sur inscription au 06 07 89 66 88 \navec Viviane
URL:https://laruesuspendue.fr/calendrier-event/cours-de-yoga/2028-04-25/
CATEGORIES:Cours de Yoga
END:VEVENT
BEGIN:VEVENT
DTSTART;TZID=Europe/Paris:20280426T100000
DTEND;TZID=Europe/Paris:20280426T120000
DTSTAMP:20260424T215620
CREATED:20260312T095033Z
LAST-MODIFIED:20260312T095033Z
UID:10003401-1840356000-1840363200@laruesuspendue.fr
SUMMARY:Permanence accès aux droits
DESCRIPTION:
URL:https://laruesuspendue.fr/calendrier-event/permanence-acces-aux-droits/2028-04-26/
END:VEVENT
BEGIN:VEVENT
DTSTART;TZID=Europe/Paris:20280426T140000
DTEND;TZID=Europe/Paris:20280426T153000
DTSTAMP:20260424T215620
CREATED:20250803T064624Z
LAST-MODIFIED:20260312T101533Z
UID:10001655-1840370400-1840375800@laruesuspendue.fr
SUMMARY:Ateliers de rue Couffouleux "Les moussoulars"
DESCRIPTION:au city
URL:https://laruesuspendue.fr/calendrier-event/couffouleux-les-moussoulars/2028-04-26/
CATEGORIES:Ateliers de rue
END:VEVENT
BEGIN:VEVENT
DTSTART;TZID=Europe/Paris:20280426T163000
DTEND;TZID=Europe/Paris:20280426T180000
DTSTAMP:20260424T215620
CREATED:20250803T064450Z
LAST-MODIFIED:20260312T101828Z
UID:10001389-1840379400-1840384800@laruesuspendue.fr
SUMMARY:Ateliers de rue Rabastens "La Briqueterie"
DESCRIPTION:
URL:https://laruesuspendue.fr/calendrier-event/rabastens-la-briqueterie/2028-04-26/
CATEGORIES:Ateliers de rue
END:VEVENT
BEGIN:VEVENT
DTSTART;TZID=Europe/Paris:20280427T100000
DTEND;TZID=Europe/Paris:20280427T120000
DTSTAMP:20260424T215620
CREATED:20260312T094322Z
LAST-MODIFIED:20260312T094322Z
UID:10002878-1840442400-1840449600@laruesuspendue.fr
SUMMARY:Le jeudi des petits
DESCRIPTION:Matinée libre ouverte aux parents avec enfants !
URL:https://laruesuspendue.fr/calendrier-event/le-jeudi-des-petits/2028-04-27/
END:VEVENT
BEGIN:VEVENT
DTSTART;TZID=Europe/Paris:20280427T163000
DTEND;TZID=Europe/Paris:20280427T180000
DTSTAMP:20260424T215620
CREATED:20260312T102108Z
LAST-MODIFIED:20260312T102108Z
UID:10003922-1840465800-1840471200@laruesuspendue.fr
SUMMARY:Atelier de rue Giroussens "Parc de l'école"
DESCRIPTION:
URL:https://laruesuspendue.fr/calendrier-event/atelier-de-rue-giroussens-parc-de-lecole/2028-04-27/
CATEGORIES:Ateliers de rue
END:VEVENT
BEGIN:VEVENT
DTSTART;TZID=Europe/Paris:20280428T100000
DTEND;TZID=Europe/Paris:20280428T120000
DTSTAMP:20260424T215620
CREATED:20260312T095624Z
LAST-MODIFIED:20260312T095624Z
UID:10003664-1840528800-1840536000@laruesuspendue.fr
SUMMARY:Scrabble et échecs
DESCRIPTION:avec Cheikh
URL:https://laruesuspendue.fr/calendrier-event/scrabble-et-echecs/2028-04-28/
END:VEVENT
BEGIN:VEVENT
DTSTART;TZID=Europe/Paris:20280428T163000
DTEND;TZID=Europe/Paris:20280428T180000
DTSTAMP:20260424T215620
CREATED:20250803T064730Z
LAST-MODIFIED:20250803T064912Z
UID:10001917-1840552200-1840557600@laruesuspendue.fr
SUMMARY:Ateliers de rue Rabastens "Parc du collège"
DESCRIPTION:
URL:https://laruesuspendue.fr/calendrier-event/rabastens-parc-du-college/2028-04-28/
CATEGORIES:Ateliers de rue
END:VEVENT
BEGIN:VEVENT
DTSTART;TZID=Europe/Paris:20280502T140000
DTEND;TZID=Europe/Paris:20280502T153000
DTSTAMP:20260424T215620
CREATED:20260312T094935Z
LAST-MODIFIED:20260312T094935Z
UID:10003141-1840888800-1840894200@laruesuspendue.fr
SUMMARY:Cours de FLE
DESCRIPTION:
URL:https://laruesuspendue.fr/calendrier-event/cours-de-fle/2028-05-02/
END:VEVENT
BEGIN:VEVENT
DTSTART;TZID=Europe/Paris:20280502T163000
DTEND;TZID=Europe/Paris:20280502T180000
DTSTAMP:20260424T215620
CREATED:20260205T095619Z
LAST-MODIFIED:20260312T101235Z
UID:10002601-1840897800-1840903200@laruesuspendue.fr
SUMMARY:Ateliers de rue Rabastens "Parc Constance"
DESCRIPTION:
URL:https://laruesuspendue.fr/calendrier-event/ateliers-de-rue-rabastens-parc-constance/2028-05-02/
LOCATION:Parc Constance\, Rabastens\, 81800
CATEGORIES:Ateliers de rue
END:VEVENT
BEGIN:VEVENT
DTSTART;TZID=Europe/Paris:20280502T163000
DTEND;TZID=Europe/Paris:20280502T180000
DTSTAMP:20260424T215620
CREATED:20260312T102410Z
LAST-MODIFIED:20260312T102415Z
UID:10004182-1840897800-1840903200@laruesuspendue.fr
SUMMARY:Ateliers de rue Couffouleux "Aire de jeux"
DESCRIPTION:
URL:https://laruesuspendue.fr/calendrier-event/couffouleux-aire-de-jeux-2/2028-05-02/
CATEGORIES:Ateliers de rue
END:VEVENT
BEGIN:VEVENT
DTSTART;TZID=Europe/Paris:20280502T181500
DTEND;TZID=Europe/Paris:20280502T200000
DTSTAMP:20260424T215620
CREATED:20250731T140605Z
LAST-MODIFIED:20250731T140605Z
UID:10000470-1840904100-1840910400@laruesuspendue.fr
SUMMARY:Cours de Yoga
DESCRIPTION:Sur inscription au 06 07 89 66 88 \navec Viviane
URL:https://laruesuspendue.fr/calendrier-event/cours-de-yoga/2028-05-02/
CATEGORIES:Cours de Yoga
END:VEVENT
BEGIN:VEVENT
DTSTART;TZID=Europe/Paris:20280503T090000
DTEND;TZID=Europe/Paris:20280503T123000
DTSTAMP:20260424T215620
CREATED:20250801T154507Z
LAST-MODIFIED:20250801T154906Z
UID:10000687-1840957200-1840969800@laruesuspendue.fr
SUMMARY:Permanence mission locale
DESCRIPTION:Tous les 1er mercredi du mois
URL:https://laruesuspendue.fr/calendrier-event/permanence-mission-locale-2/2028-05-03/
CATEGORIES:Permanence mission locale
END:VEVENT
BEGIN:VEVENT
DTSTART;TZID=Europe/Paris:20280503T100000
DTEND;TZID=Europe/Paris:20280503T120000
DTSTAMP:20260424T215620
CREATED:20260312T095033Z
LAST-MODIFIED:20260312T095033Z
UID:10003402-1840960800-1840968000@laruesuspendue.fr
SUMMARY:Permanence accès aux droits
DESCRIPTION:
URL:https://laruesuspendue.fr/calendrier-event/permanence-acces-aux-droits/2028-05-03/
END:VEVENT
BEGIN:VEVENT
DTSTART;TZID=Europe/Paris:20280503T140000
DTEND;TZID=Europe/Paris:20280503T153000
DTSTAMP:20260424T215620
CREATED:20250803T064624Z
LAST-MODIFIED:20260312T101533Z
UID:10001656-1840975200-1840980600@laruesuspendue.fr
SUMMARY:Ateliers de rue Couffouleux "Les moussoulars"
DESCRIPTION:au city
URL:https://laruesuspendue.fr/calendrier-event/couffouleux-les-moussoulars/2028-05-03/
CATEGORIES:Ateliers de rue
END:VEVENT
BEGIN:VEVENT
DTSTART;TZID=Europe/Paris:20280503T163000
DTEND;TZID=Europe/Paris:20280503T180000
DTSTAMP:20260424T215620
CREATED:20250803T064450Z
LAST-MODIFIED:20260312T101828Z
UID:10001390-1840984200-1840989600@laruesuspendue.fr
SUMMARY:Ateliers de rue Rabastens "La Briqueterie"
DESCRIPTION:
URL:https://laruesuspendue.fr/calendrier-event/rabastens-la-briqueterie/2028-05-03/
CATEGORIES:Ateliers de rue
END:VEVENT
BEGIN:VEVENT
DTSTART;TZID=Europe/Paris:20280504T100000
DTEND;TZID=Europe/Paris:20280504T120000
DTSTAMP:20260424T215620
CREATED:20260312T094322Z
LAST-MODIFIED:20260312T094322Z
UID:10002879-1841047200-1841054400@laruesuspendue.fr
SUMMARY:Le jeudi des petits
DESCRIPTION:Matinée libre ouverte aux parents avec enfants !
URL:https://laruesuspendue.fr/calendrier-event/le-jeudi-des-petits/2028-05-04/
END:VEVENT
BEGIN:VEVENT
DTSTART;TZID=Europe/Paris:20280504T163000
DTEND;TZID=Europe/Paris:20280504T180000
DTSTAMP:20260424T215620
CREATED:20260312T102108Z
LAST-MODIFIED:20260312T102108Z
UID:10003923-1841070600-1841076000@laruesuspendue.fr
SUMMARY:Atelier de rue Giroussens "Parc de l'école"
DESCRIPTION:
URL:https://laruesuspendue.fr/calendrier-event/atelier-de-rue-giroussens-parc-de-lecole/2028-05-04/
CATEGORIES:Ateliers de rue
END:VEVENT
BEGIN:VEVENT
DTSTART;TZID=Europe/Paris:20280505T163000
DTEND;TZID=Europe/Paris:20280505T180000
DTSTAMP:20260424T215620
CREATED:20250803T064730Z
LAST-MODIFIED:20250803T064912Z
UID:10001918-1841157000-1841162400@laruesuspendue.fr
SUMMARY:Ateliers de rue Rabastens "Parc du collège"
DESCRIPTION:
URL:https://laruesuspendue.fr/calendrier-event/rabastens-parc-du-college/2028-05-05/
CATEGORIES:Ateliers de rue
END:VEVENT
END:VCALENDAR