BEGIN:VCALENDAR
VERSION:2.0
PRODID:-//La Rue Suspendue - ECPv6.15.20//NONSGML v1.0//EN
CALSCALE:GREGORIAN
METHOD:PUBLISH
X-WR-CALNAME:La Rue Suspendue
X-ORIGINAL-URL:https://laruesuspendue.fr
X-WR-CALDESC:Évènements pour La Rue Suspendue
REFRESH-INTERVAL;VALUE=DURATION:PT1H
X-Robots-Tag:noindex
X-PUBLISHED-TTL:PT1H
BEGIN:VTIMEZONE
TZID:Europe/Paris
BEGIN:DAYLIGHT
TZOFFSETFROM:+0100
TZOFFSETTO:+0200
TZNAME:CEST
DTSTART:20270328T010000
END:DAYLIGHT
BEGIN:STANDARD
TZOFFSETFROM:+0200
TZOFFSETTO:+0100
TZNAME:CET
DTSTART:20271031T010000
END:STANDARD
BEGIN:DAYLIGHT
TZOFFSETFROM:+0100
TZOFFSETTO:+0200
TZNAME:CEST
DTSTART:20280326T010000
END:DAYLIGHT
BEGIN:STANDARD
TZOFFSETFROM:+0200
TZOFFSETTO:+0100
TZNAME:CET
DTSTART:20281029T010000
END:STANDARD
BEGIN:DAYLIGHT
TZOFFSETFROM:+0100
TZOFFSETTO:+0200
TZNAME:CEST
DTSTART:20290325T010000
END:DAYLIGHT
BEGIN:STANDARD
TZOFFSETFROM:+0200
TZOFFSETTO:+0100
TZNAME:CET
DTSTART:20291028T010000
END:STANDARD
END:VTIMEZONE
BEGIN:VEVENT
DTSTART;TZID=Europe/Paris:20280215T163000
DTEND;TZID=Europe/Paris:20280215T180000
DTSTAMP:20260424T104005
CREATED:20260205T095619Z
LAST-MODIFIED:20260312T101235Z
UID:10002590-1834245000-1834250400@laruesuspendue.fr
SUMMARY:Ateliers de rue Rabastens "Parc Constance"
DESCRIPTION:
URL:https://laruesuspendue.fr/calendrier-event/ateliers-de-rue-rabastens-parc-constance/2028-02-15/
LOCATION:Parc Constance\, Rabastens\, 81800
CATEGORIES:Ateliers de rue
END:VEVENT
BEGIN:VEVENT
DTSTART;TZID=Europe/Paris:20280215T163000
DTEND;TZID=Europe/Paris:20280215T180000
DTSTAMP:20260424T104005
CREATED:20260312T102410Z
LAST-MODIFIED:20260312T102415Z
UID:10004171-1834245000-1834250400@laruesuspendue.fr
SUMMARY:Ateliers de rue Couffouleux "Aire de jeux"
DESCRIPTION:
URL:https://laruesuspendue.fr/calendrier-event/couffouleux-aire-de-jeux-2/2028-02-15/
CATEGORIES:Ateliers de rue
END:VEVENT
BEGIN:VEVENT
DTSTART;TZID=Europe/Paris:20280215T181500
DTEND;TZID=Europe/Paris:20280215T200000
DTSTAMP:20260424T104005
CREATED:20250731T140605Z
LAST-MODIFIED:20250731T140605Z
UID:10000459-1834251300-1834257600@laruesuspendue.fr
SUMMARY:Cours de Yoga
DESCRIPTION:Sur inscription au 06 07 89 66 88 \navec Viviane
URL:https://laruesuspendue.fr/calendrier-event/cours-de-yoga/2028-02-15/
CATEGORIES:Cours de Yoga
END:VEVENT
BEGIN:VEVENT
DTSTART;TZID=Europe/Paris:20280216T100000
DTEND;TZID=Europe/Paris:20280216T120000
DTSTAMP:20260424T104005
CREATED:20260312T095033Z
LAST-MODIFIED:20260312T095033Z
UID:10003391-1834308000-1834315200@laruesuspendue.fr
SUMMARY:Permanence accès aux droits
DESCRIPTION:
URL:https://laruesuspendue.fr/calendrier-event/permanence-acces-aux-droits/2028-02-16/
END:VEVENT
BEGIN:VEVENT
DTSTART;TZID=Europe/Paris:20280216T140000
DTEND;TZID=Europe/Paris:20280216T153000
DTSTAMP:20260424T104005
CREATED:20250803T064624Z
LAST-MODIFIED:20260312T101533Z
UID:10001645-1834322400-1834327800@laruesuspendue.fr
SUMMARY:Ateliers de rue Couffouleux "Les moussoulars"
DESCRIPTION:au city
URL:https://laruesuspendue.fr/calendrier-event/couffouleux-les-moussoulars/2028-02-16/
CATEGORIES:Ateliers de rue
END:VEVENT
BEGIN:VEVENT
DTSTART;TZID=Europe/Paris:20280216T163000
DTEND;TZID=Europe/Paris:20280216T180000
DTSTAMP:20260424T104005
CREATED:20250803T064450Z
LAST-MODIFIED:20260312T101828Z
UID:10001379-1834331400-1834336800@laruesuspendue.fr
SUMMARY:Ateliers de rue Rabastens "La Briqueterie"
DESCRIPTION:
URL:https://laruesuspendue.fr/calendrier-event/rabastens-la-briqueterie/2028-02-16/
CATEGORIES:Ateliers de rue
END:VEVENT
BEGIN:VEVENT
DTSTART;TZID=Europe/Paris:20280217T100000
DTEND;TZID=Europe/Paris:20280217T120000
DTSTAMP:20260424T104005
CREATED:20260312T094322Z
LAST-MODIFIED:20260312T094322Z
UID:10002868-1834394400-1834401600@laruesuspendue.fr
SUMMARY:Le jeudi des petits
DESCRIPTION:Matinée libre ouverte aux parents avec enfants !
URL:https://laruesuspendue.fr/calendrier-event/le-jeudi-des-petits/2028-02-17/
END:VEVENT
BEGIN:VEVENT
DTSTART;TZID=Europe/Paris:20280217T163000
DTEND;TZID=Europe/Paris:20280217T180000
DTSTAMP:20260424T104005
CREATED:20260312T102108Z
LAST-MODIFIED:20260312T102108Z
UID:10003912-1834417800-1834423200@laruesuspendue.fr
SUMMARY:Atelier de rue Giroussens "Parc de l'école"
DESCRIPTION:
URL:https://laruesuspendue.fr/calendrier-event/atelier-de-rue-giroussens-parc-de-lecole/2028-02-17/
CATEGORIES:Ateliers de rue
END:VEVENT
BEGIN:VEVENT
DTSTART;TZID=Europe/Paris:20280218T100000
DTEND;TZID=Europe/Paris:20280218T120000
DTSTAMP:20260424T104005
CREATED:20260312T095624Z
LAST-MODIFIED:20260312T095624Z
UID:10003659-1834480800-1834488000@laruesuspendue.fr
SUMMARY:Scrabble et échecs
DESCRIPTION:avec Cheikh
URL:https://laruesuspendue.fr/calendrier-event/scrabble-et-echecs/2028-02-18/
END:VEVENT
BEGIN:VEVENT
DTSTART;TZID=Europe/Paris:20280218T163000
DTEND;TZID=Europe/Paris:20280218T180000
DTSTAMP:20260424T104005
CREATED:20250803T064730Z
LAST-MODIFIED:20250803T064912Z
UID:10001907-1834504200-1834509600@laruesuspendue.fr
SUMMARY:Ateliers de rue Rabastens "Parc du collège"
DESCRIPTION:
URL:https://laruesuspendue.fr/calendrier-event/rabastens-parc-du-college/2028-02-18/
CATEGORIES:Ateliers de rue
END:VEVENT
BEGIN:VEVENT
DTSTART;TZID=Europe/Paris:20280222T140000
DTEND;TZID=Europe/Paris:20280222T153000
DTSTAMP:20260424T104005
CREATED:20260312T094935Z
LAST-MODIFIED:20260312T094935Z
UID:10003131-1834840800-1834846200@laruesuspendue.fr
SUMMARY:Cours de FLE
DESCRIPTION:
URL:https://laruesuspendue.fr/calendrier-event/cours-de-fle/2028-02-22/
END:VEVENT
BEGIN:VEVENT
DTSTART;TZID=Europe/Paris:20280222T163000
DTEND;TZID=Europe/Paris:20280222T180000
DTSTAMP:20260424T104005
CREATED:20260205T095619Z
LAST-MODIFIED:20260312T101235Z
UID:10002591-1834849800-1834855200@laruesuspendue.fr
SUMMARY:Ateliers de rue Rabastens "Parc Constance"
DESCRIPTION:
URL:https://laruesuspendue.fr/calendrier-event/ateliers-de-rue-rabastens-parc-constance/2028-02-22/
LOCATION:Parc Constance\, Rabastens\, 81800
CATEGORIES:Ateliers de rue
END:VEVENT
BEGIN:VEVENT
DTSTART;TZID=Europe/Paris:20280222T163000
DTEND;TZID=Europe/Paris:20280222T180000
DTSTAMP:20260424T104005
CREATED:20260312T102410Z
LAST-MODIFIED:20260312T102415Z
UID:10004172-1834849800-1834855200@laruesuspendue.fr
SUMMARY:Ateliers de rue Couffouleux "Aire de jeux"
DESCRIPTION:
URL:https://laruesuspendue.fr/calendrier-event/couffouleux-aire-de-jeux-2/2028-02-22/
CATEGORIES:Ateliers de rue
END:VEVENT
BEGIN:VEVENT
DTSTART;TZID=Europe/Paris:20280222T181500
DTEND;TZID=Europe/Paris:20280222T200000
DTSTAMP:20260424T104005
CREATED:20250731T140605Z
LAST-MODIFIED:20250731T140605Z
UID:10000460-1834856100-1834862400@laruesuspendue.fr
SUMMARY:Cours de Yoga
DESCRIPTION:Sur inscription au 06 07 89 66 88 \navec Viviane
URL:https://laruesuspendue.fr/calendrier-event/cours-de-yoga/2028-02-22/
CATEGORIES:Cours de Yoga
END:VEVENT
BEGIN:VEVENT
DTSTART;TZID=Europe/Paris:20280223T100000
DTEND;TZID=Europe/Paris:20280223T120000
DTSTAMP:20260424T104005
CREATED:20260312T095033Z
LAST-MODIFIED:20260312T095033Z
UID:10003392-1834912800-1834920000@laruesuspendue.fr
SUMMARY:Permanence accès aux droits
DESCRIPTION:
URL:https://laruesuspendue.fr/calendrier-event/permanence-acces-aux-droits/2028-02-23/
END:VEVENT
BEGIN:VEVENT
DTSTART;TZID=Europe/Paris:20280223T140000
DTEND;TZID=Europe/Paris:20280223T153000
DTSTAMP:20260424T104005
CREATED:20250803T064624Z
LAST-MODIFIED:20260312T101533Z
UID:10001646-1834927200-1834932600@laruesuspendue.fr
SUMMARY:Ateliers de rue Couffouleux "Les moussoulars"
DESCRIPTION:au city
URL:https://laruesuspendue.fr/calendrier-event/couffouleux-les-moussoulars/2028-02-23/
CATEGORIES:Ateliers de rue
END:VEVENT
BEGIN:VEVENT
DTSTART;TZID=Europe/Paris:20280223T163000
DTEND;TZID=Europe/Paris:20280223T180000
DTSTAMP:20260424T104005
CREATED:20250803T064450Z
LAST-MODIFIED:20260312T101828Z
UID:10001380-1834936200-1834941600@laruesuspendue.fr
SUMMARY:Ateliers de rue Rabastens "La Briqueterie"
DESCRIPTION:
URL:https://laruesuspendue.fr/calendrier-event/rabastens-la-briqueterie/2028-02-23/
CATEGORIES:Ateliers de rue
END:VEVENT
BEGIN:VEVENT
DTSTART;TZID=Europe/Paris:20280224T100000
DTEND;TZID=Europe/Paris:20280224T120000
DTSTAMP:20260424T104005
CREATED:20260312T094322Z
LAST-MODIFIED:20260312T094322Z
UID:10002869-1834999200-1835006400@laruesuspendue.fr
SUMMARY:Le jeudi des petits
DESCRIPTION:Matinée libre ouverte aux parents avec enfants !
URL:https://laruesuspendue.fr/calendrier-event/le-jeudi-des-petits/2028-02-24/
END:VEVENT
BEGIN:VEVENT
DTSTART;TZID=Europe/Paris:20280224T163000
DTEND;TZID=Europe/Paris:20280224T180000
DTSTAMP:20260424T104005
CREATED:20260312T102108Z
LAST-MODIFIED:20260312T102108Z
UID:10003913-1835022600-1835028000@laruesuspendue.fr
SUMMARY:Atelier de rue Giroussens "Parc de l'école"
DESCRIPTION:
URL:https://laruesuspendue.fr/calendrier-event/atelier-de-rue-giroussens-parc-de-lecole/2028-02-24/
CATEGORIES:Ateliers de rue
END:VEVENT
BEGIN:VEVENT
DTSTART;TZID=Europe/Paris:20280225T163000
DTEND;TZID=Europe/Paris:20280225T180000
DTSTAMP:20260424T104005
CREATED:20250803T064730Z
LAST-MODIFIED:20250803T064912Z
UID:10001908-1835109000-1835114400@laruesuspendue.fr
SUMMARY:Ateliers de rue Rabastens "Parc du collège"
DESCRIPTION:
URL:https://laruesuspendue.fr/calendrier-event/rabastens-parc-du-college/2028-02-25/
CATEGORIES:Ateliers de rue
END:VEVENT
BEGIN:VEVENT
DTSTART;TZID=Europe/Paris:20280229T140000
DTEND;TZID=Europe/Paris:20280229T153000
DTSTAMP:20260424T104005
CREATED:20260312T094935Z
LAST-MODIFIED:20260312T094935Z
UID:10003132-1835445600-1835451000@laruesuspendue.fr
SUMMARY:Cours de FLE
DESCRIPTION:
URL:https://laruesuspendue.fr/calendrier-event/cours-de-fle/2028-02-29/
END:VEVENT
BEGIN:VEVENT
DTSTART;TZID=Europe/Paris:20280229T163000
DTEND;TZID=Europe/Paris:20280229T180000
DTSTAMP:20260424T104005
CREATED:20260205T095619Z
LAST-MODIFIED:20260312T101235Z
UID:10002592-1835454600-1835460000@laruesuspendue.fr
SUMMARY:Ateliers de rue Rabastens "Parc Constance"
DESCRIPTION:
URL:https://laruesuspendue.fr/calendrier-event/ateliers-de-rue-rabastens-parc-constance/2028-02-29/
LOCATION:Parc Constance\, Rabastens\, 81800
CATEGORIES:Ateliers de rue
END:VEVENT
BEGIN:VEVENT
DTSTART;TZID=Europe/Paris:20280229T163000
DTEND;TZID=Europe/Paris:20280229T180000
DTSTAMP:20260424T104005
CREATED:20260312T102410Z
LAST-MODIFIED:20260312T102415Z
UID:10004173-1835454600-1835460000@laruesuspendue.fr
SUMMARY:Ateliers de rue Couffouleux "Aire de jeux"
DESCRIPTION:
URL:https://laruesuspendue.fr/calendrier-event/couffouleux-aire-de-jeux-2/2028-02-29/
CATEGORIES:Ateliers de rue
END:VEVENT
BEGIN:VEVENT
DTSTART;TZID=Europe/Paris:20280229T181500
DTEND;TZID=Europe/Paris:20280229T200000
DTSTAMP:20260424T104005
CREATED:20250731T140605Z
LAST-MODIFIED:20250731T140605Z
UID:10000461-1835460900-1835467200@laruesuspendue.fr
SUMMARY:Cours de Yoga
DESCRIPTION:Sur inscription au 06 07 89 66 88 \navec Viviane
URL:https://laruesuspendue.fr/calendrier-event/cours-de-yoga/2028-02-29/
CATEGORIES:Cours de Yoga
END:VEVENT
BEGIN:VEVENT
DTSTART;TZID=Europe/Paris:20280301T090000
DTEND;TZID=Europe/Paris:20280301T123000
DTSTAMP:20260424T104005
CREATED:20250801T154507Z
LAST-MODIFIED:20250801T154906Z
UID:10000685-1835514000-1835526600@laruesuspendue.fr
SUMMARY:Permanence mission locale
DESCRIPTION:Tous les 1er mercredi du mois
URL:https://laruesuspendue.fr/calendrier-event/permanence-mission-locale-2/2028-03-01/
CATEGORIES:Permanence mission locale
END:VEVENT
BEGIN:VEVENT
DTSTART;TZID=Europe/Paris:20280301T100000
DTEND;TZID=Europe/Paris:20280301T120000
DTSTAMP:20260424T104005
CREATED:20260312T095033Z
LAST-MODIFIED:20260312T095033Z
UID:10003393-1835517600-1835524800@laruesuspendue.fr
SUMMARY:Permanence accès aux droits
DESCRIPTION:
URL:https://laruesuspendue.fr/calendrier-event/permanence-acces-aux-droits/2028-03-01/
END:VEVENT
BEGIN:VEVENT
DTSTART;TZID=Europe/Paris:20280301T140000
DTEND;TZID=Europe/Paris:20280301T153000
DTSTAMP:20260424T104005
CREATED:20250803T064624Z
LAST-MODIFIED:20260312T101533Z
UID:10001647-1835532000-1835537400@laruesuspendue.fr
SUMMARY:Ateliers de rue Couffouleux "Les moussoulars"
DESCRIPTION:au city
URL:https://laruesuspendue.fr/calendrier-event/couffouleux-les-moussoulars/2028-03-01/
CATEGORIES:Ateliers de rue
END:VEVENT
BEGIN:VEVENT
DTSTART;TZID=Europe/Paris:20280301T163000
DTEND;TZID=Europe/Paris:20280301T180000
DTSTAMP:20260424T104005
CREATED:20250803T064450Z
LAST-MODIFIED:20260312T101828Z
UID:10001381-1835541000-1835546400@laruesuspendue.fr
SUMMARY:Ateliers de rue Rabastens "La Briqueterie"
DESCRIPTION:
URL:https://laruesuspendue.fr/calendrier-event/rabastens-la-briqueterie/2028-03-01/
CATEGORIES:Ateliers de rue
END:VEVENT
BEGIN:VEVENT
DTSTART;TZID=Europe/Paris:20280302T100000
DTEND;TZID=Europe/Paris:20280302T120000
DTSTAMP:20260424T104005
CREATED:20260312T094322Z
LAST-MODIFIED:20260312T094322Z
UID:10002870-1835604000-1835611200@laruesuspendue.fr
SUMMARY:Le jeudi des petits
DESCRIPTION:Matinée libre ouverte aux parents avec enfants !
URL:https://laruesuspendue.fr/calendrier-event/le-jeudi-des-petits/2028-03-02/
END:VEVENT
BEGIN:VEVENT
DTSTART;TZID=Europe/Paris:20280302T163000
DTEND;TZID=Europe/Paris:20280302T180000
DTSTAMP:20260424T104005
CREATED:20260312T102108Z
LAST-MODIFIED:20260312T102108Z
UID:10003914-1835627400-1835632800@laruesuspendue.fr
SUMMARY:Atelier de rue Giroussens "Parc de l'école"
DESCRIPTION:
URL:https://laruesuspendue.fr/calendrier-event/atelier-de-rue-giroussens-parc-de-lecole/2028-03-02/
CATEGORIES:Ateliers de rue
END:VEVENT
END:VCALENDAR