BEGIN:VCALENDAR
VERSION:2.0
PRODID:-//La Rue Suspendue - ECPv6.15.20//NONSGML v1.0//EN
CALSCALE:GREGORIAN
METHOD:PUBLISH
X-WR-CALNAME:La Rue Suspendue
X-ORIGINAL-URL:https://laruesuspendue.fr
X-WR-CALDESC:Évènements pour La Rue Suspendue
REFRESH-INTERVAL;VALUE=DURATION:PT1H
X-Robots-Tag:noindex
X-PUBLISHED-TTL:PT1H
BEGIN:VTIMEZONE
TZID:Europe/Paris
BEGIN:DAYLIGHT
TZOFFSETFROM:+0100
TZOFFSETTO:+0200
TZNAME:CEST
DTSTART:20260329T010000
END:DAYLIGHT
BEGIN:STANDARD
TZOFFSETFROM:+0200
TZOFFSETTO:+0100
TZNAME:CET
DTSTART:20261025T010000
END:STANDARD
BEGIN:DAYLIGHT
TZOFFSETFROM:+0100
TZOFFSETTO:+0200
TZNAME:CEST
DTSTART:20270328T010000
END:DAYLIGHT
BEGIN:STANDARD
TZOFFSETFROM:+0200
TZOFFSETTO:+0100
TZNAME:CET
DTSTART:20271031T010000
END:STANDARD
BEGIN:DAYLIGHT
TZOFFSETFROM:+0100
TZOFFSETTO:+0200
TZNAME:CEST
DTSTART:20280326T010000
END:DAYLIGHT
BEGIN:STANDARD
TZOFFSETFROM:+0200
TZOFFSETTO:+0100
TZNAME:CET
DTSTART:20281029T010000
END:STANDARD
END:VTIMEZONE
BEGIN:VEVENT
DTSTART;TZID=Europe/Paris:20271020T100000
DTEND;TZID=Europe/Paris:20271020T120000
DTSTAMP:20260423T141620
CREATED:20260312T095033Z
LAST-MODIFIED:20260312T095033Z
UID:10003374-1824026400-1824033600@laruesuspendue.fr
SUMMARY:Permanence accès aux droits
DESCRIPTION:
URL:https://laruesuspendue.fr/calendrier-event/permanence-acces-aux-droits/2027-10-20/
END:VEVENT
BEGIN:VEVENT
DTSTART;TZID=Europe/Paris:20271020T140000
DTEND;TZID=Europe/Paris:20271020T153000
DTSTAMP:20260423T141620
CREATED:20250803T064624Z
LAST-MODIFIED:20260312T101533Z
UID:10001628-1824040800-1824046200@laruesuspendue.fr
SUMMARY:Ateliers de rue Couffouleux "Les moussoulars"
DESCRIPTION:au city
URL:https://laruesuspendue.fr/calendrier-event/couffouleux-les-moussoulars/2027-10-20/
CATEGORIES:Ateliers de rue
END:VEVENT
BEGIN:VEVENT
DTSTART;TZID=Europe/Paris:20271020T163000
DTEND;TZID=Europe/Paris:20271020T180000
DTSTAMP:20260423T141620
CREATED:20250803T064450Z
LAST-MODIFIED:20260312T101828Z
UID:10001362-1824049800-1824055200@laruesuspendue.fr
SUMMARY:Ateliers de rue Rabastens "La Briqueterie"
DESCRIPTION:
URL:https://laruesuspendue.fr/calendrier-event/rabastens-la-briqueterie/2027-10-20/
CATEGORIES:Ateliers de rue
END:VEVENT
BEGIN:VEVENT
DTSTART;TZID=Europe/Paris:20271021T100000
DTEND;TZID=Europe/Paris:20271021T120000
DTSTAMP:20260423T141620
CREATED:20260312T094322Z
LAST-MODIFIED:20260312T094322Z
UID:10002851-1824112800-1824120000@laruesuspendue.fr
SUMMARY:Le jeudi des petits
DESCRIPTION:Matinée libre ouverte aux parents avec enfants !
URL:https://laruesuspendue.fr/calendrier-event/le-jeudi-des-petits/2027-10-21/
END:VEVENT
BEGIN:VEVENT
DTSTART;TZID=Europe/Paris:20271021T163000
DTEND;TZID=Europe/Paris:20271021T180000
DTSTAMP:20260423T141620
CREATED:20260312T102108Z
LAST-MODIFIED:20260312T102108Z
UID:10003895-1824136200-1824141600@laruesuspendue.fr
SUMMARY:Atelier de rue Giroussens "Parc de l'école"
DESCRIPTION:
URL:https://laruesuspendue.fr/calendrier-event/atelier-de-rue-giroussens-parc-de-lecole/2027-10-21/
CATEGORIES:Ateliers de rue
END:VEVENT
BEGIN:VEVENT
DTSTART;TZID=Europe/Paris:20271022T163000
DTEND;TZID=Europe/Paris:20271022T180000
DTSTAMP:20260423T141620
CREATED:20250803T064730Z
LAST-MODIFIED:20250803T064912Z
UID:10001890-1824222600-1824228000@laruesuspendue.fr
SUMMARY:Ateliers de rue Rabastens "Parc du collège"
DESCRIPTION:
URL:https://laruesuspendue.fr/calendrier-event/rabastens-parc-du-college/2027-10-22/
CATEGORIES:Ateliers de rue
END:VEVENT
BEGIN:VEVENT
DTSTART;TZID=Europe/Paris:20271026T140000
DTEND;TZID=Europe/Paris:20271026T153000
DTSTAMP:20260423T141620
CREATED:20260312T094935Z
LAST-MODIFIED:20260312T094935Z
UID:10003114-1824559200-1824564600@laruesuspendue.fr
SUMMARY:Cours de FLE
DESCRIPTION:
URL:https://laruesuspendue.fr/calendrier-event/cours-de-fle/2027-10-26/
END:VEVENT
BEGIN:VEVENT
DTSTART;TZID=Europe/Paris:20271026T163000
DTEND;TZID=Europe/Paris:20271026T180000
DTSTAMP:20260423T141620
CREATED:20260205T095619Z
LAST-MODIFIED:20260312T101235Z
UID:10002574-1824568200-1824573600@laruesuspendue.fr
SUMMARY:Ateliers de rue Rabastens "Parc Constance"
DESCRIPTION:
URL:https://laruesuspendue.fr/calendrier-event/ateliers-de-rue-rabastens-parc-constance/2027-10-26/
LOCATION:Parc Constance\, Rabastens\, 81800
CATEGORIES:Ateliers de rue
END:VEVENT
BEGIN:VEVENT
DTSTART;TZID=Europe/Paris:20271026T163000
DTEND;TZID=Europe/Paris:20271026T180000
DTSTAMP:20260423T141620
CREATED:20260312T102410Z
LAST-MODIFIED:20260312T102415Z
UID:10004155-1824568200-1824573600@laruesuspendue.fr
SUMMARY:Ateliers de rue Couffouleux "Aire de jeux"
DESCRIPTION:
URL:https://laruesuspendue.fr/calendrier-event/couffouleux-aire-de-jeux-2/2027-10-26/
CATEGORIES:Ateliers de rue
END:VEVENT
BEGIN:VEVENT
DTSTART;TZID=Europe/Paris:20271026T181500
DTEND;TZID=Europe/Paris:20271026T200000
DTSTAMP:20260423T141620
CREATED:20250731T140605Z
LAST-MODIFIED:20250731T140605Z
UID:10000443-1824574500-1824580800@laruesuspendue.fr
SUMMARY:Cours de Yoga
DESCRIPTION:Sur inscription au 06 07 89 66 88 \navec Viviane
URL:https://laruesuspendue.fr/calendrier-event/cours-de-yoga/2027-10-26/
CATEGORIES:Cours de Yoga
END:VEVENT
BEGIN:VEVENT
DTSTART;TZID=Europe/Paris:20271027T100000
DTEND;TZID=Europe/Paris:20271027T120000
DTSTAMP:20260423T141620
CREATED:20260312T095033Z
LAST-MODIFIED:20260312T095033Z
UID:10003375-1824631200-1824638400@laruesuspendue.fr
SUMMARY:Permanence accès aux droits
DESCRIPTION:
URL:https://laruesuspendue.fr/calendrier-event/permanence-acces-aux-droits/2027-10-27/
END:VEVENT
BEGIN:VEVENT
DTSTART;TZID=Europe/Paris:20271027T140000
DTEND;TZID=Europe/Paris:20271027T153000
DTSTAMP:20260423T141620
CREATED:20250803T064624Z
LAST-MODIFIED:20260312T101533Z
UID:10001629-1824645600-1824651000@laruesuspendue.fr
SUMMARY:Ateliers de rue Couffouleux "Les moussoulars"
DESCRIPTION:au city
URL:https://laruesuspendue.fr/calendrier-event/couffouleux-les-moussoulars/2027-10-27/
CATEGORIES:Ateliers de rue
END:VEVENT
BEGIN:VEVENT
DTSTART;TZID=Europe/Paris:20271027T163000
DTEND;TZID=Europe/Paris:20271027T180000
DTSTAMP:20260423T141620
CREATED:20250803T064450Z
LAST-MODIFIED:20260312T101828Z
UID:10001363-1824654600-1824660000@laruesuspendue.fr
SUMMARY:Ateliers de rue Rabastens "La Briqueterie"
DESCRIPTION:
URL:https://laruesuspendue.fr/calendrier-event/rabastens-la-briqueterie/2027-10-27/
CATEGORIES:Ateliers de rue
END:VEVENT
BEGIN:VEVENT
DTSTART;TZID=Europe/Paris:20271028T100000
DTEND;TZID=Europe/Paris:20271028T120000
DTSTAMP:20260423T141620
CREATED:20260312T094322Z
LAST-MODIFIED:20260312T094322Z
UID:10002852-1824717600-1824724800@laruesuspendue.fr
SUMMARY:Le jeudi des petits
DESCRIPTION:Matinée libre ouverte aux parents avec enfants !
URL:https://laruesuspendue.fr/calendrier-event/le-jeudi-des-petits/2027-10-28/
END:VEVENT
BEGIN:VEVENT
DTSTART;TZID=Europe/Paris:20271028T163000
DTEND;TZID=Europe/Paris:20271028T180000
DTSTAMP:20260423T141620
CREATED:20260312T102108Z
LAST-MODIFIED:20260312T102108Z
UID:10003896-1824741000-1824746400@laruesuspendue.fr
SUMMARY:Atelier de rue Giroussens "Parc de l'école"
DESCRIPTION:
URL:https://laruesuspendue.fr/calendrier-event/atelier-de-rue-giroussens-parc-de-lecole/2027-10-28/
CATEGORIES:Ateliers de rue
END:VEVENT
BEGIN:VEVENT
DTSTART;TZID=Europe/Paris:20271029T100000
DTEND;TZID=Europe/Paris:20271029T120000
DTSTAMP:20260423T141620
CREATED:20260312T095624Z
LAST-MODIFIED:20260312T095624Z
UID:10003651-1824804000-1824811200@laruesuspendue.fr
SUMMARY:Scrabble et échecs
DESCRIPTION:avec Cheikh
URL:https://laruesuspendue.fr/calendrier-event/scrabble-et-echecs/2027-10-29/
END:VEVENT
BEGIN:VEVENT
DTSTART;TZID=Europe/Paris:20271029T163000
DTEND;TZID=Europe/Paris:20271029T180000
DTSTAMP:20260423T141620
CREATED:20250803T064730Z
LAST-MODIFIED:20250803T064912Z
UID:10001891-1824827400-1824832800@laruesuspendue.fr
SUMMARY:Ateliers de rue Rabastens "Parc du collège"
DESCRIPTION:
URL:https://laruesuspendue.fr/calendrier-event/rabastens-parc-du-college/2027-10-29/
CATEGORIES:Ateliers de rue
END:VEVENT
BEGIN:VEVENT
DTSTART;TZID=Europe/Paris:20271102T140000
DTEND;TZID=Europe/Paris:20271102T153000
DTSTAMP:20260423T141620
CREATED:20260312T094935Z
LAST-MODIFIED:20260312T094935Z
UID:10003115-1825164000-1825169400@laruesuspendue.fr
SUMMARY:Cours de FLE
DESCRIPTION:
URL:https://laruesuspendue.fr/calendrier-event/cours-de-fle/2027-11-02/
END:VEVENT
BEGIN:VEVENT
DTSTART;TZID=Europe/Paris:20271102T163000
DTEND;TZID=Europe/Paris:20271102T180000
DTSTAMP:20260423T141620
CREATED:20260205T095619Z
LAST-MODIFIED:20260312T101235Z
UID:10002575-1825173000-1825178400@laruesuspendue.fr
SUMMARY:Ateliers de rue Rabastens "Parc Constance"
DESCRIPTION:
URL:https://laruesuspendue.fr/calendrier-event/ateliers-de-rue-rabastens-parc-constance/2027-11-02/
LOCATION:Parc Constance\, Rabastens\, 81800
CATEGORIES:Ateliers de rue
END:VEVENT
BEGIN:VEVENT
DTSTART;TZID=Europe/Paris:20271102T163000
DTEND;TZID=Europe/Paris:20271102T180000
DTSTAMP:20260423T141620
CREATED:20260312T102410Z
LAST-MODIFIED:20260312T102415Z
UID:10004156-1825173000-1825178400@laruesuspendue.fr
SUMMARY:Ateliers de rue Couffouleux "Aire de jeux"
DESCRIPTION:
URL:https://laruesuspendue.fr/calendrier-event/couffouleux-aire-de-jeux-2/2027-11-02/
CATEGORIES:Ateliers de rue
END:VEVENT
BEGIN:VEVENT
DTSTART;TZID=Europe/Paris:20271102T181500
DTEND;TZID=Europe/Paris:20271102T200000
DTSTAMP:20260423T141620
CREATED:20250731T140605Z
LAST-MODIFIED:20250731T140605Z
UID:10000444-1825179300-1825185600@laruesuspendue.fr
SUMMARY:Cours de Yoga
DESCRIPTION:Sur inscription au 06 07 89 66 88 \navec Viviane
URL:https://laruesuspendue.fr/calendrier-event/cours-de-yoga/2027-11-02/
CATEGORIES:Cours de Yoga
END:VEVENT
BEGIN:VEVENT
DTSTART;TZID=Europe/Paris:20271103T090000
DTEND;TZID=Europe/Paris:20271103T123000
DTSTAMP:20260423T141620
CREATED:20250801T154507Z
LAST-MODIFIED:20250801T154906Z
UID:10000681-1825232400-1825245000@laruesuspendue.fr
SUMMARY:Permanence mission locale
DESCRIPTION:Tous les 1er mercredi du mois
URL:https://laruesuspendue.fr/calendrier-event/permanence-mission-locale-2/2027-11-03/
CATEGORIES:Permanence mission locale
END:VEVENT
BEGIN:VEVENT
DTSTART;TZID=Europe/Paris:20271103T100000
DTEND;TZID=Europe/Paris:20271103T120000
DTSTAMP:20260423T141620
CREATED:20260312T095033Z
LAST-MODIFIED:20260312T095033Z
UID:10003376-1825236000-1825243200@laruesuspendue.fr
SUMMARY:Permanence accès aux droits
DESCRIPTION:
URL:https://laruesuspendue.fr/calendrier-event/permanence-acces-aux-droits/2027-11-03/
END:VEVENT
BEGIN:VEVENT
DTSTART;TZID=Europe/Paris:20271103T140000
DTEND;TZID=Europe/Paris:20271103T153000
DTSTAMP:20260423T141620
CREATED:20250803T064624Z
LAST-MODIFIED:20260312T101533Z
UID:10001630-1825250400-1825255800@laruesuspendue.fr
SUMMARY:Ateliers de rue Couffouleux "Les moussoulars"
DESCRIPTION:au city
URL:https://laruesuspendue.fr/calendrier-event/couffouleux-les-moussoulars/2027-11-03/
CATEGORIES:Ateliers de rue
END:VEVENT
BEGIN:VEVENT
DTSTART;TZID=Europe/Paris:20271103T163000
DTEND;TZID=Europe/Paris:20271103T180000
DTSTAMP:20260423T141620
CREATED:20250803T064450Z
LAST-MODIFIED:20260312T101828Z
UID:10001364-1825259400-1825264800@laruesuspendue.fr
SUMMARY:Ateliers de rue Rabastens "La Briqueterie"
DESCRIPTION:
URL:https://laruesuspendue.fr/calendrier-event/rabastens-la-briqueterie/2027-11-03/
CATEGORIES:Ateliers de rue
END:VEVENT
BEGIN:VEVENT
DTSTART;TZID=Europe/Paris:20271104T100000
DTEND;TZID=Europe/Paris:20271104T120000
DTSTAMP:20260423T141620
CREATED:20260312T094322Z
LAST-MODIFIED:20260312T094322Z
UID:10002853-1825322400-1825329600@laruesuspendue.fr
SUMMARY:Le jeudi des petits
DESCRIPTION:Matinée libre ouverte aux parents avec enfants !
URL:https://laruesuspendue.fr/calendrier-event/le-jeudi-des-petits/2027-11-04/
END:VEVENT
BEGIN:VEVENT
DTSTART;TZID=Europe/Paris:20271104T163000
DTEND;TZID=Europe/Paris:20271104T180000
DTSTAMP:20260423T141620
CREATED:20260312T102108Z
LAST-MODIFIED:20260312T102108Z
UID:10003897-1825345800-1825351200@laruesuspendue.fr
SUMMARY:Atelier de rue Giroussens "Parc de l'école"
DESCRIPTION:
URL:https://laruesuspendue.fr/calendrier-event/atelier-de-rue-giroussens-parc-de-lecole/2027-11-04/
CATEGORIES:Ateliers de rue
END:VEVENT
BEGIN:VEVENT
DTSTART;TZID=Europe/Paris:20271105T163000
DTEND;TZID=Europe/Paris:20271105T180000
DTSTAMP:20260423T141620
CREATED:20250803T064730Z
LAST-MODIFIED:20250803T064912Z
UID:10001892-1825432200-1825437600@laruesuspendue.fr
SUMMARY:Ateliers de rue Rabastens "Parc du collège"
DESCRIPTION:
URL:https://laruesuspendue.fr/calendrier-event/rabastens-parc-du-college/2027-11-05/
CATEGORIES:Ateliers de rue
END:VEVENT
BEGIN:VEVENT
DTSTART;TZID=Europe/Paris:20271109T140000
DTEND;TZID=Europe/Paris:20271109T153000
DTSTAMP:20260423T141620
CREATED:20260312T094935Z
LAST-MODIFIED:20260312T094935Z
UID:10003116-1825768800-1825774200@laruesuspendue.fr
SUMMARY:Cours de FLE
DESCRIPTION:
URL:https://laruesuspendue.fr/calendrier-event/cours-de-fle/2027-11-09/
END:VEVENT
BEGIN:VEVENT
DTSTART;TZID=Europe/Paris:20271109T163000
DTEND;TZID=Europe/Paris:20271109T180000
DTSTAMP:20260423T141620
CREATED:20260205T095619Z
LAST-MODIFIED:20260312T101235Z
UID:10002576-1825777800-1825783200@laruesuspendue.fr
SUMMARY:Ateliers de rue Rabastens "Parc Constance"
DESCRIPTION:
URL:https://laruesuspendue.fr/calendrier-event/ateliers-de-rue-rabastens-parc-constance/2027-11-09/
LOCATION:Parc Constance\, Rabastens\, 81800
CATEGORIES:Ateliers de rue
END:VEVENT
END:VCALENDAR