BEGIN:VCALENDAR
VERSION:2.0
PRODID:-//La Rue Suspendue - ECPv6.15.20//NONSGML v1.0//EN
CALSCALE:GREGORIAN
METHOD:PUBLISH
X-WR-CALNAME:La Rue Suspendue
X-ORIGINAL-URL:https://laruesuspendue.fr
X-WR-CALDESC:Évènements pour La Rue Suspendue
REFRESH-INTERVAL;VALUE=DURATION:PT1H
X-Robots-Tag:noindex
X-PUBLISHED-TTL:PT1H
BEGIN:VTIMEZONE
TZID:Europe/Paris
BEGIN:DAYLIGHT
TZOFFSETFROM:+0100
TZOFFSETTO:+0200
TZNAME:CEST
DTSTART:20260329T010000
END:DAYLIGHT
BEGIN:STANDARD
TZOFFSETFROM:+0200
TZOFFSETTO:+0100
TZNAME:CET
DTSTART:20261025T010000
END:STANDARD
BEGIN:DAYLIGHT
TZOFFSETFROM:+0100
TZOFFSETTO:+0200
TZNAME:CEST
DTSTART:20270328T010000
END:DAYLIGHT
BEGIN:STANDARD
TZOFFSETFROM:+0200
TZOFFSETTO:+0100
TZNAME:CET
DTSTART:20271031T010000
END:STANDARD
BEGIN:DAYLIGHT
TZOFFSETFROM:+0100
TZOFFSETTO:+0200
TZNAME:CEST
DTSTART:20280326T010000
END:DAYLIGHT
BEGIN:STANDARD
TZOFFSETFROM:+0200
TZOFFSETTO:+0100
TZNAME:CET
DTSTART:20281029T010000
END:STANDARD
END:VTIMEZONE
BEGIN:VEVENT
DTSTART;TZID=Europe/Paris:20270917T100000
DTEND;TZID=Europe/Paris:20270917T120000
DTSTAMP:20260423T084814
CREATED:20260312T095624Z
LAST-MODIFIED:20260312T095624Z
UID:10003648-1821175200-1821182400@laruesuspendue.fr
SUMMARY:Scrabble et échecs
DESCRIPTION:avec Cheikh
URL:https://laruesuspendue.fr/calendrier-event/scrabble-et-echecs/2027-09-17/
END:VEVENT
BEGIN:VEVENT
DTSTART;TZID=Europe/Paris:20270917T163000
DTEND;TZID=Europe/Paris:20270917T180000
DTSTAMP:20260423T084814
CREATED:20250803T064730Z
LAST-MODIFIED:20250803T064912Z
UID:10001885-1821198600-1821204000@laruesuspendue.fr
SUMMARY:Ateliers de rue Rabastens "Parc du collège"
DESCRIPTION:
URL:https://laruesuspendue.fr/calendrier-event/rabastens-parc-du-college/2027-09-17/
CATEGORIES:Ateliers de rue
END:VEVENT
BEGIN:VEVENT
DTSTART;TZID=Europe/Paris:20270921T140000
DTEND;TZID=Europe/Paris:20270921T153000
DTSTAMP:20260423T084814
CREATED:20260312T094935Z
LAST-MODIFIED:20260312T094935Z
UID:10003109-1821535200-1821540600@laruesuspendue.fr
SUMMARY:Cours de FLE
DESCRIPTION:
URL:https://laruesuspendue.fr/calendrier-event/cours-de-fle/2027-09-21/
END:VEVENT
BEGIN:VEVENT
DTSTART;TZID=Europe/Paris:20270921T163000
DTEND;TZID=Europe/Paris:20270921T180000
DTSTAMP:20260423T084814
CREATED:20260205T095619Z
LAST-MODIFIED:20260312T101235Z
UID:10002569-1821544200-1821549600@laruesuspendue.fr
SUMMARY:Ateliers de rue Rabastens "Parc Constance"
DESCRIPTION:
URL:https://laruesuspendue.fr/calendrier-event/ateliers-de-rue-rabastens-parc-constance/2027-09-21/
LOCATION:Parc Constance\, Rabastens\, 81800
CATEGORIES:Ateliers de rue
END:VEVENT
BEGIN:VEVENT
DTSTART;TZID=Europe/Paris:20270921T163000
DTEND;TZID=Europe/Paris:20270921T180000
DTSTAMP:20260423T084814
CREATED:20260312T102410Z
LAST-MODIFIED:20260312T102415Z
UID:10004150-1821544200-1821549600@laruesuspendue.fr
SUMMARY:Ateliers de rue Couffouleux "Aire de jeux"
DESCRIPTION:
URL:https://laruesuspendue.fr/calendrier-event/couffouleux-aire-de-jeux-2/2027-09-21/
CATEGORIES:Ateliers de rue
END:VEVENT
BEGIN:VEVENT
DTSTART;TZID=Europe/Paris:20270921T181500
DTEND;TZID=Europe/Paris:20270921T200000
DTSTAMP:20260423T084814
CREATED:20250731T140605Z
LAST-MODIFIED:20250731T140605Z
UID:10000438-1821550500-1821556800@laruesuspendue.fr
SUMMARY:Cours de Yoga
DESCRIPTION:Sur inscription au 06 07 89 66 88 \navec Viviane
URL:https://laruesuspendue.fr/calendrier-event/cours-de-yoga/2027-09-21/
CATEGORIES:Cours de Yoga
END:VEVENT
BEGIN:VEVENT
DTSTART;TZID=Europe/Paris:20270922T100000
DTEND;TZID=Europe/Paris:20270922T120000
DTSTAMP:20260423T084814
CREATED:20260312T095033Z
LAST-MODIFIED:20260312T095033Z
UID:10003370-1821607200-1821614400@laruesuspendue.fr
SUMMARY:Permanence accès aux droits
DESCRIPTION:
URL:https://laruesuspendue.fr/calendrier-event/permanence-acces-aux-droits/2027-09-22/
END:VEVENT
BEGIN:VEVENT
DTSTART;TZID=Europe/Paris:20270922T140000
DTEND;TZID=Europe/Paris:20270922T153000
DTSTAMP:20260423T084814
CREATED:20250803T064624Z
LAST-MODIFIED:20260312T101533Z
UID:10001624-1821621600-1821627000@laruesuspendue.fr
SUMMARY:Ateliers de rue Couffouleux "Les moussoulars"
DESCRIPTION:au city
URL:https://laruesuspendue.fr/calendrier-event/couffouleux-les-moussoulars/2027-09-22/
CATEGORIES:Ateliers de rue
END:VEVENT
BEGIN:VEVENT
DTSTART;TZID=Europe/Paris:20270922T163000
DTEND;TZID=Europe/Paris:20270922T180000
DTSTAMP:20260423T084814
CREATED:20250803T064450Z
LAST-MODIFIED:20260312T101828Z
UID:10001358-1821630600-1821636000@laruesuspendue.fr
SUMMARY:Ateliers de rue Rabastens "La Briqueterie"
DESCRIPTION:
URL:https://laruesuspendue.fr/calendrier-event/rabastens-la-briqueterie/2027-09-22/
CATEGORIES:Ateliers de rue
END:VEVENT
BEGIN:VEVENT
DTSTART;TZID=Europe/Paris:20270923T100000
DTEND;TZID=Europe/Paris:20270923T120000
DTSTAMP:20260423T084814
CREATED:20260312T094322Z
LAST-MODIFIED:20260312T094322Z
UID:10002847-1821693600-1821700800@laruesuspendue.fr
SUMMARY:Le jeudi des petits
DESCRIPTION:Matinée libre ouverte aux parents avec enfants !
URL:https://laruesuspendue.fr/calendrier-event/le-jeudi-des-petits/2027-09-23/
END:VEVENT
BEGIN:VEVENT
DTSTART;TZID=Europe/Paris:20270923T163000
DTEND;TZID=Europe/Paris:20270923T180000
DTSTAMP:20260423T084814
CREATED:20260312T102108Z
LAST-MODIFIED:20260312T102108Z
UID:10003891-1821717000-1821722400@laruesuspendue.fr
SUMMARY:Atelier de rue Giroussens "Parc de l'école"
DESCRIPTION:
URL:https://laruesuspendue.fr/calendrier-event/atelier-de-rue-giroussens-parc-de-lecole/2027-09-23/
CATEGORIES:Ateliers de rue
END:VEVENT
BEGIN:VEVENT
DTSTART;TZID=Europe/Paris:20270924T163000
DTEND;TZID=Europe/Paris:20270924T180000
DTSTAMP:20260423T084814
CREATED:20250803T064730Z
LAST-MODIFIED:20250803T064912Z
UID:10001886-1821803400-1821808800@laruesuspendue.fr
SUMMARY:Ateliers de rue Rabastens "Parc du collège"
DESCRIPTION:
URL:https://laruesuspendue.fr/calendrier-event/rabastens-parc-du-college/2027-09-24/
CATEGORIES:Ateliers de rue
END:VEVENT
BEGIN:VEVENT
DTSTART;TZID=Europe/Paris:20270928T140000
DTEND;TZID=Europe/Paris:20270928T153000
DTSTAMP:20260423T084814
CREATED:20260312T094935Z
LAST-MODIFIED:20260312T094935Z
UID:10003110-1822140000-1822145400@laruesuspendue.fr
SUMMARY:Cours de FLE
DESCRIPTION:
URL:https://laruesuspendue.fr/calendrier-event/cours-de-fle/2027-09-28/
END:VEVENT
BEGIN:VEVENT
DTSTART;TZID=Europe/Paris:20270928T163000
DTEND;TZID=Europe/Paris:20270928T180000
DTSTAMP:20260423T084814
CREATED:20260205T095619Z
LAST-MODIFIED:20260312T101235Z
UID:10002570-1822149000-1822154400@laruesuspendue.fr
SUMMARY:Ateliers de rue Rabastens "Parc Constance"
DESCRIPTION:
URL:https://laruesuspendue.fr/calendrier-event/ateliers-de-rue-rabastens-parc-constance/2027-09-28/
LOCATION:Parc Constance\, Rabastens\, 81800
CATEGORIES:Ateliers de rue
END:VEVENT
BEGIN:VEVENT
DTSTART;TZID=Europe/Paris:20270928T163000
DTEND;TZID=Europe/Paris:20270928T180000
DTSTAMP:20260423T084814
CREATED:20260312T102410Z
LAST-MODIFIED:20260312T102415Z
UID:10004151-1822149000-1822154400@laruesuspendue.fr
SUMMARY:Ateliers de rue Couffouleux "Aire de jeux"
DESCRIPTION:
URL:https://laruesuspendue.fr/calendrier-event/couffouleux-aire-de-jeux-2/2027-09-28/
CATEGORIES:Ateliers de rue
END:VEVENT
BEGIN:VEVENT
DTSTART;TZID=Europe/Paris:20270928T181500
DTEND;TZID=Europe/Paris:20270928T200000
DTSTAMP:20260423T084814
CREATED:20250731T140605Z
LAST-MODIFIED:20250731T140605Z
UID:10000439-1822155300-1822161600@laruesuspendue.fr
SUMMARY:Cours de Yoga
DESCRIPTION:Sur inscription au 06 07 89 66 88 \navec Viviane
URL:https://laruesuspendue.fr/calendrier-event/cours-de-yoga/2027-09-28/
CATEGORIES:Cours de Yoga
END:VEVENT
BEGIN:VEVENT
DTSTART;TZID=Europe/Paris:20270929T100000
DTEND;TZID=Europe/Paris:20270929T120000
DTSTAMP:20260423T084814
CREATED:20260312T095033Z
LAST-MODIFIED:20260312T095033Z
UID:10003371-1822212000-1822219200@laruesuspendue.fr
SUMMARY:Permanence accès aux droits
DESCRIPTION:
URL:https://laruesuspendue.fr/calendrier-event/permanence-acces-aux-droits/2027-09-29/
END:VEVENT
BEGIN:VEVENT
DTSTART;TZID=Europe/Paris:20270929T140000
DTEND;TZID=Europe/Paris:20270929T153000
DTSTAMP:20260423T084814
CREATED:20250803T064624Z
LAST-MODIFIED:20260312T101533Z
UID:10001625-1822226400-1822231800@laruesuspendue.fr
SUMMARY:Ateliers de rue Couffouleux "Les moussoulars"
DESCRIPTION:au city
URL:https://laruesuspendue.fr/calendrier-event/couffouleux-les-moussoulars/2027-09-29/
CATEGORIES:Ateliers de rue
END:VEVENT
BEGIN:VEVENT
DTSTART;TZID=Europe/Paris:20270929T163000
DTEND;TZID=Europe/Paris:20270929T180000
DTSTAMP:20260423T084814
CREATED:20250803T064450Z
LAST-MODIFIED:20260312T101828Z
UID:10001359-1822235400-1822240800@laruesuspendue.fr
SUMMARY:Ateliers de rue Rabastens "La Briqueterie"
DESCRIPTION:
URL:https://laruesuspendue.fr/calendrier-event/rabastens-la-briqueterie/2027-09-29/
CATEGORIES:Ateliers de rue
END:VEVENT
BEGIN:VEVENT
DTSTART;TZID=Europe/Paris:20270930T100000
DTEND;TZID=Europe/Paris:20270930T120000
DTSTAMP:20260423T084814
CREATED:20260312T094322Z
LAST-MODIFIED:20260312T094322Z
UID:10002848-1822298400-1822305600@laruesuspendue.fr
SUMMARY:Le jeudi des petits
DESCRIPTION:Matinée libre ouverte aux parents avec enfants !
URL:https://laruesuspendue.fr/calendrier-event/le-jeudi-des-petits/2027-09-30/
END:VEVENT
BEGIN:VEVENT
DTSTART;TZID=Europe/Paris:20270930T163000
DTEND;TZID=Europe/Paris:20270930T180000
DTSTAMP:20260423T084814
CREATED:20260312T102108Z
LAST-MODIFIED:20260312T102108Z
UID:10003892-1822321800-1822327200@laruesuspendue.fr
SUMMARY:Atelier de rue Giroussens "Parc de l'école"
DESCRIPTION:
URL:https://laruesuspendue.fr/calendrier-event/atelier-de-rue-giroussens-parc-de-lecole/2027-09-30/
CATEGORIES:Ateliers de rue
END:VEVENT
BEGIN:VEVENT
DTSTART;TZID=Europe/Paris:20271001T100000
DTEND;TZID=Europe/Paris:20271001T120000
DTSTAMP:20260423T084814
CREATED:20260312T095624Z
LAST-MODIFIED:20260312T095624Z
UID:10003649-1822384800-1822392000@laruesuspendue.fr
SUMMARY:Scrabble et échecs
DESCRIPTION:avec Cheikh
URL:https://laruesuspendue.fr/calendrier-event/scrabble-et-echecs/2027-10-01/
END:VEVENT
BEGIN:VEVENT
DTSTART;TZID=Europe/Paris:20271001T163000
DTEND;TZID=Europe/Paris:20271001T180000
DTSTAMP:20260423T084814
CREATED:20250803T064730Z
LAST-MODIFIED:20250803T064912Z
UID:10001887-1822408200-1822413600@laruesuspendue.fr
SUMMARY:Ateliers de rue Rabastens "Parc du collège"
DESCRIPTION:
URL:https://laruesuspendue.fr/calendrier-event/rabastens-parc-du-college/2027-10-01/
CATEGORIES:Ateliers de rue
END:VEVENT
BEGIN:VEVENT
DTSTART;TZID=Europe/Paris:20271005T140000
DTEND;TZID=Europe/Paris:20271005T153000
DTSTAMP:20260423T084814
CREATED:20260312T094935Z
LAST-MODIFIED:20260312T094935Z
UID:10003111-1822744800-1822750200@laruesuspendue.fr
SUMMARY:Cours de FLE
DESCRIPTION:
URL:https://laruesuspendue.fr/calendrier-event/cours-de-fle/2027-10-05/
END:VEVENT
BEGIN:VEVENT
DTSTART;TZID=Europe/Paris:20271005T163000
DTEND;TZID=Europe/Paris:20271005T180000
DTSTAMP:20260423T084814
CREATED:20260205T095619Z
LAST-MODIFIED:20260312T101235Z
UID:10002571-1822753800-1822759200@laruesuspendue.fr
SUMMARY:Ateliers de rue Rabastens "Parc Constance"
DESCRIPTION:
URL:https://laruesuspendue.fr/calendrier-event/ateliers-de-rue-rabastens-parc-constance/2027-10-05/
LOCATION:Parc Constance\, Rabastens\, 81800
CATEGORIES:Ateliers de rue
END:VEVENT
BEGIN:VEVENT
DTSTART;TZID=Europe/Paris:20271005T163000
DTEND;TZID=Europe/Paris:20271005T180000
DTSTAMP:20260423T084814
CREATED:20260312T102410Z
LAST-MODIFIED:20260312T102415Z
UID:10004152-1822753800-1822759200@laruesuspendue.fr
SUMMARY:Ateliers de rue Couffouleux "Aire de jeux"
DESCRIPTION:
URL:https://laruesuspendue.fr/calendrier-event/couffouleux-aire-de-jeux-2/2027-10-05/
CATEGORIES:Ateliers de rue
END:VEVENT
BEGIN:VEVENT
DTSTART;TZID=Europe/Paris:20271005T181500
DTEND;TZID=Europe/Paris:20271005T200000
DTSTAMP:20260423T084814
CREATED:20250731T140605Z
LAST-MODIFIED:20250731T140605Z
UID:10000440-1822760100-1822766400@laruesuspendue.fr
SUMMARY:Cours de Yoga
DESCRIPTION:Sur inscription au 06 07 89 66 88 \navec Viviane
URL:https://laruesuspendue.fr/calendrier-event/cours-de-yoga/2027-10-05/
CATEGORIES:Cours de Yoga
END:VEVENT
BEGIN:VEVENT
DTSTART;TZID=Europe/Paris:20271006T090000
DTEND;TZID=Europe/Paris:20271006T123000
DTSTAMP:20260423T084814
CREATED:20250801T154507Z
LAST-MODIFIED:20250801T154906Z
UID:10000680-1822813200-1822825800@laruesuspendue.fr
SUMMARY:Permanence mission locale
DESCRIPTION:Tous les 1er mercredi du mois
URL:https://laruesuspendue.fr/calendrier-event/permanence-mission-locale-2/2027-10-06/
CATEGORIES:Permanence mission locale
END:VEVENT
BEGIN:VEVENT
DTSTART;TZID=Europe/Paris:20271006T100000
DTEND;TZID=Europe/Paris:20271006T120000
DTSTAMP:20260423T084814
CREATED:20260312T095033Z
LAST-MODIFIED:20260312T095033Z
UID:10003372-1822816800-1822824000@laruesuspendue.fr
SUMMARY:Permanence accès aux droits
DESCRIPTION:
URL:https://laruesuspendue.fr/calendrier-event/permanence-acces-aux-droits/2027-10-06/
END:VEVENT
BEGIN:VEVENT
DTSTART;TZID=Europe/Paris:20271006T140000
DTEND;TZID=Europe/Paris:20271006T153000
DTSTAMP:20260423T084814
CREATED:20250803T064624Z
LAST-MODIFIED:20260312T101533Z
UID:10001626-1822831200-1822836600@laruesuspendue.fr
SUMMARY:Ateliers de rue Couffouleux "Les moussoulars"
DESCRIPTION:au city
URL:https://laruesuspendue.fr/calendrier-event/couffouleux-les-moussoulars/2027-10-06/
CATEGORIES:Ateliers de rue
END:VEVENT
END:VCALENDAR