BEGIN:VCALENDAR
VERSION:2.0
PRODID:-//La Rue Suspendue - ECPv6.15.20//NONSGML v1.0//EN
CALSCALE:GREGORIAN
METHOD:PUBLISH
X-WR-CALNAME:La Rue Suspendue
X-ORIGINAL-URL:https://laruesuspendue.fr
X-WR-CALDESC:Évènements pour La Rue Suspendue
REFRESH-INTERVAL;VALUE=DURATION:PT1H
X-Robots-Tag:noindex
X-PUBLISHED-TTL:PT1H
BEGIN:VTIMEZONE
TZID:Europe/Paris
BEGIN:DAYLIGHT
TZOFFSETFROM:+0100
TZOFFSETTO:+0200
TZNAME:CEST
DTSTART:20260329T010000
END:DAYLIGHT
BEGIN:STANDARD
TZOFFSETFROM:+0200
TZOFFSETTO:+0100
TZNAME:CET
DTSTART:20261025T010000
END:STANDARD
BEGIN:DAYLIGHT
TZOFFSETFROM:+0100
TZOFFSETTO:+0200
TZNAME:CEST
DTSTART:20270328T010000
END:DAYLIGHT
BEGIN:STANDARD
TZOFFSETFROM:+0200
TZOFFSETTO:+0100
TZNAME:CET
DTSTART:20271031T010000
END:STANDARD
BEGIN:DAYLIGHT
TZOFFSETFROM:+0100
TZOFFSETTO:+0200
TZNAME:CEST
DTSTART:20280326T010000
END:DAYLIGHT
BEGIN:STANDARD
TZOFFSETFROM:+0200
TZOFFSETTO:+0100
TZNAME:CET
DTSTART:20281029T010000
END:STANDARD
END:VTIMEZONE
BEGIN:VEVENT
DTSTART;TZID=Europe/Paris:20270810T181500
DTEND;TZID=Europe/Paris:20270810T200000
DTSTAMP:20260423T015644
CREATED:20250731T140605Z
LAST-MODIFIED:20250731T140605Z
UID:10000432-1817921700-1817928000@laruesuspendue.fr
SUMMARY:Cours de Yoga
DESCRIPTION:Sur inscription au 06 07 89 66 88 \navec Viviane
URL:https://laruesuspendue.fr/calendrier-event/cours-de-yoga/2027-08-10/
CATEGORIES:Cours de Yoga
END:VEVENT
BEGIN:VEVENT
DTSTART;TZID=Europe/Paris:20270811T100000
DTEND;TZID=Europe/Paris:20270811T120000
DTSTAMP:20260423T015644
CREATED:20260312T095033Z
LAST-MODIFIED:20260312T095033Z
UID:10003364-1817978400-1817985600@laruesuspendue.fr
SUMMARY:Permanence accès aux droits
DESCRIPTION:
URL:https://laruesuspendue.fr/calendrier-event/permanence-acces-aux-droits/2027-08-11/
END:VEVENT
BEGIN:VEVENT
DTSTART;TZID=Europe/Paris:20270811T140000
DTEND;TZID=Europe/Paris:20270811T153000
DTSTAMP:20260423T015644
CREATED:20250803T064624Z
LAST-MODIFIED:20260312T101533Z
UID:10001618-1817992800-1817998200@laruesuspendue.fr
SUMMARY:Ateliers de rue Couffouleux "Les moussoulars"
DESCRIPTION:au city
URL:https://laruesuspendue.fr/calendrier-event/couffouleux-les-moussoulars/2027-08-11/
CATEGORIES:Ateliers de rue
END:VEVENT
BEGIN:VEVENT
DTSTART;TZID=Europe/Paris:20270811T163000
DTEND;TZID=Europe/Paris:20270811T180000
DTSTAMP:20260423T015644
CREATED:20250803T064450Z
LAST-MODIFIED:20260312T101828Z
UID:10001352-1818001800-1818007200@laruesuspendue.fr
SUMMARY:Ateliers de rue Rabastens "La Briqueterie"
DESCRIPTION:
URL:https://laruesuspendue.fr/calendrier-event/rabastens-la-briqueterie/2027-08-11/
CATEGORIES:Ateliers de rue
END:VEVENT
BEGIN:VEVENT
DTSTART;TZID=Europe/Paris:20270812T100000
DTEND;TZID=Europe/Paris:20270812T120000
DTSTAMP:20260423T015644
CREATED:20260312T094322Z
LAST-MODIFIED:20260312T094322Z
UID:10002841-1818064800-1818072000@laruesuspendue.fr
SUMMARY:Le jeudi des petits
DESCRIPTION:Matinée libre ouverte aux parents avec enfants !
URL:https://laruesuspendue.fr/calendrier-event/le-jeudi-des-petits/2027-08-12/
END:VEVENT
BEGIN:VEVENT
DTSTART;TZID=Europe/Paris:20270812T163000
DTEND;TZID=Europe/Paris:20270812T180000
DTSTAMP:20260423T015644
CREATED:20260312T102108Z
LAST-MODIFIED:20260312T102108Z
UID:10003885-1818088200-1818093600@laruesuspendue.fr
SUMMARY:Atelier de rue Giroussens "Parc de l'école"
DESCRIPTION:
URL:https://laruesuspendue.fr/calendrier-event/atelier-de-rue-giroussens-parc-de-lecole/2027-08-12/
CATEGORIES:Ateliers de rue
END:VEVENT
BEGIN:VEVENT
DTSTART;TZID=Europe/Paris:20270813T163000
DTEND;TZID=Europe/Paris:20270813T180000
DTSTAMP:20260423T015644
CREATED:20250803T064730Z
LAST-MODIFIED:20250803T064912Z
UID:10001880-1818174600-1818180000@laruesuspendue.fr
SUMMARY:Ateliers de rue Rabastens "Parc du collège"
DESCRIPTION:
URL:https://laruesuspendue.fr/calendrier-event/rabastens-parc-du-college/2027-08-13/
CATEGORIES:Ateliers de rue
END:VEVENT
BEGIN:VEVENT
DTSTART;TZID=Europe/Paris:20270817T140000
DTEND;TZID=Europe/Paris:20270817T153000
DTSTAMP:20260423T015644
CREATED:20260312T094935Z
LAST-MODIFIED:20260312T094935Z
UID:10003104-1818511200-1818516600@laruesuspendue.fr
SUMMARY:Cours de FLE
DESCRIPTION:
URL:https://laruesuspendue.fr/calendrier-event/cours-de-fle/2027-08-17/
END:VEVENT
BEGIN:VEVENT
DTSTART;TZID=Europe/Paris:20270817T163000
DTEND;TZID=Europe/Paris:20270817T180000
DTSTAMP:20260423T015644
CREATED:20260205T095619Z
LAST-MODIFIED:20260312T101235Z
UID:10002564-1818520200-1818525600@laruesuspendue.fr
SUMMARY:Ateliers de rue Rabastens "Parc Constance"
DESCRIPTION:
URL:https://laruesuspendue.fr/calendrier-event/ateliers-de-rue-rabastens-parc-constance/2027-08-17/
LOCATION:Parc Constance\, Rabastens\, 81800
CATEGORIES:Ateliers de rue
END:VEVENT
BEGIN:VEVENT
DTSTART;TZID=Europe/Paris:20270817T163000
DTEND;TZID=Europe/Paris:20270817T180000
DTSTAMP:20260423T015644
CREATED:20260312T102410Z
LAST-MODIFIED:20260312T102415Z
UID:10004145-1818520200-1818525600@laruesuspendue.fr
SUMMARY:Ateliers de rue Couffouleux "Aire de jeux"
DESCRIPTION:
URL:https://laruesuspendue.fr/calendrier-event/couffouleux-aire-de-jeux-2/2027-08-17/
CATEGORIES:Ateliers de rue
END:VEVENT
BEGIN:VEVENT
DTSTART;TZID=Europe/Paris:20270817T181500
DTEND;TZID=Europe/Paris:20270817T200000
DTSTAMP:20260423T015644
CREATED:20250731T140605Z
LAST-MODIFIED:20250731T140605Z
UID:10000433-1818526500-1818532800@laruesuspendue.fr
SUMMARY:Cours de Yoga
DESCRIPTION:Sur inscription au 06 07 89 66 88 \navec Viviane
URL:https://laruesuspendue.fr/calendrier-event/cours-de-yoga/2027-08-17/
CATEGORIES:Cours de Yoga
END:VEVENT
BEGIN:VEVENT
DTSTART;TZID=Europe/Paris:20270818T100000
DTEND;TZID=Europe/Paris:20270818T120000
DTSTAMP:20260423T015644
CREATED:20260312T095033Z
LAST-MODIFIED:20260312T095033Z
UID:10003365-1818583200-1818590400@laruesuspendue.fr
SUMMARY:Permanence accès aux droits
DESCRIPTION:
URL:https://laruesuspendue.fr/calendrier-event/permanence-acces-aux-droits/2027-08-18/
END:VEVENT
BEGIN:VEVENT
DTSTART;TZID=Europe/Paris:20270818T140000
DTEND;TZID=Europe/Paris:20270818T153000
DTSTAMP:20260423T015644
CREATED:20250803T064624Z
LAST-MODIFIED:20260312T101533Z
UID:10001619-1818597600-1818603000@laruesuspendue.fr
SUMMARY:Ateliers de rue Couffouleux "Les moussoulars"
DESCRIPTION:au city
URL:https://laruesuspendue.fr/calendrier-event/couffouleux-les-moussoulars/2027-08-18/
CATEGORIES:Ateliers de rue
END:VEVENT
BEGIN:VEVENT
DTSTART;TZID=Europe/Paris:20270818T163000
DTEND;TZID=Europe/Paris:20270818T180000
DTSTAMP:20260423T015644
CREATED:20250803T064450Z
LAST-MODIFIED:20260312T101828Z
UID:10001353-1818606600-1818612000@laruesuspendue.fr
SUMMARY:Ateliers de rue Rabastens "La Briqueterie"
DESCRIPTION:
URL:https://laruesuspendue.fr/calendrier-event/rabastens-la-briqueterie/2027-08-18/
CATEGORIES:Ateliers de rue
END:VEVENT
BEGIN:VEVENT
DTSTART;TZID=Europe/Paris:20270819T100000
DTEND;TZID=Europe/Paris:20270819T120000
DTSTAMP:20260423T015644
CREATED:20260312T094322Z
LAST-MODIFIED:20260312T094322Z
UID:10002842-1818669600-1818676800@laruesuspendue.fr
SUMMARY:Le jeudi des petits
DESCRIPTION:Matinée libre ouverte aux parents avec enfants !
URL:https://laruesuspendue.fr/calendrier-event/le-jeudi-des-petits/2027-08-19/
END:VEVENT
BEGIN:VEVENT
DTSTART;TZID=Europe/Paris:20270819T163000
DTEND;TZID=Europe/Paris:20270819T180000
DTSTAMP:20260423T015644
CREATED:20260312T102108Z
LAST-MODIFIED:20260312T102108Z
UID:10003886-1818693000-1818698400@laruesuspendue.fr
SUMMARY:Atelier de rue Giroussens "Parc de l'école"
DESCRIPTION:
URL:https://laruesuspendue.fr/calendrier-event/atelier-de-rue-giroussens-parc-de-lecole/2027-08-19/
CATEGORIES:Ateliers de rue
END:VEVENT
BEGIN:VEVENT
DTSTART;TZID=Europe/Paris:20270820T100000
DTEND;TZID=Europe/Paris:20270820T120000
DTSTAMP:20260423T015644
CREATED:20260312T095624Z
LAST-MODIFIED:20260312T095624Z
UID:10003646-1818756000-1818763200@laruesuspendue.fr
SUMMARY:Scrabble et échecs
DESCRIPTION:avec Cheikh
URL:https://laruesuspendue.fr/calendrier-event/scrabble-et-echecs/2027-08-20/
END:VEVENT
BEGIN:VEVENT
DTSTART;TZID=Europe/Paris:20270820T163000
DTEND;TZID=Europe/Paris:20270820T180000
DTSTAMP:20260423T015644
CREATED:20250803T064730Z
LAST-MODIFIED:20250803T064912Z
UID:10001881-1818779400-1818784800@laruesuspendue.fr
SUMMARY:Ateliers de rue Rabastens "Parc du collège"
DESCRIPTION:
URL:https://laruesuspendue.fr/calendrier-event/rabastens-parc-du-college/2027-08-20/
CATEGORIES:Ateliers de rue
END:VEVENT
BEGIN:VEVENT
DTSTART;TZID=Europe/Paris:20270824T140000
DTEND;TZID=Europe/Paris:20270824T153000
DTSTAMP:20260423T015644
CREATED:20260312T094935Z
LAST-MODIFIED:20260312T094935Z
UID:10003105-1819116000-1819121400@laruesuspendue.fr
SUMMARY:Cours de FLE
DESCRIPTION:
URL:https://laruesuspendue.fr/calendrier-event/cours-de-fle/2027-08-24/
END:VEVENT
BEGIN:VEVENT
DTSTART;TZID=Europe/Paris:20270824T163000
DTEND;TZID=Europe/Paris:20270824T180000
DTSTAMP:20260423T015644
CREATED:20260205T095619Z
LAST-MODIFIED:20260312T101235Z
UID:10002565-1819125000-1819130400@laruesuspendue.fr
SUMMARY:Ateliers de rue Rabastens "Parc Constance"
DESCRIPTION:
URL:https://laruesuspendue.fr/calendrier-event/ateliers-de-rue-rabastens-parc-constance/2027-08-24/
LOCATION:Parc Constance\, Rabastens\, 81800
CATEGORIES:Ateliers de rue
END:VEVENT
BEGIN:VEVENT
DTSTART;TZID=Europe/Paris:20270824T163000
DTEND;TZID=Europe/Paris:20270824T180000
DTSTAMP:20260423T015644
CREATED:20260312T102410Z
LAST-MODIFIED:20260312T102415Z
UID:10004146-1819125000-1819130400@laruesuspendue.fr
SUMMARY:Ateliers de rue Couffouleux "Aire de jeux"
DESCRIPTION:
URL:https://laruesuspendue.fr/calendrier-event/couffouleux-aire-de-jeux-2/2027-08-24/
CATEGORIES:Ateliers de rue
END:VEVENT
BEGIN:VEVENT
DTSTART;TZID=Europe/Paris:20270824T181500
DTEND;TZID=Europe/Paris:20270824T200000
DTSTAMP:20260423T015644
CREATED:20250731T140605Z
LAST-MODIFIED:20250731T140605Z
UID:10000434-1819131300-1819137600@laruesuspendue.fr
SUMMARY:Cours de Yoga
DESCRIPTION:Sur inscription au 06 07 89 66 88 \navec Viviane
URL:https://laruesuspendue.fr/calendrier-event/cours-de-yoga/2027-08-24/
CATEGORIES:Cours de Yoga
END:VEVENT
BEGIN:VEVENT
DTSTART;TZID=Europe/Paris:20270825T100000
DTEND;TZID=Europe/Paris:20270825T120000
DTSTAMP:20260423T015644
CREATED:20260312T095033Z
LAST-MODIFIED:20260312T095033Z
UID:10003366-1819188000-1819195200@laruesuspendue.fr
SUMMARY:Permanence accès aux droits
DESCRIPTION:
URL:https://laruesuspendue.fr/calendrier-event/permanence-acces-aux-droits/2027-08-25/
END:VEVENT
BEGIN:VEVENT
DTSTART;TZID=Europe/Paris:20270825T140000
DTEND;TZID=Europe/Paris:20270825T153000
DTSTAMP:20260423T015644
CREATED:20250803T064624Z
LAST-MODIFIED:20260312T101533Z
UID:10001620-1819202400-1819207800@laruesuspendue.fr
SUMMARY:Ateliers de rue Couffouleux "Les moussoulars"
DESCRIPTION:au city
URL:https://laruesuspendue.fr/calendrier-event/couffouleux-les-moussoulars/2027-08-25/
CATEGORIES:Ateliers de rue
END:VEVENT
BEGIN:VEVENT
DTSTART;TZID=Europe/Paris:20270825T163000
DTEND;TZID=Europe/Paris:20270825T180000
DTSTAMP:20260423T015644
CREATED:20250803T064450Z
LAST-MODIFIED:20260312T101828Z
UID:10001354-1819211400-1819216800@laruesuspendue.fr
SUMMARY:Ateliers de rue Rabastens "La Briqueterie"
DESCRIPTION:
URL:https://laruesuspendue.fr/calendrier-event/rabastens-la-briqueterie/2027-08-25/
CATEGORIES:Ateliers de rue
END:VEVENT
BEGIN:VEVENT
DTSTART;TZID=Europe/Paris:20270826T100000
DTEND;TZID=Europe/Paris:20270826T120000
DTSTAMP:20260423T015644
CREATED:20260312T094322Z
LAST-MODIFIED:20260312T094322Z
UID:10002843-1819274400-1819281600@laruesuspendue.fr
SUMMARY:Le jeudi des petits
DESCRIPTION:Matinée libre ouverte aux parents avec enfants !
URL:https://laruesuspendue.fr/calendrier-event/le-jeudi-des-petits/2027-08-26/
END:VEVENT
BEGIN:VEVENT
DTSTART;TZID=Europe/Paris:20270826T163000
DTEND;TZID=Europe/Paris:20270826T180000
DTSTAMP:20260423T015644
CREATED:20260312T102108Z
LAST-MODIFIED:20260312T102108Z
UID:10003887-1819297800-1819303200@laruesuspendue.fr
SUMMARY:Atelier de rue Giroussens "Parc de l'école"
DESCRIPTION:
URL:https://laruesuspendue.fr/calendrier-event/atelier-de-rue-giroussens-parc-de-lecole/2027-08-26/
CATEGORIES:Ateliers de rue
END:VEVENT
BEGIN:VEVENT
DTSTART;TZID=Europe/Paris:20270827T163000
DTEND;TZID=Europe/Paris:20270827T180000
DTSTAMP:20260423T015644
CREATED:20250803T064730Z
LAST-MODIFIED:20250803T064912Z
UID:10001882-1819384200-1819389600@laruesuspendue.fr
SUMMARY:Ateliers de rue Rabastens "Parc du collège"
DESCRIPTION:
URL:https://laruesuspendue.fr/calendrier-event/rabastens-parc-du-college/2027-08-27/
CATEGORIES:Ateliers de rue
END:VEVENT
BEGIN:VEVENT
DTSTART;TZID=Europe/Paris:20270831T140000
DTEND;TZID=Europe/Paris:20270831T153000
DTSTAMP:20260423T015644
CREATED:20260312T094935Z
LAST-MODIFIED:20260312T094935Z
UID:10003106-1819720800-1819726200@laruesuspendue.fr
SUMMARY:Cours de FLE
DESCRIPTION:
URL:https://laruesuspendue.fr/calendrier-event/cours-de-fle/2027-08-31/
END:VEVENT
BEGIN:VEVENT
DTSTART;TZID=Europe/Paris:20270831T163000
DTEND;TZID=Europe/Paris:20270831T180000
DTSTAMP:20260423T015644
CREATED:20260205T095619Z
LAST-MODIFIED:20260312T101235Z
UID:10002566-1819729800-1819735200@laruesuspendue.fr
SUMMARY:Ateliers de rue Rabastens "Parc Constance"
DESCRIPTION:
URL:https://laruesuspendue.fr/calendrier-event/ateliers-de-rue-rabastens-parc-constance/2027-08-31/
LOCATION:Parc Constance\, Rabastens\, 81800
CATEGORIES:Ateliers de rue
END:VEVENT
END:VCALENDAR