BEGIN:VCALENDAR
VERSION:2.0
PRODID:-//La Rue Suspendue - ECPv6.15.20//NONSGML v1.0//EN
CALSCALE:GREGORIAN
METHOD:PUBLISH
X-WR-CALNAME:La Rue Suspendue
X-ORIGINAL-URL:https://laruesuspendue.fr
X-WR-CALDESC:Évènements pour La Rue Suspendue
REFRESH-INTERVAL;VALUE=DURATION:PT1H
X-Robots-Tag:noindex
X-PUBLISHED-TTL:PT1H
BEGIN:VTIMEZONE
TZID:Europe/Paris
BEGIN:DAYLIGHT
TZOFFSETFROM:+0100
TZOFFSETTO:+0200
TZNAME:CEST
DTSTART:20260329T010000
END:DAYLIGHT
BEGIN:STANDARD
TZOFFSETFROM:+0200
TZOFFSETTO:+0100
TZNAME:CET
DTSTART:20261025T010000
END:STANDARD
BEGIN:DAYLIGHT
TZOFFSETFROM:+0100
TZOFFSETTO:+0200
TZNAME:CEST
DTSTART:20270328T010000
END:DAYLIGHT
BEGIN:STANDARD
TZOFFSETFROM:+0200
TZOFFSETTO:+0100
TZNAME:CET
DTSTART:20271031T010000
END:STANDARD
BEGIN:DAYLIGHT
TZOFFSETFROM:+0100
TZOFFSETTO:+0200
TZNAME:CEST
DTSTART:20280326T010000
END:DAYLIGHT
BEGIN:STANDARD
TZOFFSETFROM:+0200
TZOFFSETTO:+0100
TZNAME:CET
DTSTART:20281029T010000
END:STANDARD
END:VTIMEZONE
BEGIN:VEVENT
DTSTART;TZID=Europe/Paris:20270711T140000
DTEND;TZID=Europe/Paris:20270711T170000
DTSTAMP:20260422T195639
CREATED:20250803T065514Z
LAST-MODIFIED:20250803T065929Z
UID:10002182-1815314400-1815325200@laruesuspendue.fr
SUMMARY:Atelier de bicycletterie
DESCRIPTION:
URL:https://laruesuspendue.fr/calendrier-event/atelier-de-bicycletterie-2/2027-07-11/
CATEGORIES:Atelier bicycletterie
END:VEVENT
BEGIN:VEVENT
DTSTART;TZID=Europe/Paris:20270713T140000
DTEND;TZID=Europe/Paris:20270713T153000
DTSTAMP:20260422T195639
CREATED:20260312T094935Z
LAST-MODIFIED:20260312T094935Z
UID:10003099-1815487200-1815492600@laruesuspendue.fr
SUMMARY:Cours de FLE
DESCRIPTION:
URL:https://laruesuspendue.fr/calendrier-event/cours-de-fle/2027-07-13/
END:VEVENT
BEGIN:VEVENT
DTSTART;TZID=Europe/Paris:20270713T163000
DTEND;TZID=Europe/Paris:20270713T180000
DTSTAMP:20260422T195639
CREATED:20260205T095619Z
LAST-MODIFIED:20260312T101235Z
UID:10002559-1815496200-1815501600@laruesuspendue.fr
SUMMARY:Ateliers de rue Rabastens "Parc Constance"
DESCRIPTION:
URL:https://laruesuspendue.fr/calendrier-event/ateliers-de-rue-rabastens-parc-constance/2027-07-13/
LOCATION:Parc Constance\, Rabastens\, 81800
CATEGORIES:Ateliers de rue
END:VEVENT
BEGIN:VEVENT
DTSTART;TZID=Europe/Paris:20270713T163000
DTEND;TZID=Europe/Paris:20270713T180000
DTSTAMP:20260422T195639
CREATED:20260312T102410Z
LAST-MODIFIED:20260312T102415Z
UID:10004140-1815496200-1815501600@laruesuspendue.fr
SUMMARY:Ateliers de rue Couffouleux "Aire de jeux"
DESCRIPTION:
URL:https://laruesuspendue.fr/calendrier-event/couffouleux-aire-de-jeux-2/2027-07-13/
CATEGORIES:Ateliers de rue
END:VEVENT
BEGIN:VEVENT
DTSTART;TZID=Europe/Paris:20270713T181500
DTEND;TZID=Europe/Paris:20270713T200000
DTSTAMP:20260422T195639
CREATED:20250731T140605Z
LAST-MODIFIED:20250731T140605Z
UID:10000428-1815502500-1815508800@laruesuspendue.fr
SUMMARY:Cours de Yoga
DESCRIPTION:Sur inscription au 06 07 89 66 88 \navec Viviane
URL:https://laruesuspendue.fr/calendrier-event/cours-de-yoga/2027-07-13/
CATEGORIES:Cours de Yoga
END:VEVENT
BEGIN:VEVENT
DTSTART;TZID=Europe/Paris:20270714T100000
DTEND;TZID=Europe/Paris:20270714T120000
DTSTAMP:20260422T195639
CREATED:20260312T095033Z
LAST-MODIFIED:20260312T095033Z
UID:10003360-1815559200-1815566400@laruesuspendue.fr
SUMMARY:Permanence accès aux droits
DESCRIPTION:
URL:https://laruesuspendue.fr/calendrier-event/permanence-acces-aux-droits/2027-07-14/
END:VEVENT
BEGIN:VEVENT
DTSTART;TZID=Europe/Paris:20270714T140000
DTEND;TZID=Europe/Paris:20270714T153000
DTSTAMP:20260422T195639
CREATED:20250803T064624Z
LAST-MODIFIED:20260312T101533Z
UID:10001614-1815573600-1815579000@laruesuspendue.fr
SUMMARY:Ateliers de rue Couffouleux "Les moussoulars"
DESCRIPTION:au city
URL:https://laruesuspendue.fr/calendrier-event/couffouleux-les-moussoulars/2027-07-14/
CATEGORIES:Ateliers de rue
END:VEVENT
BEGIN:VEVENT
DTSTART;TZID=Europe/Paris:20270714T163000
DTEND;TZID=Europe/Paris:20270714T180000
DTSTAMP:20260422T195639
CREATED:20250803T064450Z
LAST-MODIFIED:20260312T101828Z
UID:10001348-1815582600-1815588000@laruesuspendue.fr
SUMMARY:Ateliers de rue Rabastens "La Briqueterie"
DESCRIPTION:
URL:https://laruesuspendue.fr/calendrier-event/rabastens-la-briqueterie/2027-07-14/
CATEGORIES:Ateliers de rue
END:VEVENT
BEGIN:VEVENT
DTSTART;TZID=Europe/Paris:20270715T100000
DTEND;TZID=Europe/Paris:20270715T120000
DTSTAMP:20260422T195639
CREATED:20260312T094322Z
LAST-MODIFIED:20260312T094322Z
UID:10002837-1815645600-1815652800@laruesuspendue.fr
SUMMARY:Le jeudi des petits
DESCRIPTION:Matinée libre ouverte aux parents avec enfants !
URL:https://laruesuspendue.fr/calendrier-event/le-jeudi-des-petits/2027-07-15/
END:VEVENT
BEGIN:VEVENT
DTSTART;TZID=Europe/Paris:20270715T163000
DTEND;TZID=Europe/Paris:20270715T180000
DTSTAMP:20260422T195639
CREATED:20260312T102108Z
LAST-MODIFIED:20260312T102108Z
UID:10003881-1815669000-1815674400@laruesuspendue.fr
SUMMARY:Atelier de rue Giroussens "Parc de l'école"
DESCRIPTION:
URL:https://laruesuspendue.fr/calendrier-event/atelier-de-rue-giroussens-parc-de-lecole/2027-07-15/
CATEGORIES:Ateliers de rue
END:VEVENT
BEGIN:VEVENT
DTSTART;TZID=Europe/Paris:20270716T163000
DTEND;TZID=Europe/Paris:20270716T180000
DTSTAMP:20260422T195639
CREATED:20250803T064730Z
LAST-MODIFIED:20250803T064912Z
UID:10001876-1815755400-1815760800@laruesuspendue.fr
SUMMARY:Ateliers de rue Rabastens "Parc du collège"
DESCRIPTION:
URL:https://laruesuspendue.fr/calendrier-event/rabastens-parc-du-college/2027-07-16/
CATEGORIES:Ateliers de rue
END:VEVENT
BEGIN:VEVENT
DTSTART;TZID=Europe/Paris:20270720T140000
DTEND;TZID=Europe/Paris:20270720T153000
DTSTAMP:20260422T195639
CREATED:20260312T094935Z
LAST-MODIFIED:20260312T094935Z
UID:10003100-1816092000-1816097400@laruesuspendue.fr
SUMMARY:Cours de FLE
DESCRIPTION:
URL:https://laruesuspendue.fr/calendrier-event/cours-de-fle/2027-07-20/
END:VEVENT
BEGIN:VEVENT
DTSTART;TZID=Europe/Paris:20270720T163000
DTEND;TZID=Europe/Paris:20270720T180000
DTSTAMP:20260422T195639
CREATED:20260205T095619Z
LAST-MODIFIED:20260312T101235Z
UID:10002560-1816101000-1816106400@laruesuspendue.fr
SUMMARY:Ateliers de rue Rabastens "Parc Constance"
DESCRIPTION:
URL:https://laruesuspendue.fr/calendrier-event/ateliers-de-rue-rabastens-parc-constance/2027-07-20/
LOCATION:Parc Constance\, Rabastens\, 81800
CATEGORIES:Ateliers de rue
END:VEVENT
BEGIN:VEVENT
DTSTART;TZID=Europe/Paris:20270720T163000
DTEND;TZID=Europe/Paris:20270720T180000
DTSTAMP:20260422T195639
CREATED:20260312T102410Z
LAST-MODIFIED:20260312T102415Z
UID:10004141-1816101000-1816106400@laruesuspendue.fr
SUMMARY:Ateliers de rue Couffouleux "Aire de jeux"
DESCRIPTION:
URL:https://laruesuspendue.fr/calendrier-event/couffouleux-aire-de-jeux-2/2027-07-20/
CATEGORIES:Ateliers de rue
END:VEVENT
BEGIN:VEVENT
DTSTART;TZID=Europe/Paris:20270720T181500
DTEND;TZID=Europe/Paris:20270720T200000
DTSTAMP:20260422T195639
CREATED:20250731T140605Z
LAST-MODIFIED:20250731T140605Z
UID:10000429-1816107300-1816113600@laruesuspendue.fr
SUMMARY:Cours de Yoga
DESCRIPTION:Sur inscription au 06 07 89 66 88 \navec Viviane
URL:https://laruesuspendue.fr/calendrier-event/cours-de-yoga/2027-07-20/
CATEGORIES:Cours de Yoga
END:VEVENT
BEGIN:VEVENT
DTSTART;TZID=Europe/Paris:20270721T100000
DTEND;TZID=Europe/Paris:20270721T120000
DTSTAMP:20260422T195639
CREATED:20260312T095033Z
LAST-MODIFIED:20260312T095033Z
UID:10003361-1816164000-1816171200@laruesuspendue.fr
SUMMARY:Permanence accès aux droits
DESCRIPTION:
URL:https://laruesuspendue.fr/calendrier-event/permanence-acces-aux-droits/2027-07-21/
END:VEVENT
BEGIN:VEVENT
DTSTART;TZID=Europe/Paris:20270721T140000
DTEND;TZID=Europe/Paris:20270721T153000
DTSTAMP:20260422T195639
CREATED:20250803T064624Z
LAST-MODIFIED:20260312T101533Z
UID:10001615-1816178400-1816183800@laruesuspendue.fr
SUMMARY:Ateliers de rue Couffouleux "Les moussoulars"
DESCRIPTION:au city
URL:https://laruesuspendue.fr/calendrier-event/couffouleux-les-moussoulars/2027-07-21/
CATEGORIES:Ateliers de rue
END:VEVENT
BEGIN:VEVENT
DTSTART;TZID=Europe/Paris:20270721T163000
DTEND;TZID=Europe/Paris:20270721T180000
DTSTAMP:20260422T195639
CREATED:20250803T064450Z
LAST-MODIFIED:20260312T101828Z
UID:10001349-1816187400-1816192800@laruesuspendue.fr
SUMMARY:Ateliers de rue Rabastens "La Briqueterie"
DESCRIPTION:
URL:https://laruesuspendue.fr/calendrier-event/rabastens-la-briqueterie/2027-07-21/
CATEGORIES:Ateliers de rue
END:VEVENT
BEGIN:VEVENT
DTSTART;TZID=Europe/Paris:20270722T100000
DTEND;TZID=Europe/Paris:20270722T120000
DTSTAMP:20260422T195639
CREATED:20260312T094322Z
LAST-MODIFIED:20260312T094322Z
UID:10002838-1816250400-1816257600@laruesuspendue.fr
SUMMARY:Le jeudi des petits
DESCRIPTION:Matinée libre ouverte aux parents avec enfants !
URL:https://laruesuspendue.fr/calendrier-event/le-jeudi-des-petits/2027-07-22/
END:VEVENT
BEGIN:VEVENT
DTSTART;TZID=Europe/Paris:20270722T163000
DTEND;TZID=Europe/Paris:20270722T180000
DTSTAMP:20260422T195639
CREATED:20260312T102108Z
LAST-MODIFIED:20260312T102108Z
UID:10003882-1816273800-1816279200@laruesuspendue.fr
SUMMARY:Atelier de rue Giroussens "Parc de l'école"
DESCRIPTION:
URL:https://laruesuspendue.fr/calendrier-event/atelier-de-rue-giroussens-parc-de-lecole/2027-07-22/
CATEGORIES:Ateliers de rue
END:VEVENT
BEGIN:VEVENT
DTSTART;TZID=Europe/Paris:20270723T100000
DTEND;TZID=Europe/Paris:20270723T120000
DTSTAMP:20260422T195639
CREATED:20260312T095624Z
LAST-MODIFIED:20260312T095624Z
UID:10003644-1816336800-1816344000@laruesuspendue.fr
SUMMARY:Scrabble et échecs
DESCRIPTION:avec Cheikh
URL:https://laruesuspendue.fr/calendrier-event/scrabble-et-echecs/2027-07-23/
END:VEVENT
BEGIN:VEVENT
DTSTART;TZID=Europe/Paris:20270723T163000
DTEND;TZID=Europe/Paris:20270723T180000
DTSTAMP:20260422T195639
CREATED:20250803T064730Z
LAST-MODIFIED:20250803T064912Z
UID:10001877-1816360200-1816365600@laruesuspendue.fr
SUMMARY:Ateliers de rue Rabastens "Parc du collège"
DESCRIPTION:
URL:https://laruesuspendue.fr/calendrier-event/rabastens-parc-du-college/2027-07-23/
CATEGORIES:Ateliers de rue
END:VEVENT
BEGIN:VEVENT
DTSTART;TZID=Europe/Paris:20270727T140000
DTEND;TZID=Europe/Paris:20270727T153000
DTSTAMP:20260422T195639
CREATED:20260312T094935Z
LAST-MODIFIED:20260312T094935Z
UID:10003101-1816696800-1816702200@laruesuspendue.fr
SUMMARY:Cours de FLE
DESCRIPTION:
URL:https://laruesuspendue.fr/calendrier-event/cours-de-fle/2027-07-27/
END:VEVENT
BEGIN:VEVENT
DTSTART;TZID=Europe/Paris:20270727T163000
DTEND;TZID=Europe/Paris:20270727T180000
DTSTAMP:20260422T195639
CREATED:20260205T095619Z
LAST-MODIFIED:20260312T101235Z
UID:10002561-1816705800-1816711200@laruesuspendue.fr
SUMMARY:Ateliers de rue Rabastens "Parc Constance"
DESCRIPTION:
URL:https://laruesuspendue.fr/calendrier-event/ateliers-de-rue-rabastens-parc-constance/2027-07-27/
LOCATION:Parc Constance\, Rabastens\, 81800
CATEGORIES:Ateliers de rue
END:VEVENT
BEGIN:VEVENT
DTSTART;TZID=Europe/Paris:20270727T163000
DTEND;TZID=Europe/Paris:20270727T180000
DTSTAMP:20260422T195639
CREATED:20260312T102410Z
LAST-MODIFIED:20260312T102415Z
UID:10004142-1816705800-1816711200@laruesuspendue.fr
SUMMARY:Ateliers de rue Couffouleux "Aire de jeux"
DESCRIPTION:
URL:https://laruesuspendue.fr/calendrier-event/couffouleux-aire-de-jeux-2/2027-07-27/
CATEGORIES:Ateliers de rue
END:VEVENT
BEGIN:VEVENT
DTSTART;TZID=Europe/Paris:20270727T181500
DTEND;TZID=Europe/Paris:20270727T200000
DTSTAMP:20260422T195639
CREATED:20250731T140605Z
LAST-MODIFIED:20250731T140605Z
UID:10000430-1816712100-1816718400@laruesuspendue.fr
SUMMARY:Cours de Yoga
DESCRIPTION:Sur inscription au 06 07 89 66 88 \navec Viviane
URL:https://laruesuspendue.fr/calendrier-event/cours-de-yoga/2027-07-27/
CATEGORIES:Cours de Yoga
END:VEVENT
BEGIN:VEVENT
DTSTART;TZID=Europe/Paris:20270728T100000
DTEND;TZID=Europe/Paris:20270728T120000
DTSTAMP:20260422T195639
CREATED:20260312T095033Z
LAST-MODIFIED:20260312T095033Z
UID:10003362-1816768800-1816776000@laruesuspendue.fr
SUMMARY:Permanence accès aux droits
DESCRIPTION:
URL:https://laruesuspendue.fr/calendrier-event/permanence-acces-aux-droits/2027-07-28/
END:VEVENT
BEGIN:VEVENT
DTSTART;TZID=Europe/Paris:20270728T140000
DTEND;TZID=Europe/Paris:20270728T153000
DTSTAMP:20260422T195639
CREATED:20250803T064624Z
LAST-MODIFIED:20260312T101533Z
UID:10001616-1816783200-1816788600@laruesuspendue.fr
SUMMARY:Ateliers de rue Couffouleux "Les moussoulars"
DESCRIPTION:au city
URL:https://laruesuspendue.fr/calendrier-event/couffouleux-les-moussoulars/2027-07-28/
CATEGORIES:Ateliers de rue
END:VEVENT
BEGIN:VEVENT
DTSTART;TZID=Europe/Paris:20270728T163000
DTEND;TZID=Europe/Paris:20270728T180000
DTSTAMP:20260422T195639
CREATED:20250803T064450Z
LAST-MODIFIED:20260312T101828Z
UID:10001350-1816792200-1816797600@laruesuspendue.fr
SUMMARY:Ateliers de rue Rabastens "La Briqueterie"
DESCRIPTION:
URL:https://laruesuspendue.fr/calendrier-event/rabastens-la-briqueterie/2027-07-28/
CATEGORIES:Ateliers de rue
END:VEVENT
BEGIN:VEVENT
DTSTART;TZID=Europe/Paris:20270729T100000
DTEND;TZID=Europe/Paris:20270729T120000
DTSTAMP:20260422T195639
CREATED:20260312T094322Z
LAST-MODIFIED:20260312T094322Z
UID:10002839-1816855200-1816862400@laruesuspendue.fr
SUMMARY:Le jeudi des petits
DESCRIPTION:Matinée libre ouverte aux parents avec enfants !
URL:https://laruesuspendue.fr/calendrier-event/le-jeudi-des-petits/2027-07-29/
END:VEVENT
END:VCALENDAR