BEGIN:VCALENDAR
VERSION:2.0
PRODID:-//La Rue Suspendue - ECPv6.15.20//NONSGML v1.0//EN
CALSCALE:GREGORIAN
METHOD:PUBLISH
X-WR-CALNAME:La Rue Suspendue
X-ORIGINAL-URL:https://laruesuspendue.fr
X-WR-CALDESC:Évènements pour La Rue Suspendue
REFRESH-INTERVAL;VALUE=DURATION:PT1H
X-Robots-Tag:noindex
X-PUBLISHED-TTL:PT1H
BEGIN:VTIMEZONE
TZID:Europe/Paris
BEGIN:DAYLIGHT
TZOFFSETFROM:+0100
TZOFFSETTO:+0200
TZNAME:CEST
DTSTART:20260329T010000
END:DAYLIGHT
BEGIN:STANDARD
TZOFFSETFROM:+0200
TZOFFSETTO:+0100
TZNAME:CET
DTSTART:20261025T010000
END:STANDARD
BEGIN:DAYLIGHT
TZOFFSETFROM:+0100
TZOFFSETTO:+0200
TZNAME:CEST
DTSTART:20270328T010000
END:DAYLIGHT
BEGIN:STANDARD
TZOFFSETFROM:+0200
TZOFFSETTO:+0100
TZNAME:CET
DTSTART:20271031T010000
END:STANDARD
BEGIN:DAYLIGHT
TZOFFSETFROM:+0100
TZOFFSETTO:+0200
TZNAME:CEST
DTSTART:20280326T010000
END:DAYLIGHT
BEGIN:STANDARD
TZOFFSETFROM:+0200
TZOFFSETTO:+0100
TZNAME:CET
DTSTART:20281029T010000
END:STANDARD
END:VTIMEZONE
BEGIN:VEVENT
DTSTART;TZID=Europe/Paris:20270616T140000
DTEND;TZID=Europe/Paris:20270616T153000
DTSTAMP:20260422T155026
CREATED:20250803T064624Z
LAST-MODIFIED:20260312T101533Z
UID:10001610-1813154400-1813159800@laruesuspendue.fr
SUMMARY:Ateliers de rue Couffouleux "Les moussoulars"
DESCRIPTION:au city
URL:https://laruesuspendue.fr/calendrier-event/couffouleux-les-moussoulars/2027-06-16/
CATEGORIES:Ateliers de rue
END:VEVENT
BEGIN:VEVENT
DTSTART;TZID=Europe/Paris:20270616T163000
DTEND;TZID=Europe/Paris:20270616T180000
DTSTAMP:20260422T155026
CREATED:20250803T064450Z
LAST-MODIFIED:20260312T101828Z
UID:10001344-1813163400-1813168800@laruesuspendue.fr
SUMMARY:Ateliers de rue Rabastens "La Briqueterie"
DESCRIPTION:
URL:https://laruesuspendue.fr/calendrier-event/rabastens-la-briqueterie/2027-06-16/
CATEGORIES:Ateliers de rue
END:VEVENT
BEGIN:VEVENT
DTSTART;TZID=Europe/Paris:20270617T100000
DTEND;TZID=Europe/Paris:20270617T120000
DTSTAMP:20260422T155026
CREATED:20260312T094322Z
LAST-MODIFIED:20260312T094322Z
UID:10002833-1813226400-1813233600@laruesuspendue.fr
SUMMARY:Le jeudi des petits
DESCRIPTION:Matinée libre ouverte aux parents avec enfants !
URL:https://laruesuspendue.fr/calendrier-event/le-jeudi-des-petits/2027-06-17/
END:VEVENT
BEGIN:VEVENT
DTSTART;TZID=Europe/Paris:20270617T163000
DTEND;TZID=Europe/Paris:20270617T180000
DTSTAMP:20260422T155026
CREATED:20260312T102108Z
LAST-MODIFIED:20260312T102108Z
UID:10003877-1813249800-1813255200@laruesuspendue.fr
SUMMARY:Atelier de rue Giroussens "Parc de l'école"
DESCRIPTION:
URL:https://laruesuspendue.fr/calendrier-event/atelier-de-rue-giroussens-parc-de-lecole/2027-06-17/
CATEGORIES:Ateliers de rue
END:VEVENT
BEGIN:VEVENT
DTSTART;TZID=Europe/Paris:20270618T163000
DTEND;TZID=Europe/Paris:20270618T180000
DTSTAMP:20260422T155026
CREATED:20250803T064730Z
LAST-MODIFIED:20250803T064912Z
UID:10001872-1813336200-1813341600@laruesuspendue.fr
SUMMARY:Ateliers de rue Rabastens "Parc du collège"
DESCRIPTION:
URL:https://laruesuspendue.fr/calendrier-event/rabastens-parc-du-college/2027-06-18/
CATEGORIES:Ateliers de rue
END:VEVENT
BEGIN:VEVENT
DTSTART;TZID=Europe/Paris:20270622T140000
DTEND;TZID=Europe/Paris:20270622T153000
DTSTAMP:20260422T155026
CREATED:20260312T094935Z
LAST-MODIFIED:20260312T094935Z
UID:10003096-1813672800-1813678200@laruesuspendue.fr
SUMMARY:Cours de FLE
DESCRIPTION:
URL:https://laruesuspendue.fr/calendrier-event/cours-de-fle/2027-06-22/
END:VEVENT
BEGIN:VEVENT
DTSTART;TZID=Europe/Paris:20270622T163000
DTEND;TZID=Europe/Paris:20270622T180000
DTSTAMP:20260422T155026
CREATED:20260205T095619Z
LAST-MODIFIED:20260312T101235Z
UID:10002556-1813681800-1813687200@laruesuspendue.fr
SUMMARY:Ateliers de rue Rabastens "Parc Constance"
DESCRIPTION:
URL:https://laruesuspendue.fr/calendrier-event/ateliers-de-rue-rabastens-parc-constance/2027-06-22/
LOCATION:Parc Constance\, Rabastens\, 81800
CATEGORIES:Ateliers de rue
END:VEVENT
BEGIN:VEVENT
DTSTART;TZID=Europe/Paris:20270622T163000
DTEND;TZID=Europe/Paris:20270622T180000
DTSTAMP:20260422T155026
CREATED:20260312T102410Z
LAST-MODIFIED:20260312T102415Z
UID:10004137-1813681800-1813687200@laruesuspendue.fr
SUMMARY:Ateliers de rue Couffouleux "Aire de jeux"
DESCRIPTION:
URL:https://laruesuspendue.fr/calendrier-event/couffouleux-aire-de-jeux-2/2027-06-22/
CATEGORIES:Ateliers de rue
END:VEVENT
BEGIN:VEVENT
DTSTART;TZID=Europe/Paris:20270622T181500
DTEND;TZID=Europe/Paris:20270622T200000
DTSTAMP:20260422T155026
CREATED:20250731T140605Z
LAST-MODIFIED:20250731T140605Z
UID:10000425-1813688100-1813694400@laruesuspendue.fr
SUMMARY:Cours de Yoga
DESCRIPTION:Sur inscription au 06 07 89 66 88 \navec Viviane
URL:https://laruesuspendue.fr/calendrier-event/cours-de-yoga/2027-06-22/
CATEGORIES:Cours de Yoga
END:VEVENT
BEGIN:VEVENT
DTSTART;TZID=Europe/Paris:20270623T100000
DTEND;TZID=Europe/Paris:20270623T120000
DTSTAMP:20260422T155026
CREATED:20260312T095033Z
LAST-MODIFIED:20260312T095033Z
UID:10003357-1813744800-1813752000@laruesuspendue.fr
SUMMARY:Permanence accès aux droits
DESCRIPTION:
URL:https://laruesuspendue.fr/calendrier-event/permanence-acces-aux-droits/2027-06-23/
END:VEVENT
BEGIN:VEVENT
DTSTART;TZID=Europe/Paris:20270623T140000
DTEND;TZID=Europe/Paris:20270623T153000
DTSTAMP:20260422T155026
CREATED:20250803T064624Z
LAST-MODIFIED:20260312T101533Z
UID:10001611-1813759200-1813764600@laruesuspendue.fr
SUMMARY:Ateliers de rue Couffouleux "Les moussoulars"
DESCRIPTION:au city
URL:https://laruesuspendue.fr/calendrier-event/couffouleux-les-moussoulars/2027-06-23/
CATEGORIES:Ateliers de rue
END:VEVENT
BEGIN:VEVENT
DTSTART;TZID=Europe/Paris:20270623T163000
DTEND;TZID=Europe/Paris:20270623T180000
DTSTAMP:20260422T155026
CREATED:20250803T064450Z
LAST-MODIFIED:20260312T101828Z
UID:10001345-1813768200-1813773600@laruesuspendue.fr
SUMMARY:Ateliers de rue Rabastens "La Briqueterie"
DESCRIPTION:
URL:https://laruesuspendue.fr/calendrier-event/rabastens-la-briqueterie/2027-06-23/
CATEGORIES:Ateliers de rue
END:VEVENT
BEGIN:VEVENT
DTSTART;TZID=Europe/Paris:20270624T100000
DTEND;TZID=Europe/Paris:20270624T120000
DTSTAMP:20260422T155026
CREATED:20260312T094322Z
LAST-MODIFIED:20260312T094322Z
UID:10002834-1813831200-1813838400@laruesuspendue.fr
SUMMARY:Le jeudi des petits
DESCRIPTION:Matinée libre ouverte aux parents avec enfants !
URL:https://laruesuspendue.fr/calendrier-event/le-jeudi-des-petits/2027-06-24/
END:VEVENT
BEGIN:VEVENT
DTSTART;TZID=Europe/Paris:20270624T163000
DTEND;TZID=Europe/Paris:20270624T180000
DTSTAMP:20260422T155026
CREATED:20260312T102108Z
LAST-MODIFIED:20260312T102108Z
UID:10003878-1813854600-1813860000@laruesuspendue.fr
SUMMARY:Atelier de rue Giroussens "Parc de l'école"
DESCRIPTION:
URL:https://laruesuspendue.fr/calendrier-event/atelier-de-rue-giroussens-parc-de-lecole/2027-06-24/
CATEGORIES:Ateliers de rue
END:VEVENT
BEGIN:VEVENT
DTSTART;TZID=Europe/Paris:20270625T100000
DTEND;TZID=Europe/Paris:20270625T120000
DTSTAMP:20260422T155026
CREATED:20260312T095624Z
LAST-MODIFIED:20260312T095624Z
UID:10003642-1813917600-1813924800@laruesuspendue.fr
SUMMARY:Scrabble et échecs
DESCRIPTION:avec Cheikh
URL:https://laruesuspendue.fr/calendrier-event/scrabble-et-echecs/2027-06-25/
END:VEVENT
BEGIN:VEVENT
DTSTART;TZID=Europe/Paris:20270625T163000
DTEND;TZID=Europe/Paris:20270625T180000
DTSTAMP:20260422T155026
CREATED:20250803T064730Z
LAST-MODIFIED:20250803T064912Z
UID:10001873-1813941000-1813946400@laruesuspendue.fr
SUMMARY:Ateliers de rue Rabastens "Parc du collège"
DESCRIPTION:
URL:https://laruesuspendue.fr/calendrier-event/rabastens-parc-du-college/2027-06-25/
CATEGORIES:Ateliers de rue
END:VEVENT
BEGIN:VEVENT
DTSTART;TZID=Europe/Paris:20270629T140000
DTEND;TZID=Europe/Paris:20270629T153000
DTSTAMP:20260422T155026
CREATED:20260312T094935Z
LAST-MODIFIED:20260312T094935Z
UID:10003097-1814277600-1814283000@laruesuspendue.fr
SUMMARY:Cours de FLE
DESCRIPTION:
URL:https://laruesuspendue.fr/calendrier-event/cours-de-fle/2027-06-29/
END:VEVENT
BEGIN:VEVENT
DTSTART;TZID=Europe/Paris:20270629T163000
DTEND;TZID=Europe/Paris:20270629T180000
DTSTAMP:20260422T155026
CREATED:20260205T095619Z
LAST-MODIFIED:20260312T101235Z
UID:10002557-1814286600-1814292000@laruesuspendue.fr
SUMMARY:Ateliers de rue Rabastens "Parc Constance"
DESCRIPTION:
URL:https://laruesuspendue.fr/calendrier-event/ateliers-de-rue-rabastens-parc-constance/2027-06-29/
LOCATION:Parc Constance\, Rabastens\, 81800
CATEGORIES:Ateliers de rue
END:VEVENT
BEGIN:VEVENT
DTSTART;TZID=Europe/Paris:20270629T163000
DTEND;TZID=Europe/Paris:20270629T180000
DTSTAMP:20260422T155026
CREATED:20260312T102410Z
LAST-MODIFIED:20260312T102415Z
UID:10004138-1814286600-1814292000@laruesuspendue.fr
SUMMARY:Ateliers de rue Couffouleux "Aire de jeux"
DESCRIPTION:
URL:https://laruesuspendue.fr/calendrier-event/couffouleux-aire-de-jeux-2/2027-06-29/
CATEGORIES:Ateliers de rue
END:VEVENT
BEGIN:VEVENT
DTSTART;TZID=Europe/Paris:20270629T181500
DTEND;TZID=Europe/Paris:20270629T200000
DTSTAMP:20260422T155026
CREATED:20250731T140605Z
LAST-MODIFIED:20250731T140605Z
UID:10000426-1814292900-1814299200@laruesuspendue.fr
SUMMARY:Cours de Yoga
DESCRIPTION:Sur inscription au 06 07 89 66 88 \navec Viviane
URL:https://laruesuspendue.fr/calendrier-event/cours-de-yoga/2027-06-29/
CATEGORIES:Cours de Yoga
END:VEVENT
BEGIN:VEVENT
DTSTART;TZID=Europe/Paris:20270630T100000
DTEND;TZID=Europe/Paris:20270630T120000
DTSTAMP:20260422T155026
CREATED:20260312T095033Z
LAST-MODIFIED:20260312T095033Z
UID:10003358-1814349600-1814356800@laruesuspendue.fr
SUMMARY:Permanence accès aux droits
DESCRIPTION:
URL:https://laruesuspendue.fr/calendrier-event/permanence-acces-aux-droits/2027-06-30/
END:VEVENT
BEGIN:VEVENT
DTSTART;TZID=Europe/Paris:20270630T140000
DTEND;TZID=Europe/Paris:20270630T153000
DTSTAMP:20260422T155026
CREATED:20250803T064624Z
LAST-MODIFIED:20260312T101533Z
UID:10001612-1814364000-1814369400@laruesuspendue.fr
SUMMARY:Ateliers de rue Couffouleux "Les moussoulars"
DESCRIPTION:au city
URL:https://laruesuspendue.fr/calendrier-event/couffouleux-les-moussoulars/2027-06-30/
CATEGORIES:Ateliers de rue
END:VEVENT
BEGIN:VEVENT
DTSTART;TZID=Europe/Paris:20270630T163000
DTEND;TZID=Europe/Paris:20270630T180000
DTSTAMP:20260422T155026
CREATED:20250803T064450Z
LAST-MODIFIED:20260312T101828Z
UID:10001346-1814373000-1814378400@laruesuspendue.fr
SUMMARY:Ateliers de rue Rabastens "La Briqueterie"
DESCRIPTION:
URL:https://laruesuspendue.fr/calendrier-event/rabastens-la-briqueterie/2027-06-30/
CATEGORIES:Ateliers de rue
END:VEVENT
BEGIN:VEVENT
DTSTART;TZID=Europe/Paris:20270701T100000
DTEND;TZID=Europe/Paris:20270701T120000
DTSTAMP:20260422T155026
CREATED:20260312T094322Z
LAST-MODIFIED:20260312T094322Z
UID:10002835-1814436000-1814443200@laruesuspendue.fr
SUMMARY:Le jeudi des petits
DESCRIPTION:Matinée libre ouverte aux parents avec enfants !
URL:https://laruesuspendue.fr/calendrier-event/le-jeudi-des-petits/2027-07-01/
END:VEVENT
BEGIN:VEVENT
DTSTART;TZID=Europe/Paris:20270701T163000
DTEND;TZID=Europe/Paris:20270701T180000
DTSTAMP:20260422T155026
CREATED:20260312T102108Z
LAST-MODIFIED:20260312T102108Z
UID:10003879-1814459400-1814464800@laruesuspendue.fr
SUMMARY:Atelier de rue Giroussens "Parc de l'école"
DESCRIPTION:
URL:https://laruesuspendue.fr/calendrier-event/atelier-de-rue-giroussens-parc-de-lecole/2027-07-01/
CATEGORIES:Ateliers de rue
END:VEVENT
BEGIN:VEVENT
DTSTART;TZID=Europe/Paris:20270702T163000
DTEND;TZID=Europe/Paris:20270702T180000
DTSTAMP:20260422T155026
CREATED:20250803T064730Z
LAST-MODIFIED:20250803T064912Z
UID:10001874-1814545800-1814551200@laruesuspendue.fr
SUMMARY:Ateliers de rue Rabastens "Parc du collège"
DESCRIPTION:
URL:https://laruesuspendue.fr/calendrier-event/rabastens-parc-du-college/2027-07-02/
CATEGORIES:Ateliers de rue
END:VEVENT
BEGIN:VEVENT
DTSTART;TZID=Europe/Paris:20270706T140000
DTEND;TZID=Europe/Paris:20270706T153000
DTSTAMP:20260422T155026
CREATED:20260312T094935Z
LAST-MODIFIED:20260312T094935Z
UID:10003098-1814882400-1814887800@laruesuspendue.fr
SUMMARY:Cours de FLE
DESCRIPTION:
URL:https://laruesuspendue.fr/calendrier-event/cours-de-fle/2027-07-06/
END:VEVENT
BEGIN:VEVENT
DTSTART;TZID=Europe/Paris:20270706T163000
DTEND;TZID=Europe/Paris:20270706T180000
DTSTAMP:20260422T155026
CREATED:20260205T095619Z
LAST-MODIFIED:20260312T101235Z
UID:10002558-1814891400-1814896800@laruesuspendue.fr
SUMMARY:Ateliers de rue Rabastens "Parc Constance"
DESCRIPTION:
URL:https://laruesuspendue.fr/calendrier-event/ateliers-de-rue-rabastens-parc-constance/2027-07-06/
LOCATION:Parc Constance\, Rabastens\, 81800
CATEGORIES:Ateliers de rue
END:VEVENT
BEGIN:VEVENT
DTSTART;TZID=Europe/Paris:20270706T163000
DTEND;TZID=Europe/Paris:20270706T180000
DTSTAMP:20260422T155026
CREATED:20260312T102410Z
LAST-MODIFIED:20260312T102415Z
UID:10004139-1814891400-1814896800@laruesuspendue.fr
SUMMARY:Ateliers de rue Couffouleux "Aire de jeux"
DESCRIPTION:
URL:https://laruesuspendue.fr/calendrier-event/couffouleux-aire-de-jeux-2/2027-07-06/
CATEGORIES:Ateliers de rue
END:VEVENT
BEGIN:VEVENT
DTSTART;TZID=Europe/Paris:20270706T181500
DTEND;TZID=Europe/Paris:20270706T200000
DTSTAMP:20260422T155026
CREATED:20250731T140605Z
LAST-MODIFIED:20250731T140605Z
UID:10000427-1814897700-1814904000@laruesuspendue.fr
SUMMARY:Cours de Yoga
DESCRIPTION:Sur inscription au 06 07 89 66 88 \navec Viviane
URL:https://laruesuspendue.fr/calendrier-event/cours-de-yoga/2027-07-06/
CATEGORIES:Cours de Yoga
END:VEVENT
END:VCALENDAR