BEGIN:VCALENDAR
VERSION:2.0
PRODID:-//La Rue Suspendue - ECPv6.15.20//NONSGML v1.0//EN
CALSCALE:GREGORIAN
METHOD:PUBLISH
X-ORIGINAL-URL:https://laruesuspendue.fr
X-WR-CALDESC:Évènements pour La Rue Suspendue
REFRESH-INTERVAL;VALUE=DURATION:PT1H
X-Robots-Tag:noindex
X-PUBLISHED-TTL:PT1H
BEGIN:VTIMEZONE
TZID:Europe/Paris
BEGIN:DAYLIGHT
TZOFFSETFROM:+0100
TZOFFSETTO:+0200
TZNAME:CEST
DTSTART:20270328T010000
END:DAYLIGHT
BEGIN:STANDARD
TZOFFSETFROM:+0200
TZOFFSETTO:+0100
TZNAME:CET
DTSTART:20271031T010000
END:STANDARD
BEGIN:DAYLIGHT
TZOFFSETFROM:+0100
TZOFFSETTO:+0200
TZNAME:CEST
DTSTART:20280326T010000
END:DAYLIGHT
BEGIN:STANDARD
TZOFFSETFROM:+0200
TZOFFSETTO:+0100
TZNAME:CET
DTSTART:20281029T010000
END:STANDARD
BEGIN:DAYLIGHT
TZOFFSETFROM:+0100
TZOFFSETTO:+0200
TZNAME:CEST
DTSTART:20290325T010000
END:DAYLIGHT
BEGIN:STANDARD
TZOFFSETFROM:+0200
TZOFFSETTO:+0100
TZNAME:CET
DTSTART:20291028T010000
END:STANDARD
END:VTIMEZONE
BEGIN:VEVENT
DTSTART;TZID=Europe/Paris:20281012T100000
DTEND;TZID=Europe/Paris:20281012T120000
DTSTAMP:20260426T045310
CREATED:20260312T094322Z
LAST-MODIFIED:20260312T094322Z
UID:10002902-1854957600-1854964800@laruesuspendue.fr
SUMMARY:Le jeudi des petits
DESCRIPTION:Matinée libre ouverte aux parents avec enfants !
URL:https://laruesuspendue.fr/calendrier-event/le-jeudi-des-petits/2028-10-12/
END:VEVENT
BEGIN:VEVENT
DTSTART;TZID=Europe/Paris:20281012T163000
DTEND;TZID=Europe/Paris:20281012T180000
DTSTAMP:20260426T045310
CREATED:20260312T102108Z
LAST-MODIFIED:20260312T102108Z
UID:10003946-1854981000-1854986400@laruesuspendue.fr
SUMMARY:Atelier de rue Giroussens "Parc de l'école"
DESCRIPTION:
URL:https://laruesuspendue.fr/calendrier-event/atelier-de-rue-giroussens-parc-de-lecole/2028-10-12/
CATEGORIES:Ateliers de rue
END:VEVENT
BEGIN:VEVENT
DTSTART;TZID=Europe/Paris:20281013T100000
DTEND;TZID=Europe/Paris:20281013T120000
DTSTAMP:20260426T045310
CREATED:20260312T095624Z
LAST-MODIFIED:20260312T095624Z
UID:10003676-1855044000-1855051200@laruesuspendue.fr
SUMMARY:Scrabble et échecs
DESCRIPTION:avec Cheikh
URL:https://laruesuspendue.fr/calendrier-event/scrabble-et-echecs/2028-10-13/
END:VEVENT
BEGIN:VEVENT
DTSTART;TZID=Europe/Paris:20281013T163000
DTEND;TZID=Europe/Paris:20281013T180000
DTSTAMP:20260426T045310
CREATED:20250803T064730Z
LAST-MODIFIED:20250803T064912Z
UID:10001941-1855067400-1855072800@laruesuspendue.fr
SUMMARY:Ateliers de rue Rabastens "Parc du collège"
DESCRIPTION:
URL:https://laruesuspendue.fr/calendrier-event/rabastens-parc-du-college/2028-10-13/
CATEGORIES:Ateliers de rue
END:VEVENT
BEGIN:VEVENT
DTSTART;TZID=Europe/Paris:20281017T140000
DTEND;TZID=Europe/Paris:20281017T153000
DTSTAMP:20260426T045310
CREATED:20260312T094935Z
LAST-MODIFIED:20260312T094935Z
UID:10003165-1855404000-1855409400@laruesuspendue.fr
SUMMARY:Cours de FLE
DESCRIPTION:
URL:https://laruesuspendue.fr/calendrier-event/cours-de-fle/2028-10-17/
END:VEVENT
BEGIN:VEVENT
DTSTART;TZID=Europe/Paris:20281017T163000
DTEND;TZID=Europe/Paris:20281017T180000
DTSTAMP:20260426T045310
CREATED:20260205T095619Z
LAST-MODIFIED:20260312T101235Z
UID:10002625-1855413000-1855418400@laruesuspendue.fr
SUMMARY:Ateliers de rue Rabastens "Parc Constance"
DESCRIPTION:
URL:https://laruesuspendue.fr/calendrier-event/ateliers-de-rue-rabastens-parc-constance/2028-10-17/
LOCATION:Parc Constance\, Rabastens\, 81800
CATEGORIES:Ateliers de rue
END:VEVENT
BEGIN:VEVENT
DTSTART;TZID=Europe/Paris:20281017T163000
DTEND;TZID=Europe/Paris:20281017T180000
DTSTAMP:20260426T045310
CREATED:20260312T102410Z
LAST-MODIFIED:20260312T102415Z
UID:10004206-1855413000-1855418400@laruesuspendue.fr
SUMMARY:Ateliers de rue Couffouleux "Aire de jeux"
DESCRIPTION:
URL:https://laruesuspendue.fr/calendrier-event/couffouleux-aire-de-jeux-2/2028-10-17/
CATEGORIES:Ateliers de rue
END:VEVENT
BEGIN:VEVENT
DTSTART;TZID=Europe/Paris:20281017T181500
DTEND;TZID=Europe/Paris:20281017T200000
DTSTAMP:20260426T045310
CREATED:20250731T140605Z
LAST-MODIFIED:20250731T140605Z
UID:10000494-1855419300-1855425600@laruesuspendue.fr
SUMMARY:Cours de Yoga
DESCRIPTION:Sur inscription au 06 07 89 66 88 \navec Viviane
URL:https://laruesuspendue.fr/calendrier-event/cours-de-yoga/2028-10-17/
CATEGORIES:Cours de Yoga
END:VEVENT
BEGIN:VEVENT
DTSTART;TZID=Europe/Paris:20281018T100000
DTEND;TZID=Europe/Paris:20281018T120000
DTSTAMP:20260426T045310
CREATED:20260312T095033Z
LAST-MODIFIED:20260312T095033Z
UID:10003426-1855476000-1855483200@laruesuspendue.fr
SUMMARY:Permanence accès aux droits
DESCRIPTION:
URL:https://laruesuspendue.fr/calendrier-event/permanence-acces-aux-droits/2028-10-18/
END:VEVENT
BEGIN:VEVENT
DTSTART;TZID=Europe/Paris:20281018T140000
DTEND;TZID=Europe/Paris:20281018T153000
DTSTAMP:20260426T045310
CREATED:20250803T064624Z
LAST-MODIFIED:20260312T101533Z
UID:10001680-1855490400-1855495800@laruesuspendue.fr
SUMMARY:Ateliers de rue Couffouleux "Les moussoulars"
DESCRIPTION:au city
URL:https://laruesuspendue.fr/calendrier-event/couffouleux-les-moussoulars/2028-10-18/
CATEGORIES:Ateliers de rue
END:VEVENT
BEGIN:VEVENT
DTSTART;TZID=Europe/Paris:20281018T163000
DTEND;TZID=Europe/Paris:20281018T180000
DTSTAMP:20260426T045310
CREATED:20250803T064450Z
LAST-MODIFIED:20260312T101828Z
UID:10001414-1855499400-1855504800@laruesuspendue.fr
SUMMARY:Ateliers de rue Rabastens "La Briqueterie"
DESCRIPTION:
URL:https://laruesuspendue.fr/calendrier-event/rabastens-la-briqueterie/2028-10-18/
CATEGORIES:Ateliers de rue
END:VEVENT
BEGIN:VEVENT
DTSTART;TZID=Europe/Paris:20281019T100000
DTEND;TZID=Europe/Paris:20281019T120000
DTSTAMP:20260426T045310
CREATED:20260312T094322Z
LAST-MODIFIED:20260312T094322Z
UID:10002903-1855562400-1855569600@laruesuspendue.fr
SUMMARY:Le jeudi des petits
DESCRIPTION:Matinée libre ouverte aux parents avec enfants !
URL:https://laruesuspendue.fr/calendrier-event/le-jeudi-des-petits/2028-10-19/
END:VEVENT
BEGIN:VEVENT
DTSTART;TZID=Europe/Paris:20281019T163000
DTEND;TZID=Europe/Paris:20281019T180000
DTSTAMP:20260426T045310
CREATED:20260312T102108Z
LAST-MODIFIED:20260312T102108Z
UID:10003947-1855585800-1855591200@laruesuspendue.fr
SUMMARY:Atelier de rue Giroussens "Parc de l'école"
DESCRIPTION:
URL:https://laruesuspendue.fr/calendrier-event/atelier-de-rue-giroussens-parc-de-lecole/2028-10-19/
CATEGORIES:Ateliers de rue
END:VEVENT
BEGIN:VEVENT
DTSTART;TZID=Europe/Paris:20281020T163000
DTEND;TZID=Europe/Paris:20281020T180000
DTSTAMP:20260426T045310
CREATED:20250803T064730Z
LAST-MODIFIED:20250803T064912Z
UID:10001942-1855672200-1855677600@laruesuspendue.fr
SUMMARY:Ateliers de rue Rabastens "Parc du collège"
DESCRIPTION:
URL:https://laruesuspendue.fr/calendrier-event/rabastens-parc-du-college/2028-10-20/
CATEGORIES:Ateliers de rue
END:VEVENT
BEGIN:VEVENT
DTSTART;TZID=Europe/Paris:20281024T140000
DTEND;TZID=Europe/Paris:20281024T153000
DTSTAMP:20260426T045310
CREATED:20260312T094935Z
LAST-MODIFIED:20260312T094935Z
UID:10003166-1856008800-1856014200@laruesuspendue.fr
SUMMARY:Cours de FLE
DESCRIPTION:
URL:https://laruesuspendue.fr/calendrier-event/cours-de-fle/2028-10-24/
END:VEVENT
BEGIN:VEVENT
DTSTART;TZID=Europe/Paris:20281024T163000
DTEND;TZID=Europe/Paris:20281024T180000
DTSTAMP:20260426T045310
CREATED:20260205T095619Z
LAST-MODIFIED:20260312T101235Z
UID:10002626-1856017800-1856023200@laruesuspendue.fr
SUMMARY:Ateliers de rue Rabastens "Parc Constance"
DESCRIPTION:
URL:https://laruesuspendue.fr/calendrier-event/ateliers-de-rue-rabastens-parc-constance/2028-10-24/
LOCATION:Parc Constance\, Rabastens\, 81800
CATEGORIES:Ateliers de rue
END:VEVENT
BEGIN:VEVENT
DTSTART;TZID=Europe/Paris:20281024T163000
DTEND;TZID=Europe/Paris:20281024T180000
DTSTAMP:20260426T045310
CREATED:20260312T102410Z
LAST-MODIFIED:20260312T102415Z
UID:10004207-1856017800-1856023200@laruesuspendue.fr
SUMMARY:Ateliers de rue Couffouleux "Aire de jeux"
DESCRIPTION:
URL:https://laruesuspendue.fr/calendrier-event/couffouleux-aire-de-jeux-2/2028-10-24/
CATEGORIES:Ateliers de rue
END:VEVENT
BEGIN:VEVENT
DTSTART;TZID=Europe/Paris:20281024T181500
DTEND;TZID=Europe/Paris:20281024T200000
DTSTAMP:20260426T045310
CREATED:20250731T140605Z
LAST-MODIFIED:20250731T140605Z
UID:10000495-1856024100-1856030400@laruesuspendue.fr
SUMMARY:Cours de Yoga
DESCRIPTION:Sur inscription au 06 07 89 66 88 \navec Viviane
URL:https://laruesuspendue.fr/calendrier-event/cours-de-yoga/2028-10-24/
CATEGORIES:Cours de Yoga
END:VEVENT
BEGIN:VEVENT
DTSTART;TZID=Europe/Paris:20281025T100000
DTEND;TZID=Europe/Paris:20281025T120000
DTSTAMP:20260426T045310
CREATED:20260312T095033Z
LAST-MODIFIED:20260312T095033Z
UID:10003427-1856080800-1856088000@laruesuspendue.fr
SUMMARY:Permanence accès aux droits
DESCRIPTION:
URL:https://laruesuspendue.fr/calendrier-event/permanence-acces-aux-droits/2028-10-25/
END:VEVENT
BEGIN:VEVENT
DTSTART;TZID=Europe/Paris:20281025T140000
DTEND;TZID=Europe/Paris:20281025T153000
DTSTAMP:20260426T045310
CREATED:20250803T064624Z
LAST-MODIFIED:20260312T101533Z
UID:10001681-1856095200-1856100600@laruesuspendue.fr
SUMMARY:Ateliers de rue Couffouleux "Les moussoulars"
DESCRIPTION:au city
URL:https://laruesuspendue.fr/calendrier-event/couffouleux-les-moussoulars/2028-10-25/
CATEGORIES:Ateliers de rue
END:VEVENT
BEGIN:VEVENT
DTSTART;TZID=Europe/Paris:20281025T163000
DTEND;TZID=Europe/Paris:20281025T180000
DTSTAMP:20260426T045310
CREATED:20250803T064450Z
LAST-MODIFIED:20260312T101828Z
UID:10001415-1856104200-1856109600@laruesuspendue.fr
SUMMARY:Ateliers de rue Rabastens "La Briqueterie"
DESCRIPTION:
URL:https://laruesuspendue.fr/calendrier-event/rabastens-la-briqueterie/2028-10-25/
CATEGORIES:Ateliers de rue
END:VEVENT
BEGIN:VEVENT
DTSTART;TZID=Europe/Paris:20281026T100000
DTEND;TZID=Europe/Paris:20281026T120000
DTSTAMP:20260426T045310
CREATED:20260312T094322Z
LAST-MODIFIED:20260312T094322Z
UID:10002904-1856167200-1856174400@laruesuspendue.fr
SUMMARY:Le jeudi des petits
DESCRIPTION:Matinée libre ouverte aux parents avec enfants !
URL:https://laruesuspendue.fr/calendrier-event/le-jeudi-des-petits/2028-10-26/
END:VEVENT
BEGIN:VEVENT
DTSTART;TZID=Europe/Paris:20281026T163000
DTEND;TZID=Europe/Paris:20281026T180000
DTSTAMP:20260426T045310
CREATED:20260312T102108Z
LAST-MODIFIED:20260312T102108Z
UID:10003948-1856190600-1856196000@laruesuspendue.fr
SUMMARY:Atelier de rue Giroussens "Parc de l'école"
DESCRIPTION:
URL:https://laruesuspendue.fr/calendrier-event/atelier-de-rue-giroussens-parc-de-lecole/2028-10-26/
CATEGORIES:Ateliers de rue
END:VEVENT
BEGIN:VEVENT
DTSTART;TZID=Europe/Paris:20281027T100000
DTEND;TZID=Europe/Paris:20281027T120000
DTSTAMP:20260426T045310
CREATED:20260312T095624Z
LAST-MODIFIED:20260312T095624Z
UID:10003677-1856253600-1856260800@laruesuspendue.fr
SUMMARY:Scrabble et échecs
DESCRIPTION:avec Cheikh
URL:https://laruesuspendue.fr/calendrier-event/scrabble-et-echecs/2028-10-27/
END:VEVENT
BEGIN:VEVENT
DTSTART;TZID=Europe/Paris:20281027T163000
DTEND;TZID=Europe/Paris:20281027T180000
DTSTAMP:20260426T045310
CREATED:20250803T064730Z
LAST-MODIFIED:20250803T064912Z
UID:10001943-1856277000-1856282400@laruesuspendue.fr
SUMMARY:Ateliers de rue Rabastens "Parc du collège"
DESCRIPTION:
URL:https://laruesuspendue.fr/calendrier-event/rabastens-parc-du-college/2028-10-27/
CATEGORIES:Ateliers de rue
END:VEVENT
BEGIN:VEVENT
DTSTART;TZID=Europe/Paris:20281031T140000
DTEND;TZID=Europe/Paris:20281031T153000
DTSTAMP:20260426T045310
CREATED:20260312T094935Z
LAST-MODIFIED:20260312T094935Z
UID:10003167-1856613600-1856619000@laruesuspendue.fr
SUMMARY:Cours de FLE
DESCRIPTION:
URL:https://laruesuspendue.fr/calendrier-event/cours-de-fle/2028-10-31/
END:VEVENT
BEGIN:VEVENT
DTSTART;TZID=Europe/Paris:20281031T163000
DTEND;TZID=Europe/Paris:20281031T180000
DTSTAMP:20260426T045310
CREATED:20260205T095619Z
LAST-MODIFIED:20260312T101235Z
UID:10002627-1856622600-1856628000@laruesuspendue.fr
SUMMARY:Ateliers de rue Rabastens "Parc Constance"
DESCRIPTION:
URL:https://laruesuspendue.fr/calendrier-event/ateliers-de-rue-rabastens-parc-constance/2028-10-31/
LOCATION:Parc Constance\, Rabastens\, 81800
CATEGORIES:Ateliers de rue
END:VEVENT
BEGIN:VEVENT
DTSTART;TZID=Europe/Paris:20281031T163000
DTEND;TZID=Europe/Paris:20281031T180000
DTSTAMP:20260426T045310
CREATED:20260312T102410Z
LAST-MODIFIED:20260312T102415Z
UID:10004208-1856622600-1856628000@laruesuspendue.fr
SUMMARY:Ateliers de rue Couffouleux "Aire de jeux"
DESCRIPTION:
URL:https://laruesuspendue.fr/calendrier-event/couffouleux-aire-de-jeux-2/2028-10-31/
CATEGORIES:Ateliers de rue
END:VEVENT
BEGIN:VEVENT
DTSTART;TZID=Europe/Paris:20281031T181500
DTEND;TZID=Europe/Paris:20281031T200000
DTSTAMP:20260426T045310
CREATED:20250731T140605Z
LAST-MODIFIED:20250731T140605Z
UID:10000496-1856628900-1856635200@laruesuspendue.fr
SUMMARY:Cours de Yoga
DESCRIPTION:Sur inscription au 06 07 89 66 88 \navec Viviane
URL:https://laruesuspendue.fr/calendrier-event/cours-de-yoga/2028-10-31/
CATEGORIES:Cours de Yoga
END:VEVENT
BEGIN:VEVENT
DTSTART;TZID=Europe/Paris:20281101T090000
DTEND;TZID=Europe/Paris:20281101T123000
DTSTAMP:20260426T045310
CREATED:20250801T154507Z
LAST-MODIFIED:20250801T154906Z
UID:10000693-1856682000-1856694600@laruesuspendue.fr
SUMMARY:Permanence mission locale
DESCRIPTION:Tous les 1er mercredi du mois
URL:https://laruesuspendue.fr/calendrier-event/permanence-mission-locale-2/2028-11-01/
CATEGORIES:Permanence mission locale
END:VEVENT
END:VCALENDAR