BEGIN:VCALENDAR
VERSION:2.0
PRODID:-//La Rue Suspendue - ECPv6.15.20//NONSGML v1.0//EN
CALSCALE:GREGORIAN
METHOD:PUBLISH
X-WR-CALNAME:La Rue Suspendue
X-ORIGINAL-URL:https://laruesuspendue.fr
X-WR-CALDESC:Évènements pour La Rue Suspendue
REFRESH-INTERVAL;VALUE=DURATION:PT1H
X-Robots-Tag:noindex
X-PUBLISHED-TTL:PT1H
BEGIN:VTIMEZONE
TZID:Europe/Paris
BEGIN:DAYLIGHT
TZOFFSETFROM:+0100
TZOFFSETTO:+0200
TZNAME:CEST
DTSTART:20270328T010000
END:DAYLIGHT
BEGIN:STANDARD
TZOFFSETFROM:+0200
TZOFFSETTO:+0100
TZNAME:CET
DTSTART:20271031T010000
END:STANDARD
BEGIN:DAYLIGHT
TZOFFSETFROM:+0100
TZOFFSETTO:+0200
TZNAME:CEST
DTSTART:20280326T010000
END:DAYLIGHT
BEGIN:STANDARD
TZOFFSETFROM:+0200
TZOFFSETTO:+0100
TZNAME:CET
DTSTART:20281029T010000
END:STANDARD
BEGIN:DAYLIGHT
TZOFFSETFROM:+0100
TZOFFSETTO:+0200
TZNAME:CEST
DTSTART:20290325T010000
END:DAYLIGHT
BEGIN:STANDARD
TZOFFSETFROM:+0200
TZOFFSETTO:+0100
TZNAME:CET
DTSTART:20291028T010000
END:STANDARD
END:VTIMEZONE
BEGIN:VEVENT
DTSTART;TZID=Europe/Paris:20280813T140000
DTEND;TZID=Europe/Paris:20280813T170000
DTSTAMP:20260425T174401
CREATED:20250803T065514Z
LAST-MODIFIED:20250803T065929Z
UID:10002195-1849788000-1849798800@laruesuspendue.fr
SUMMARY:Atelier de bicycletterie
DESCRIPTION:
URL:https://laruesuspendue.fr/calendrier-event/atelier-de-bicycletterie-2/2028-08-13/
CATEGORIES:Atelier bicycletterie
END:VEVENT
BEGIN:VEVENT
DTSTART;TZID=Europe/Paris:20280815T140000
DTEND;TZID=Europe/Paris:20280815T153000
DTSTAMP:20260425T174401
CREATED:20260312T094935Z
LAST-MODIFIED:20260312T094935Z
UID:10003156-1849960800-1849966200@laruesuspendue.fr
SUMMARY:Cours de FLE
DESCRIPTION:
URL:https://laruesuspendue.fr/calendrier-event/cours-de-fle/2028-08-15/
END:VEVENT
BEGIN:VEVENT
DTSTART;TZID=Europe/Paris:20280815T163000
DTEND;TZID=Europe/Paris:20280815T180000
DTSTAMP:20260425T174401
CREATED:20260205T095619Z
LAST-MODIFIED:20260312T101235Z
UID:10002616-1849969800-1849975200@laruesuspendue.fr
SUMMARY:Ateliers de rue Rabastens "Parc Constance"
DESCRIPTION:
URL:https://laruesuspendue.fr/calendrier-event/ateliers-de-rue-rabastens-parc-constance/2028-08-15/
LOCATION:Parc Constance\, Rabastens\, 81800
CATEGORIES:Ateliers de rue
END:VEVENT
BEGIN:VEVENT
DTSTART;TZID=Europe/Paris:20280815T163000
DTEND;TZID=Europe/Paris:20280815T180000
DTSTAMP:20260425T174401
CREATED:20260312T102410Z
LAST-MODIFIED:20260312T102415Z
UID:10004197-1849969800-1849975200@laruesuspendue.fr
SUMMARY:Ateliers de rue Couffouleux "Aire de jeux"
DESCRIPTION:
URL:https://laruesuspendue.fr/calendrier-event/couffouleux-aire-de-jeux-2/2028-08-15/
CATEGORIES:Ateliers de rue
END:VEVENT
BEGIN:VEVENT
DTSTART;TZID=Europe/Paris:20280815T181500
DTEND;TZID=Europe/Paris:20280815T200000
DTSTAMP:20260425T174401
CREATED:20250731T140605Z
LAST-MODIFIED:20250731T140605Z
UID:10000485-1849976100-1849982400@laruesuspendue.fr
SUMMARY:Cours de Yoga
DESCRIPTION:Sur inscription au 06 07 89 66 88 \navec Viviane
URL:https://laruesuspendue.fr/calendrier-event/cours-de-yoga/2028-08-15/
CATEGORIES:Cours de Yoga
END:VEVENT
BEGIN:VEVENT
DTSTART;TZID=Europe/Paris:20280816T100000
DTEND;TZID=Europe/Paris:20280816T120000
DTSTAMP:20260425T174401
CREATED:20260312T095033Z
LAST-MODIFIED:20260312T095033Z
UID:10003417-1850032800-1850040000@laruesuspendue.fr
SUMMARY:Permanence accès aux droits
DESCRIPTION:
URL:https://laruesuspendue.fr/calendrier-event/permanence-acces-aux-droits/2028-08-16/
END:VEVENT
BEGIN:VEVENT
DTSTART;TZID=Europe/Paris:20280816T140000
DTEND;TZID=Europe/Paris:20280816T153000
DTSTAMP:20260425T174401
CREATED:20250803T064624Z
LAST-MODIFIED:20260312T101533Z
UID:10001671-1850047200-1850052600@laruesuspendue.fr
SUMMARY:Ateliers de rue Couffouleux "Les moussoulars"
DESCRIPTION:au city
URL:https://laruesuspendue.fr/calendrier-event/couffouleux-les-moussoulars/2028-08-16/
CATEGORIES:Ateliers de rue
END:VEVENT
BEGIN:VEVENT
DTSTART;TZID=Europe/Paris:20280816T163000
DTEND;TZID=Europe/Paris:20280816T180000
DTSTAMP:20260425T174401
CREATED:20250803T064450Z
LAST-MODIFIED:20260312T101828Z
UID:10001405-1850056200-1850061600@laruesuspendue.fr
SUMMARY:Ateliers de rue Rabastens "La Briqueterie"
DESCRIPTION:
URL:https://laruesuspendue.fr/calendrier-event/rabastens-la-briqueterie/2028-08-16/
CATEGORIES:Ateliers de rue
END:VEVENT
BEGIN:VEVENT
DTSTART;TZID=Europe/Paris:20280817T100000
DTEND;TZID=Europe/Paris:20280817T120000
DTSTAMP:20260425T174401
CREATED:20260312T094322Z
LAST-MODIFIED:20260312T094322Z
UID:10002894-1850119200-1850126400@laruesuspendue.fr
SUMMARY:Le jeudi des petits
DESCRIPTION:Matinée libre ouverte aux parents avec enfants !
URL:https://laruesuspendue.fr/calendrier-event/le-jeudi-des-petits/2028-08-17/
END:VEVENT
BEGIN:VEVENT
DTSTART;TZID=Europe/Paris:20280817T163000
DTEND;TZID=Europe/Paris:20280817T180000
DTSTAMP:20260425T174401
CREATED:20260312T102108Z
LAST-MODIFIED:20260312T102108Z
UID:10003938-1850142600-1850148000@laruesuspendue.fr
SUMMARY:Atelier de rue Giroussens "Parc de l'école"
DESCRIPTION:
URL:https://laruesuspendue.fr/calendrier-event/atelier-de-rue-giroussens-parc-de-lecole/2028-08-17/
CATEGORIES:Ateliers de rue
END:VEVENT
BEGIN:VEVENT
DTSTART;TZID=Europe/Paris:20280818T100000
DTEND;TZID=Europe/Paris:20280818T120000
DTSTAMP:20260425T174401
CREATED:20260312T095624Z
LAST-MODIFIED:20260312T095624Z
UID:10003672-1850205600-1850212800@laruesuspendue.fr
SUMMARY:Scrabble et échecs
DESCRIPTION:avec Cheikh
URL:https://laruesuspendue.fr/calendrier-event/scrabble-et-echecs/2028-08-18/
END:VEVENT
BEGIN:VEVENT
DTSTART;TZID=Europe/Paris:20280818T163000
DTEND;TZID=Europe/Paris:20280818T180000
DTSTAMP:20260425T174401
CREATED:20250803T064730Z
LAST-MODIFIED:20250803T064912Z
UID:10001933-1850229000-1850234400@laruesuspendue.fr
SUMMARY:Ateliers de rue Rabastens "Parc du collège"
DESCRIPTION:
URL:https://laruesuspendue.fr/calendrier-event/rabastens-parc-du-college/2028-08-18/
CATEGORIES:Ateliers de rue
END:VEVENT
BEGIN:VEVENT
DTSTART;TZID=Europe/Paris:20280822T140000
DTEND;TZID=Europe/Paris:20280822T153000
DTSTAMP:20260425T174401
CREATED:20260312T094935Z
LAST-MODIFIED:20260312T094935Z
UID:10003157-1850565600-1850571000@laruesuspendue.fr
SUMMARY:Cours de FLE
DESCRIPTION:
URL:https://laruesuspendue.fr/calendrier-event/cours-de-fle/2028-08-22/
END:VEVENT
BEGIN:VEVENT
DTSTART;TZID=Europe/Paris:20280822T163000
DTEND;TZID=Europe/Paris:20280822T180000
DTSTAMP:20260425T174401
CREATED:20260205T095619Z
LAST-MODIFIED:20260312T101235Z
UID:10002617-1850574600-1850580000@laruesuspendue.fr
SUMMARY:Ateliers de rue Rabastens "Parc Constance"
DESCRIPTION:
URL:https://laruesuspendue.fr/calendrier-event/ateliers-de-rue-rabastens-parc-constance/2028-08-22/
LOCATION:Parc Constance\, Rabastens\, 81800
CATEGORIES:Ateliers de rue
END:VEVENT
BEGIN:VEVENT
DTSTART;TZID=Europe/Paris:20280822T163000
DTEND;TZID=Europe/Paris:20280822T180000
DTSTAMP:20260425T174401
CREATED:20260312T102410Z
LAST-MODIFIED:20260312T102415Z
UID:10004198-1850574600-1850580000@laruesuspendue.fr
SUMMARY:Ateliers de rue Couffouleux "Aire de jeux"
DESCRIPTION:
URL:https://laruesuspendue.fr/calendrier-event/couffouleux-aire-de-jeux-2/2028-08-22/
CATEGORIES:Ateliers de rue
END:VEVENT
BEGIN:VEVENT
DTSTART;TZID=Europe/Paris:20280822T181500
DTEND;TZID=Europe/Paris:20280822T200000
DTSTAMP:20260425T174401
CREATED:20250731T140605Z
LAST-MODIFIED:20250731T140605Z
UID:10000486-1850580900-1850587200@laruesuspendue.fr
SUMMARY:Cours de Yoga
DESCRIPTION:Sur inscription au 06 07 89 66 88 \navec Viviane
URL:https://laruesuspendue.fr/calendrier-event/cours-de-yoga/2028-08-22/
CATEGORIES:Cours de Yoga
END:VEVENT
BEGIN:VEVENT
DTSTART;TZID=Europe/Paris:20280823T100000
DTEND;TZID=Europe/Paris:20280823T120000
DTSTAMP:20260425T174401
CREATED:20260312T095033Z
LAST-MODIFIED:20260312T095033Z
UID:10003418-1850637600-1850644800@laruesuspendue.fr
SUMMARY:Permanence accès aux droits
DESCRIPTION:
URL:https://laruesuspendue.fr/calendrier-event/permanence-acces-aux-droits/2028-08-23/
END:VEVENT
BEGIN:VEVENT
DTSTART;TZID=Europe/Paris:20280823T140000
DTEND;TZID=Europe/Paris:20280823T153000
DTSTAMP:20260425T174401
CREATED:20250803T064624Z
LAST-MODIFIED:20260312T101533Z
UID:10001672-1850652000-1850657400@laruesuspendue.fr
SUMMARY:Ateliers de rue Couffouleux "Les moussoulars"
DESCRIPTION:au city
URL:https://laruesuspendue.fr/calendrier-event/couffouleux-les-moussoulars/2028-08-23/
CATEGORIES:Ateliers de rue
END:VEVENT
BEGIN:VEVENT
DTSTART;TZID=Europe/Paris:20280823T163000
DTEND;TZID=Europe/Paris:20280823T180000
DTSTAMP:20260425T174401
CREATED:20250803T064450Z
LAST-MODIFIED:20260312T101828Z
UID:10001406-1850661000-1850666400@laruesuspendue.fr
SUMMARY:Ateliers de rue Rabastens "La Briqueterie"
DESCRIPTION:
URL:https://laruesuspendue.fr/calendrier-event/rabastens-la-briqueterie/2028-08-23/
CATEGORIES:Ateliers de rue
END:VEVENT
BEGIN:VEVENT
DTSTART;TZID=Europe/Paris:20280824T100000
DTEND;TZID=Europe/Paris:20280824T120000
DTSTAMP:20260425T174401
CREATED:20260312T094322Z
LAST-MODIFIED:20260312T094322Z
UID:10002895-1850724000-1850731200@laruesuspendue.fr
SUMMARY:Le jeudi des petits
DESCRIPTION:Matinée libre ouverte aux parents avec enfants !
URL:https://laruesuspendue.fr/calendrier-event/le-jeudi-des-petits/2028-08-24/
END:VEVENT
BEGIN:VEVENT
DTSTART;TZID=Europe/Paris:20280824T163000
DTEND;TZID=Europe/Paris:20280824T180000
DTSTAMP:20260425T174401
CREATED:20260312T102108Z
LAST-MODIFIED:20260312T102108Z
UID:10003939-1850747400-1850752800@laruesuspendue.fr
SUMMARY:Atelier de rue Giroussens "Parc de l'école"
DESCRIPTION:
URL:https://laruesuspendue.fr/calendrier-event/atelier-de-rue-giroussens-parc-de-lecole/2028-08-24/
CATEGORIES:Ateliers de rue
END:VEVENT
BEGIN:VEVENT
DTSTART;TZID=Europe/Paris:20280825T163000
DTEND;TZID=Europe/Paris:20280825T180000
DTSTAMP:20260425T174401
CREATED:20250803T064730Z
LAST-MODIFIED:20250803T064912Z
UID:10001934-1850833800-1850839200@laruesuspendue.fr
SUMMARY:Ateliers de rue Rabastens "Parc du collège"
DESCRIPTION:
URL:https://laruesuspendue.fr/calendrier-event/rabastens-parc-du-college/2028-08-25/
CATEGORIES:Ateliers de rue
END:VEVENT
BEGIN:VEVENT
DTSTART;TZID=Europe/Paris:20280829T140000
DTEND;TZID=Europe/Paris:20280829T153000
DTSTAMP:20260425T174401
CREATED:20260312T094935Z
LAST-MODIFIED:20260312T094935Z
UID:10003158-1851170400-1851175800@laruesuspendue.fr
SUMMARY:Cours de FLE
DESCRIPTION:
URL:https://laruesuspendue.fr/calendrier-event/cours-de-fle/2028-08-29/
END:VEVENT
BEGIN:VEVENT
DTSTART;TZID=Europe/Paris:20280829T163000
DTEND;TZID=Europe/Paris:20280829T180000
DTSTAMP:20260425T174401
CREATED:20260205T095619Z
LAST-MODIFIED:20260312T101235Z
UID:10002618-1851179400-1851184800@laruesuspendue.fr
SUMMARY:Ateliers de rue Rabastens "Parc Constance"
DESCRIPTION:
URL:https://laruesuspendue.fr/calendrier-event/ateliers-de-rue-rabastens-parc-constance/2028-08-29/
LOCATION:Parc Constance\, Rabastens\, 81800
CATEGORIES:Ateliers de rue
END:VEVENT
BEGIN:VEVENT
DTSTART;TZID=Europe/Paris:20280829T163000
DTEND;TZID=Europe/Paris:20280829T180000
DTSTAMP:20260425T174401
CREATED:20260312T102410Z
LAST-MODIFIED:20260312T102415Z
UID:10004199-1851179400-1851184800@laruesuspendue.fr
SUMMARY:Ateliers de rue Couffouleux "Aire de jeux"
DESCRIPTION:
URL:https://laruesuspendue.fr/calendrier-event/couffouleux-aire-de-jeux-2/2028-08-29/
CATEGORIES:Ateliers de rue
END:VEVENT
BEGIN:VEVENT
DTSTART;TZID=Europe/Paris:20280829T181500
DTEND;TZID=Europe/Paris:20280829T200000
DTSTAMP:20260425T174401
CREATED:20250731T140605Z
LAST-MODIFIED:20250731T140605Z
UID:10000487-1851185700-1851192000@laruesuspendue.fr
SUMMARY:Cours de Yoga
DESCRIPTION:Sur inscription au 06 07 89 66 88 \navec Viviane
URL:https://laruesuspendue.fr/calendrier-event/cours-de-yoga/2028-08-29/
CATEGORIES:Cours de Yoga
END:VEVENT
BEGIN:VEVENT
DTSTART;TZID=Europe/Paris:20280830T100000
DTEND;TZID=Europe/Paris:20280830T120000
DTSTAMP:20260425T174401
CREATED:20260312T095033Z
LAST-MODIFIED:20260312T095033Z
UID:10003419-1851242400-1851249600@laruesuspendue.fr
SUMMARY:Permanence accès aux droits
DESCRIPTION:
URL:https://laruesuspendue.fr/calendrier-event/permanence-acces-aux-droits/2028-08-30/
END:VEVENT
BEGIN:VEVENT
DTSTART;TZID=Europe/Paris:20280830T140000
DTEND;TZID=Europe/Paris:20280830T153000
DTSTAMP:20260425T174401
CREATED:20250803T064624Z
LAST-MODIFIED:20260312T101533Z
UID:10001673-1851256800-1851262200@laruesuspendue.fr
SUMMARY:Ateliers de rue Couffouleux "Les moussoulars"
DESCRIPTION:au city
URL:https://laruesuspendue.fr/calendrier-event/couffouleux-les-moussoulars/2028-08-30/
CATEGORIES:Ateliers de rue
END:VEVENT
BEGIN:VEVENT
DTSTART;TZID=Europe/Paris:20280830T163000
DTEND;TZID=Europe/Paris:20280830T180000
DTSTAMP:20260425T174401
CREATED:20250803T064450Z
LAST-MODIFIED:20260312T101828Z
UID:10001407-1851265800-1851271200@laruesuspendue.fr
SUMMARY:Ateliers de rue Rabastens "La Briqueterie"
DESCRIPTION:
URL:https://laruesuspendue.fr/calendrier-event/rabastens-la-briqueterie/2028-08-30/
CATEGORIES:Ateliers de rue
END:VEVENT
BEGIN:VEVENT
DTSTART;TZID=Europe/Paris:20280831T100000
DTEND;TZID=Europe/Paris:20280831T120000
DTSTAMP:20260425T174401
CREATED:20260312T094322Z
LAST-MODIFIED:20260312T094322Z
UID:10002896-1851328800-1851336000@laruesuspendue.fr
SUMMARY:Le jeudi des petits
DESCRIPTION:Matinée libre ouverte aux parents avec enfants !
URL:https://laruesuspendue.fr/calendrier-event/le-jeudi-des-petits/2028-08-31/
END:VEVENT
END:VCALENDAR