BEGIN:VCALENDAR
VERSION:2.0
PRODID:-//La Rue Suspendue - ECPv6.15.20//NONSGML v1.0//EN
CALSCALE:GREGORIAN
METHOD:PUBLISH
X-ORIGINAL-URL:https://laruesuspendue.fr
X-WR-CALDESC:Évènements pour La Rue Suspendue
REFRESH-INTERVAL;VALUE=DURATION:PT1H
X-Robots-Tag:noindex
X-PUBLISHED-TTL:PT1H
BEGIN:VTIMEZONE
TZID:Europe/Paris
BEGIN:DAYLIGHT
TZOFFSETFROM:+0100
TZOFFSETTO:+0200
TZNAME:CEST
DTSTART:20270328T010000
END:DAYLIGHT
BEGIN:STANDARD
TZOFFSETFROM:+0200
TZOFFSETTO:+0100
TZNAME:CET
DTSTART:20271031T010000
END:STANDARD
BEGIN:DAYLIGHT
TZOFFSETFROM:+0100
TZOFFSETTO:+0200
TZNAME:CEST
DTSTART:20280326T010000
END:DAYLIGHT
BEGIN:STANDARD
TZOFFSETFROM:+0200
TZOFFSETTO:+0100
TZNAME:CET
DTSTART:20281029T010000
END:STANDARD
BEGIN:DAYLIGHT
TZOFFSETFROM:+0100
TZOFFSETTO:+0200
TZNAME:CEST
DTSTART:20290325T010000
END:DAYLIGHT
BEGIN:STANDARD
TZOFFSETFROM:+0200
TZOFFSETTO:+0100
TZNAME:CET
DTSTART:20291028T010000
END:STANDARD
END:VTIMEZONE
BEGIN:VEVENT
DTSTART;TZID=Europe/Paris:20280719T140000
DTEND;TZID=Europe/Paris:20280719T153000
DTSTAMP:20260425T134550
CREATED:20250803T064624Z
LAST-MODIFIED:20260312T101533Z
UID:10001667-1847628000-1847633400@laruesuspendue.fr
SUMMARY:Ateliers de rue Couffouleux "Les moussoulars"
DESCRIPTION:au city
URL:https://laruesuspendue.fr/calendrier-event/couffouleux-les-moussoulars/2028-07-19/
CATEGORIES:Ateliers de rue
END:VEVENT
BEGIN:VEVENT
DTSTART;TZID=Europe/Paris:20280719T163000
DTEND;TZID=Europe/Paris:20280719T180000
DTSTAMP:20260425T134550
CREATED:20250803T064450Z
LAST-MODIFIED:20260312T101828Z
UID:10001401-1847637000-1847642400@laruesuspendue.fr
SUMMARY:Ateliers de rue Rabastens "La Briqueterie"
DESCRIPTION:
URL:https://laruesuspendue.fr/calendrier-event/rabastens-la-briqueterie/2028-07-19/
CATEGORIES:Ateliers de rue
END:VEVENT
BEGIN:VEVENT
DTSTART;TZID=Europe/Paris:20280720T100000
DTEND;TZID=Europe/Paris:20280720T120000
DTSTAMP:20260425T134550
CREATED:20260312T094322Z
LAST-MODIFIED:20260312T094322Z
UID:10002890-1847700000-1847707200@laruesuspendue.fr
SUMMARY:Le jeudi des petits
DESCRIPTION:Matinée libre ouverte aux parents avec enfants !
URL:https://laruesuspendue.fr/calendrier-event/le-jeudi-des-petits/2028-07-20/
END:VEVENT
BEGIN:VEVENT
DTSTART;TZID=Europe/Paris:20280720T163000
DTEND;TZID=Europe/Paris:20280720T180000
DTSTAMP:20260425T134550
CREATED:20260312T102108Z
LAST-MODIFIED:20260312T102108Z
UID:10003934-1847723400-1847728800@laruesuspendue.fr
SUMMARY:Atelier de rue Giroussens "Parc de l'école"
DESCRIPTION:
URL:https://laruesuspendue.fr/calendrier-event/atelier-de-rue-giroussens-parc-de-lecole/2028-07-20/
CATEGORIES:Ateliers de rue
END:VEVENT
BEGIN:VEVENT
DTSTART;TZID=Europe/Paris:20280721T100000
DTEND;TZID=Europe/Paris:20280721T120000
DTSTAMP:20260425T134550
CREATED:20260312T095624Z
LAST-MODIFIED:20260312T095624Z
UID:10003670-1847786400-1847793600@laruesuspendue.fr
SUMMARY:Scrabble et échecs
DESCRIPTION:avec Cheikh
URL:https://laruesuspendue.fr/calendrier-event/scrabble-et-echecs/2028-07-21/
END:VEVENT
BEGIN:VEVENT
DTSTART;TZID=Europe/Paris:20280721T163000
DTEND;TZID=Europe/Paris:20280721T180000
DTSTAMP:20260425T134550
CREATED:20250803T064730Z
LAST-MODIFIED:20250803T064912Z
UID:10001929-1847809800-1847815200@laruesuspendue.fr
SUMMARY:Ateliers de rue Rabastens "Parc du collège"
DESCRIPTION:
URL:https://laruesuspendue.fr/calendrier-event/rabastens-parc-du-college/2028-07-21/
CATEGORIES:Ateliers de rue
END:VEVENT
BEGIN:VEVENT
DTSTART;TZID=Europe/Paris:20280725T140000
DTEND;TZID=Europe/Paris:20280725T153000
DTSTAMP:20260425T134550
CREATED:20260312T094935Z
LAST-MODIFIED:20260312T094935Z
UID:10003153-1848146400-1848151800@laruesuspendue.fr
SUMMARY:Cours de FLE
DESCRIPTION:
URL:https://laruesuspendue.fr/calendrier-event/cours-de-fle/2028-07-25/
END:VEVENT
BEGIN:VEVENT
DTSTART;TZID=Europe/Paris:20280725T163000
DTEND;TZID=Europe/Paris:20280725T180000
DTSTAMP:20260425T134550
CREATED:20260205T095619Z
LAST-MODIFIED:20260312T101235Z
UID:10002613-1848155400-1848160800@laruesuspendue.fr
SUMMARY:Ateliers de rue Rabastens "Parc Constance"
DESCRIPTION:
URL:https://laruesuspendue.fr/calendrier-event/ateliers-de-rue-rabastens-parc-constance/2028-07-25/
LOCATION:Parc Constance\, Rabastens\, 81800
CATEGORIES:Ateliers de rue
END:VEVENT
BEGIN:VEVENT
DTSTART;TZID=Europe/Paris:20280725T163000
DTEND;TZID=Europe/Paris:20280725T180000
DTSTAMP:20260425T134550
CREATED:20260312T102410Z
LAST-MODIFIED:20260312T102415Z
UID:10004194-1848155400-1848160800@laruesuspendue.fr
SUMMARY:Ateliers de rue Couffouleux "Aire de jeux"
DESCRIPTION:
URL:https://laruesuspendue.fr/calendrier-event/couffouleux-aire-de-jeux-2/2028-07-25/
CATEGORIES:Ateliers de rue
END:VEVENT
BEGIN:VEVENT
DTSTART;TZID=Europe/Paris:20280725T181500
DTEND;TZID=Europe/Paris:20280725T200000
DTSTAMP:20260425T134550
CREATED:20250731T140605Z
LAST-MODIFIED:20250731T140605Z
UID:10000482-1848161700-1848168000@laruesuspendue.fr
SUMMARY:Cours de Yoga
DESCRIPTION:Sur inscription au 06 07 89 66 88 \navec Viviane
URL:https://laruesuspendue.fr/calendrier-event/cours-de-yoga/2028-07-25/
CATEGORIES:Cours de Yoga
END:VEVENT
BEGIN:VEVENT
DTSTART;TZID=Europe/Paris:20280726T100000
DTEND;TZID=Europe/Paris:20280726T120000
DTSTAMP:20260425T134550
CREATED:20260312T095033Z
LAST-MODIFIED:20260312T095033Z
UID:10003414-1848218400-1848225600@laruesuspendue.fr
SUMMARY:Permanence accès aux droits
DESCRIPTION:
URL:https://laruesuspendue.fr/calendrier-event/permanence-acces-aux-droits/2028-07-26/
END:VEVENT
BEGIN:VEVENT
DTSTART;TZID=Europe/Paris:20280726T140000
DTEND;TZID=Europe/Paris:20280726T153000
DTSTAMP:20260425T134550
CREATED:20250803T064624Z
LAST-MODIFIED:20260312T101533Z
UID:10001668-1848232800-1848238200@laruesuspendue.fr
SUMMARY:Ateliers de rue Couffouleux "Les moussoulars"
DESCRIPTION:au city
URL:https://laruesuspendue.fr/calendrier-event/couffouleux-les-moussoulars/2028-07-26/
CATEGORIES:Ateliers de rue
END:VEVENT
BEGIN:VEVENT
DTSTART;TZID=Europe/Paris:20280726T163000
DTEND;TZID=Europe/Paris:20280726T180000
DTSTAMP:20260425T134550
CREATED:20250803T064450Z
LAST-MODIFIED:20260312T101828Z
UID:10001402-1848241800-1848247200@laruesuspendue.fr
SUMMARY:Ateliers de rue Rabastens "La Briqueterie"
DESCRIPTION:
URL:https://laruesuspendue.fr/calendrier-event/rabastens-la-briqueterie/2028-07-26/
CATEGORIES:Ateliers de rue
END:VEVENT
BEGIN:VEVENT
DTSTART;TZID=Europe/Paris:20280727T100000
DTEND;TZID=Europe/Paris:20280727T120000
DTSTAMP:20260425T134550
CREATED:20260312T094322Z
LAST-MODIFIED:20260312T094322Z
UID:10002891-1848304800-1848312000@laruesuspendue.fr
SUMMARY:Le jeudi des petits
DESCRIPTION:Matinée libre ouverte aux parents avec enfants !
URL:https://laruesuspendue.fr/calendrier-event/le-jeudi-des-petits/2028-07-27/
END:VEVENT
BEGIN:VEVENT
DTSTART;TZID=Europe/Paris:20280727T163000
DTEND;TZID=Europe/Paris:20280727T180000
DTSTAMP:20260425T134550
CREATED:20260312T102108Z
LAST-MODIFIED:20260312T102108Z
UID:10003935-1848328200-1848333600@laruesuspendue.fr
SUMMARY:Atelier de rue Giroussens "Parc de l'école"
DESCRIPTION:
URL:https://laruesuspendue.fr/calendrier-event/atelier-de-rue-giroussens-parc-de-lecole/2028-07-27/
CATEGORIES:Ateliers de rue
END:VEVENT
BEGIN:VEVENT
DTSTART;TZID=Europe/Paris:20280728T163000
DTEND;TZID=Europe/Paris:20280728T180000
DTSTAMP:20260425T134550
CREATED:20250803T064730Z
LAST-MODIFIED:20250803T064912Z
UID:10001930-1848414600-1848420000@laruesuspendue.fr
SUMMARY:Ateliers de rue Rabastens "Parc du collège"
DESCRIPTION:
URL:https://laruesuspendue.fr/calendrier-event/rabastens-parc-du-college/2028-07-28/
CATEGORIES:Ateliers de rue
END:VEVENT
BEGIN:VEVENT
DTSTART;TZID=Europe/Paris:20280801T140000
DTEND;TZID=Europe/Paris:20280801T153000
DTSTAMP:20260425T134550
CREATED:20260312T094935Z
LAST-MODIFIED:20260312T094935Z
UID:10003154-1848751200-1848756600@laruesuspendue.fr
SUMMARY:Cours de FLE
DESCRIPTION:
URL:https://laruesuspendue.fr/calendrier-event/cours-de-fle/2028-08-01/
END:VEVENT
BEGIN:VEVENT
DTSTART;TZID=Europe/Paris:20280801T163000
DTEND;TZID=Europe/Paris:20280801T180000
DTSTAMP:20260425T134550
CREATED:20260205T095619Z
LAST-MODIFIED:20260312T101235Z
UID:10002614-1848760200-1848765600@laruesuspendue.fr
SUMMARY:Ateliers de rue Rabastens "Parc Constance"
DESCRIPTION:
URL:https://laruesuspendue.fr/calendrier-event/ateliers-de-rue-rabastens-parc-constance/2028-08-01/
LOCATION:Parc Constance\, Rabastens\, 81800
CATEGORIES:Ateliers de rue
END:VEVENT
BEGIN:VEVENT
DTSTART;TZID=Europe/Paris:20280801T163000
DTEND;TZID=Europe/Paris:20280801T180000
DTSTAMP:20260425T134550
CREATED:20260312T102410Z
LAST-MODIFIED:20260312T102415Z
UID:10004195-1848760200-1848765600@laruesuspendue.fr
SUMMARY:Ateliers de rue Couffouleux "Aire de jeux"
DESCRIPTION:
URL:https://laruesuspendue.fr/calendrier-event/couffouleux-aire-de-jeux-2/2028-08-01/
CATEGORIES:Ateliers de rue
END:VEVENT
BEGIN:VEVENT
DTSTART;TZID=Europe/Paris:20280801T181500
DTEND;TZID=Europe/Paris:20280801T200000
DTSTAMP:20260425T134550
CREATED:20250731T140605Z
LAST-MODIFIED:20250731T140605Z
UID:10000483-1848766500-1848772800@laruesuspendue.fr
SUMMARY:Cours de Yoga
DESCRIPTION:Sur inscription au 06 07 89 66 88 \navec Viviane
URL:https://laruesuspendue.fr/calendrier-event/cours-de-yoga/2028-08-01/
CATEGORIES:Cours de Yoga
END:VEVENT
BEGIN:VEVENT
DTSTART;TZID=Europe/Paris:20280802T090000
DTEND;TZID=Europe/Paris:20280802T123000
DTSTAMP:20260425T134550
CREATED:20250801T154507Z
LAST-MODIFIED:20250801T154906Z
UID:10000690-1848819600-1848832200@laruesuspendue.fr
SUMMARY:Permanence mission locale
DESCRIPTION:Tous les 1er mercredi du mois
URL:https://laruesuspendue.fr/calendrier-event/permanence-mission-locale-2/2028-08-02/
CATEGORIES:Permanence mission locale
END:VEVENT
BEGIN:VEVENT
DTSTART;TZID=Europe/Paris:20280802T100000
DTEND;TZID=Europe/Paris:20280802T120000
DTSTAMP:20260425T134550
CREATED:20260312T095033Z
LAST-MODIFIED:20260312T095033Z
UID:10003415-1848823200-1848830400@laruesuspendue.fr
SUMMARY:Permanence accès aux droits
DESCRIPTION:
URL:https://laruesuspendue.fr/calendrier-event/permanence-acces-aux-droits/2028-08-02/
END:VEVENT
BEGIN:VEVENT
DTSTART;TZID=Europe/Paris:20280802T140000
DTEND;TZID=Europe/Paris:20280802T153000
DTSTAMP:20260425T134550
CREATED:20250803T064624Z
LAST-MODIFIED:20260312T101533Z
UID:10001669-1848837600-1848843000@laruesuspendue.fr
SUMMARY:Ateliers de rue Couffouleux "Les moussoulars"
DESCRIPTION:au city
URL:https://laruesuspendue.fr/calendrier-event/couffouleux-les-moussoulars/2028-08-02/
CATEGORIES:Ateliers de rue
END:VEVENT
BEGIN:VEVENT
DTSTART;TZID=Europe/Paris:20280802T163000
DTEND;TZID=Europe/Paris:20280802T180000
DTSTAMP:20260425T134550
CREATED:20250803T064450Z
LAST-MODIFIED:20260312T101828Z
UID:10001403-1848846600-1848852000@laruesuspendue.fr
SUMMARY:Ateliers de rue Rabastens "La Briqueterie"
DESCRIPTION:
URL:https://laruesuspendue.fr/calendrier-event/rabastens-la-briqueterie/2028-08-02/
CATEGORIES:Ateliers de rue
END:VEVENT
BEGIN:VEVENT
DTSTART;TZID=Europe/Paris:20280803T100000
DTEND;TZID=Europe/Paris:20280803T120000
DTSTAMP:20260425T134550
CREATED:20260312T094322Z
LAST-MODIFIED:20260312T094322Z
UID:10002892-1848909600-1848916800@laruesuspendue.fr
SUMMARY:Le jeudi des petits
DESCRIPTION:Matinée libre ouverte aux parents avec enfants !
URL:https://laruesuspendue.fr/calendrier-event/le-jeudi-des-petits/2028-08-03/
END:VEVENT
BEGIN:VEVENT
DTSTART;TZID=Europe/Paris:20280803T163000
DTEND;TZID=Europe/Paris:20280803T180000
DTSTAMP:20260425T134550
CREATED:20260312T102108Z
LAST-MODIFIED:20260312T102108Z
UID:10003936-1848933000-1848938400@laruesuspendue.fr
SUMMARY:Atelier de rue Giroussens "Parc de l'école"
DESCRIPTION:
URL:https://laruesuspendue.fr/calendrier-event/atelier-de-rue-giroussens-parc-de-lecole/2028-08-03/
CATEGORIES:Ateliers de rue
END:VEVENT
BEGIN:VEVENT
DTSTART;TZID=Europe/Paris:20280804T100000
DTEND;TZID=Europe/Paris:20280804T120000
DTSTAMP:20260425T134550
CREATED:20260312T095624Z
LAST-MODIFIED:20260312T095624Z
UID:10003671-1848996000-1849003200@laruesuspendue.fr
SUMMARY:Scrabble et échecs
DESCRIPTION:avec Cheikh
URL:https://laruesuspendue.fr/calendrier-event/scrabble-et-echecs/2028-08-04/
END:VEVENT
BEGIN:VEVENT
DTSTART;TZID=Europe/Paris:20280804T163000
DTEND;TZID=Europe/Paris:20280804T180000
DTSTAMP:20260425T134550
CREATED:20250803T064730Z
LAST-MODIFIED:20250803T064912Z
UID:10001931-1849019400-1849024800@laruesuspendue.fr
SUMMARY:Ateliers de rue Rabastens "Parc du collège"
DESCRIPTION:
URL:https://laruesuspendue.fr/calendrier-event/rabastens-parc-du-college/2028-08-04/
CATEGORIES:Ateliers de rue
END:VEVENT
BEGIN:VEVENT
DTSTART;TZID=Europe/Paris:20280808T140000
DTEND;TZID=Europe/Paris:20280808T153000
DTSTAMP:20260425T134550
CREATED:20260312T094935Z
LAST-MODIFIED:20260312T094935Z
UID:10003155-1849356000-1849361400@laruesuspendue.fr
SUMMARY:Cours de FLE
DESCRIPTION:
URL:https://laruesuspendue.fr/calendrier-event/cours-de-fle/2028-08-08/
END:VEVENT
BEGIN:VEVENT
DTSTART;TZID=Europe/Paris:20280808T163000
DTEND;TZID=Europe/Paris:20280808T180000
DTSTAMP:20260425T134550
CREATED:20260205T095619Z
LAST-MODIFIED:20260312T101235Z
UID:10002615-1849365000-1849370400@laruesuspendue.fr
SUMMARY:Ateliers de rue Rabastens "Parc Constance"
DESCRIPTION:
URL:https://laruesuspendue.fr/calendrier-event/ateliers-de-rue-rabastens-parc-constance/2028-08-08/
LOCATION:Parc Constance\, Rabastens\, 81800
CATEGORIES:Ateliers de rue
END:VEVENT
END:VCALENDAR